BEGIN:VCALENDAR
VERSION:2.0
PRODID:-//Episcopal Diocese of San Diego - ECPv6.15.18//NONSGML v1.0//EN
CALSCALE:GREGORIAN
METHOD:PUBLISH
X-ORIGINAL-URL:https://edsd.org
X-WR-CALDESC:Events for Episcopal Diocese of San Diego
REFRESH-INTERVAL;VALUE=DURATION:PT1H
X-Robots-Tag:noindex
X-PUBLISHED-TTL:PT1H
BEGIN:VTIMEZONE
TZID:America/Los_Angeles
BEGIN:DAYLIGHT
TZOFFSETFROM:-0800
TZOFFSETTO:-0700
TZNAME:PDT
DTSTART:20180311T100000
END:DAYLIGHT
BEGIN:STANDARD
TZOFFSETFROM:-0700
TZOFFSETTO:-0800
TZNAME:PST
DTSTART:20181104T090000
END:STANDARD
BEGIN:DAYLIGHT
TZOFFSETFROM:-0800
TZOFFSETTO:-0700
TZNAME:PDT
DTSTART:20190310T100000
END:DAYLIGHT
BEGIN:STANDARD
TZOFFSETFROM:-0700
TZOFFSETTO:-0800
TZNAME:PST
DTSTART:20191103T090000
END:STANDARD
BEGIN:DAYLIGHT
TZOFFSETFROM:-0800
TZOFFSETTO:-0700
TZNAME:PDT
DTSTART:20200308T100000
END:DAYLIGHT
BEGIN:STANDARD
TZOFFSETFROM:-0700
TZOFFSETTO:-0800
TZNAME:PST
DTSTART:20201101T090000
END:STANDARD
BEGIN:DAYLIGHT
TZOFFSETFROM:-0800
TZOFFSETTO:-0700
TZNAME:PDT
DTSTART:20210314T100000
END:DAYLIGHT
BEGIN:STANDARD
TZOFFSETFROM:-0700
TZOFFSETTO:-0800
TZNAME:PST
DTSTART:20211107T090000
END:STANDARD
BEGIN:DAYLIGHT
TZOFFSETFROM:-0800
TZOFFSETTO:-0700
TZNAME:PDT
DTSTART:20220313T100000
END:DAYLIGHT
BEGIN:STANDARD
TZOFFSETFROM:-0700
TZOFFSETTO:-0800
TZNAME:PST
DTSTART:20221106T090000
END:STANDARD
BEGIN:DAYLIGHT
TZOFFSETFROM:-0800
TZOFFSETTO:-0700
TZNAME:PDT
DTSTART:20230312T100000
END:DAYLIGHT
BEGIN:STANDARD
TZOFFSETFROM:-0700
TZOFFSETTO:-0800
TZNAME:PST
DTSTART:20231105T090000
END:STANDARD
BEGIN:DAYLIGHT
TZOFFSETFROM:-0800
TZOFFSETTO:-0700
TZNAME:PDT
DTSTART:20240310T100000
END:DAYLIGHT
BEGIN:STANDARD
TZOFFSETFROM:-0700
TZOFFSETTO:-0800
TZNAME:PST
DTSTART:20241103T090000
END:STANDARD
BEGIN:DAYLIGHT
TZOFFSETFROM:-0800
TZOFFSETTO:-0700
TZNAME:PDT
DTSTART:20250309T100000
END:DAYLIGHT
BEGIN:STANDARD
TZOFFSETFROM:-0700
TZOFFSETTO:-0800
TZNAME:PST
DTSTART:20251102T090000
END:STANDARD
BEGIN:DAYLIGHT
TZOFFSETFROM:-0800
TZOFFSETTO:-0700
TZNAME:PDT
DTSTART:20260308T100000
END:DAYLIGHT
BEGIN:STANDARD
TZOFFSETFROM:-0700
TZOFFSETTO:-0800
TZNAME:PST
DTSTART:20261101T090000
END:STANDARD
END:VTIMEZONE
BEGIN:VEVENT
DTSTART;TZID=America/Los_Angeles:20250924T140000
DTEND;TZID=America/Los_Angeles:20250928T110000
DTSTAMP:20260422T022751
CREATED:20250811T221551Z
LAST-MODIFIED:20250811T221920Z
UID:10010968-1758722400-1759057200@edsd.org
SUMMARY:Clergy Conference 2025
DESCRIPTION:We look forward to gathering September 24-26 for a time of rest\, renewal\, and reconnection in the company of fellow clergy from across the Episcopal Diocese of San Diego. \nThis year’s conference will feature the Rt. Rev. Robert Wright\, Bishop of Atlanta\, as well as opportunities for worship\, fellowship\, and reflection. Bishop Wright will help us understand how to preach and lead congregations in times of division and conflict in the wider world. \nWe encourage you to register soon—single rooms are available on a first-come\, first-served basis. \n Register Today!
URL:https://edsd.org/event/clergy-conference-2025/
LOCATION:Vina de Lestonnac Retreat Center\, 39300 De Portola Rd\, Temecula\, CA\, 92592\, United States
ATTACH;FMTTYPE=image/png:https://edsd.org/wp-content/uploads/2018/08/Clergy-Conference-2018-home-banner.png
ORGANIZER;CN="Gwynn Lynch":MAILTO:glynch@edsd.org
GEO:33.5333898;-117.0167064
X-APPLE-STRUCTURED-LOCATION;VALUE=URI;X-ADDRESS=Vina de Lestonnac Retreat Center 39300 De Portola Rd Temecula CA 92592 United States;X-APPLE-RADIUS=500;X-TITLE=39300 De Portola Rd:geo:-117.0167064,33.5333898
END:VEVENT
BEGIN:VEVENT
DTSTART;TZID=America/Los_Angeles:20220926T150000
DTEND;TZID=America/Los_Angeles:20220928T120000
DTSTAMP:20260422T022751
CREATED:20220607T165307Z
LAST-MODIFIED:20220826T193507Z
UID:10006927-1664204400-1664366400@edsd.org
SUMMARY:Clergy Conference 2022 - Hear us\, O Lord of Life
DESCRIPTION:Together as the community of spiritual leaders of the Episcopal Diocese of San Diego\,\nwe will take this time apart to journey in a rhythm of silence\, prayer\, and speech.\nWe will have time and space to deeply listen to Spirit’s prayer in us and one another.\nOne on One Spiritual Direction sessions will be available on Tuesday afternoon. \nREGISTER \n 
URL:https://edsd.org/event/clergy-conference-2022/
LOCATION:Vina de Lestonnac Retreat Center\, 39300 De Portola Rd\, Temecula\, CA\, 92592\, United States
CATEGORIES:Formation
ATTACH;FMTTYPE=image/png:https://edsd.org/wp-content/uploads/2022/06/clergy-conference-image-2022.png
GEO:33.5333898;-117.0167064
X-APPLE-STRUCTURED-LOCATION;VALUE=URI;X-ADDRESS=Vina de Lestonnac Retreat Center 39300 De Portola Rd Temecula CA 92592 United States;X-APPLE-RADIUS=500;X-TITLE=39300 De Portola Rd:geo:-117.0167064,33.5333898
END:VEVENT
BEGIN:VEVENT
DTSTART;VALUE=DATE:20210927
DTEND;VALUE=DATE:20210930
DTSTAMP:20260422T022751
CREATED:20210629T200000Z
LAST-MODIFIED:20210730T175729Z
UID:10006892-1632700800-1632959999@edsd.org
SUMMARY:Clergy Conference
DESCRIPTION:Details coming soon.
URL:https://edsd.org/event/clergy-conference-2/
LOCATION:Vina de Lestonnac Retreat Center\, 39300 De Portola Rd\, Temecula\, CA\, 92592\, United States
CATEGORIES:Event,Formation
GEO:33.5333898;-117.0167064
X-APPLE-STRUCTURED-LOCATION;VALUE=URI;X-ADDRESS=Vina de Lestonnac Retreat Center 39300 De Portola Rd Temecula CA 92592 United States;X-APPLE-RADIUS=500;X-TITLE=39300 De Portola Rd:geo:-117.0167064,33.5333898
END:VEVENT
BEGIN:VEVENT
DTSTART;VALUE=DATE:20200928
DTEND;VALUE=DATE:20201001
DTSTAMP:20260422T022751
CREATED:20191003T175539Z
LAST-MODIFIED:20210730T172401Z
UID:10006813-1601251200-1601510399@edsd.org
SUMMARY:2020 Clergy Conference
DESCRIPTION:
URL:https://edsd.org/event/2020-clergy-conference/
LOCATION:Vina de Lestonnac Retreat Center\, 39300 De Portola Rd\, Temecula\, CA\, 92592\, United States
GEO:33.5333898;-117.0167064
X-APPLE-STRUCTURED-LOCATION;VALUE=URI;X-ADDRESS=Vina de Lestonnac Retreat Center 39300 De Portola Rd Temecula CA 92592 United States;X-APPLE-RADIUS=500;X-TITLE=39300 De Portola Rd:geo:-117.0167064,33.5333898
END:VEVENT
BEGIN:VEVENT
DTSTART;TZID=America/Los_Angeles:20190930T183000
DTEND;TZID=America/Los_Angeles:20190930T203000
DTSTAMP:20260422T022751
CREATED:20190905T215955Z
LAST-MODIFIED:20210731T004219Z
UID:10006829-1569868200-1569875400@edsd.org
SUMMARY:Clergy Listening Session
DESCRIPTION:
URL:https://edsd.org/event/clergy-listening-session/
LOCATION:Vina de Lestonnac Retreat Center\, 39300 De Portola Rd\, Temecula\, CA\, 92592\, United States
CATEGORIES:Communications,Event,Formation,Outreach
ATTACH;FMTTYPE=image/png:https://edsd.org/wp-content/uploads/2019/09/Listening-Sessions-6.png
GEO:33.5333898;-117.0167064
X-APPLE-STRUCTURED-LOCATION;VALUE=URI;X-ADDRESS=Vina de Lestonnac Retreat Center 39300 De Portola Rd Temecula CA 92592 United States;X-APPLE-RADIUS=500;X-TITLE=39300 De Portola Rd:geo:-117.0167064,33.5333898
END:VEVENT
END:VCALENDAR