BEGIN:VCALENDAR
VERSION:2.0
PRODID:-//Episcopal Diocese of San Diego - ECPv6.15.18//NONSGML v1.0//EN
CALSCALE:GREGORIAN
METHOD:PUBLISH
X-WR-CALNAME:Episcopal Diocese of San Diego
X-ORIGINAL-URL:https://edsd.org
X-WR-CALDESC:Events for Episcopal Diocese of San Diego
REFRESH-INTERVAL;VALUE=DURATION:PT1H
X-Robots-Tag:noindex
X-PUBLISHED-TTL:PT1H
BEGIN:VTIMEZONE
TZID:America/Los_Angeles
BEGIN:DAYLIGHT
TZOFFSETFROM:-0800
TZOFFSETTO:-0700
TZNAME:PDT
DTSTART:20220313T100000
END:DAYLIGHT
BEGIN:STANDARD
TZOFFSETFROM:-0700
TZOFFSETTO:-0800
TZNAME:PST
DTSTART:20221106T090000
END:STANDARD
BEGIN:DAYLIGHT
TZOFFSETFROM:-0800
TZOFFSETTO:-0700
TZNAME:PDT
DTSTART:20230312T100000
END:DAYLIGHT
BEGIN:STANDARD
TZOFFSETFROM:-0700
TZOFFSETTO:-0800
TZNAME:PST
DTSTART:20231105T090000
END:STANDARD
BEGIN:DAYLIGHT
TZOFFSETFROM:-0800
TZOFFSETTO:-0700
TZNAME:PDT
DTSTART:20240310T100000
END:DAYLIGHT
BEGIN:STANDARD
TZOFFSETFROM:-0700
TZOFFSETTO:-0800
TZNAME:PST
DTSTART:20241103T090000
END:STANDARD
END:VTIMEZONE
BEGIN:VEVENT
DTSTART;TZID=America/Los_Angeles:20230924T150000
DTEND;TZID=America/Los_Angeles:20230924T170000
DTSTAMP:20260423T132248
CREATED:20230824T205857Z
LAST-MODIFIED:20230824T205954Z
UID:10010424-1695567600-1695574800@edsd.org
SUMMARY:EDSD Fun & Games
DESCRIPTION:Are you ready for a Sunday afternoon of fun with San Diego Loyal\, Episcopal Community Services\, and congregations from throughout the Episcopal Diocese of San Diego? Join us for San Diego Loyal v. Las Vegas Lights on Sunday\, September 24 at 3 PM.\nClick below for reduced priced tickets–perfect for bringing the whole family\, friends or neighbors.\nTickets
URL:https://edsd.org/event/edsd-fun-games/
LOCATION:Terero Stadium\, 5998 Alcala Park Way\, San Diego\, CA\, 92111\, United States
CATEGORIES:Event
ATTACH;FMTTYPE=image/jpeg:https://edsd.org/wp-content/uploads/2023/08/Loyal-logo.jpg
GEO:32.7715005;-117.1859229
X-APPLE-STRUCTURED-LOCATION;VALUE=URI;X-ADDRESS=Terero Stadium 5998 Alcala Park Way San Diego CA 92111 United States;X-APPLE-RADIUS=500;X-TITLE=5998 Alcala Park Way:geo:-117.1859229,32.7715005
END:VEVENT
END:VCALENDAR