BEGIN:VCALENDAR
VERSION:2.0
PRODID:-//Episcopal Diocese of San Diego - ECPv6.15.18//NONSGML v1.0//EN
CALSCALE:GREGORIAN
METHOD:PUBLISH
X-WR-CALNAME:Episcopal Diocese of San Diego
X-ORIGINAL-URL:https://edsd.org
X-WR-CALDESC:Events for Episcopal Diocese of San Diego
REFRESH-INTERVAL;VALUE=DURATION:PT1H
X-Robots-Tag:noindex
X-PUBLISHED-TTL:PT1H
BEGIN:VTIMEZONE
TZID:America/Los_Angeles
BEGIN:DAYLIGHT
TZOFFSETFROM:-0800
TZOFFSETTO:-0700
TZNAME:PDT
DTSTART:20170312T100000
END:DAYLIGHT
BEGIN:STANDARD
TZOFFSETFROM:-0700
TZOFFSETTO:-0800
TZNAME:PST
DTSTART:20171105T090000
END:STANDARD
BEGIN:DAYLIGHT
TZOFFSETFROM:-0800
TZOFFSETTO:-0700
TZNAME:PDT
DTSTART:20180311T100000
END:DAYLIGHT
BEGIN:STANDARD
TZOFFSETFROM:-0700
TZOFFSETTO:-0800
TZNAME:PST
DTSTART:20181104T090000
END:STANDARD
BEGIN:DAYLIGHT
TZOFFSETFROM:-0800
TZOFFSETTO:-0700
TZNAME:PDT
DTSTART:20190310T100000
END:DAYLIGHT
BEGIN:STANDARD
TZOFFSETFROM:-0700
TZOFFSETTO:-0800
TZNAME:PST
DTSTART:20191103T090000
END:STANDARD
BEGIN:DAYLIGHT
TZOFFSETFROM:-0800
TZOFFSETTO:-0700
TZNAME:PDT
DTSTART:20200308T100000
END:DAYLIGHT
BEGIN:STANDARD
TZOFFSETFROM:-0700
TZOFFSETTO:-0800
TZNAME:PST
DTSTART:20201101T090000
END:STANDARD
END:VTIMEZONE
BEGIN:VEVENT
DTSTART;VALUE=DATE:20190929
DTEND;VALUE=DATE:20190930
DTSTAMP:20260422T132415
CREATED:20190712T172758Z
LAST-MODIFIED:20210730T081244Z
UID:10006403-1569715200-1569801599@edsd.org
SUMMARY:Bishop's Visitation\, Sts. Peter & Paul\, El Centro
DESCRIPTION:Bishop Susan will make an episcopal visit\, which often includes baptisms\, confirmations\, receptions and reaffirmations. It is an opportunity for the congregation to get to know our bishop\, and to celebrate the unity we share as one diocese of the Episcopal branch of the Jesus movement.
URL:https://edsd.org/event/bishops-visitation-sts-peter-paul-el-centro-and-all-saints-brawley/
LOCATION:Sts. Peter and Paul\, 500 South 5th St.\, El Centro\, CA\, 92244\, United States
CATEGORIES:Bishop's Visitation
ATTACH;FMTTYPE=image/jpeg:https://edsd.org/wp-content/uploads/2019/07/Bishop-SBS-sm.jpg
GEO:32.788298;-115.555147
X-APPLE-STRUCTURED-LOCATION;VALUE=URI;X-ADDRESS=Sts. Peter and Paul 500 South 5th St. El Centro CA 92244 United States;X-APPLE-RADIUS=500;X-TITLE=500 South 5th St.:geo:-115.555147,32.788298
END:VEVENT
BEGIN:VEVENT
DTSTART;TZID=America/Los_Angeles:20180114T090000
DTEND;TZID=America/Los_Angeles:20180114T130000
DTSTAMP:20260422T132415
CREATED:20171219T224822Z
LAST-MODIFIED:20210730T033531Z
UID:10006339-1515920400-1515934800@edsd.org
SUMMARY:Bishop's Visitation - El Centro & Brawley
DESCRIPTION:
URL:https://edsd.org/event/bishops-visitation-el-centro-brawley-2/
LOCATION:Sts. Peter and Paul\, 500 South 5th St.\, El Centro\, CA\, 92244\, United States
CATEGORIES:Bishop's Visitation,Event
ATTACH;FMTTYPE=image/jpeg:https://edsd.org/wp-content/uploads/2016/04/all-saints-brawley.jpg
GEO:32.788298;-115.555147
X-APPLE-STRUCTURED-LOCATION;VALUE=URI;X-ADDRESS=Sts. Peter and Paul 500 South 5th St. El Centro CA 92244 United States;X-APPLE-RADIUS=500;X-TITLE=500 South 5th St.:geo:-115.555147,32.788298
END:VEVENT
END:VCALENDAR