BEGIN:VCALENDAR
VERSION:2.0
PRODID:-//Episcopal Diocese of San Diego - ECPv6.15.18//NONSGML v1.0//EN
CALSCALE:GREGORIAN
METHOD:PUBLISH
X-ORIGINAL-URL:https://edsd.org
X-WR-CALDESC:Events for Episcopal Diocese of San Diego
REFRESH-INTERVAL;VALUE=DURATION:PT1H
X-Robots-Tag:noindex
X-PUBLISHED-TTL:PT1H
BEGIN:VTIMEZONE
TZID:America/Los_Angeles
BEGIN:DAYLIGHT
TZOFFSETFROM:-0800
TZOFFSETTO:-0700
TZNAME:PDT
DTSTART:20220313T100000
END:DAYLIGHT
BEGIN:STANDARD
TZOFFSETFROM:-0700
TZOFFSETTO:-0800
TZNAME:PST
DTSTART:20221106T090000
END:STANDARD
BEGIN:DAYLIGHT
TZOFFSETFROM:-0800
TZOFFSETTO:-0700
TZNAME:PDT
DTSTART:20230312T100000
END:DAYLIGHT
BEGIN:STANDARD
TZOFFSETFROM:-0700
TZOFFSETTO:-0800
TZNAME:PST
DTSTART:20231105T090000
END:STANDARD
BEGIN:DAYLIGHT
TZOFFSETFROM:-0800
TZOFFSETTO:-0700
TZNAME:PDT
DTSTART:20240310T100000
END:DAYLIGHT
BEGIN:STANDARD
TZOFFSETFROM:-0700
TZOFFSETTO:-0800
TZNAME:PST
DTSTART:20241103T090000
END:STANDARD
END:VTIMEZONE
BEGIN:VEVENT
DTSTART;TZID=America/Los_Angeles:20230524T120000
DTEND;TZID=America/Los_Angeles:20230524T133000
DTSTAMP:20260422T200849
CREATED:20230509T211733Z
LAST-MODIFIED:20230509T211733Z
UID:10006865-1684929600-1684935000@edsd.org
SUMMARY:Estate Planning 101
DESCRIPTION:This is a complimentary estate planning seminar and lunch where the attendees will learn the basic steps in planning their estate and will also become more familiar with recent tax law changes and the impact of the Secure Act 2.0. To RSVP or for more information click below.\nRSVP
URL:https://edsd.org/event/estate-planning-101/
LOCATION:St. Paul’s Senior Services Conference Center\, 2557 3rd Avenue\, San Diego\, CA\, 92103\, United States
ATTACH;FMTTYPE=image/jpeg:https://edsd.org/wp-content/uploads/2023/05/St.-Pauls-Senior-Services.jpg
ORGANIZER;CN="Craig Smith":MAILTO:csmith@stpaulseniors.org
GEO:32.7321733;-117.1618145
X-APPLE-STRUCTURED-LOCATION;VALUE=URI;X-ADDRESS=St. Paul’s Senior Services Conference Center 2557 3rd Avenue San Diego CA 92103 United States;X-APPLE-RADIUS=500;X-TITLE=2557 3rd Avenue:geo:-117.1618145,32.7321733
END:VEVENT
END:VCALENDAR