BEGIN:VCALENDAR
VERSION:2.0
PRODID:-//Episcopal Diocese of San Diego - ECPv6.15.18//NONSGML v1.0//EN
CALSCALE:GREGORIAN
METHOD:PUBLISH
X-WR-CALNAME:Episcopal Diocese of San Diego
X-ORIGINAL-URL:https://edsd.org
X-WR-CALDESC:Events for Episcopal Diocese of San Diego
REFRESH-INTERVAL;VALUE=DURATION:PT1H
X-Robots-Tag:noindex
X-PUBLISHED-TTL:PT1H
BEGIN:VTIMEZONE
TZID:America/Los_Angeles
BEGIN:DAYLIGHT
TZOFFSETFROM:-0800
TZOFFSETTO:-0700
TZNAME:PDT
DTSTART:20170312T100000
END:DAYLIGHT
BEGIN:STANDARD
TZOFFSETFROM:-0700
TZOFFSETTO:-0800
TZNAME:PST
DTSTART:20171105T090000
END:STANDARD
BEGIN:DAYLIGHT
TZOFFSETFROM:-0800
TZOFFSETTO:-0700
TZNAME:PDT
DTSTART:20180311T100000
END:DAYLIGHT
BEGIN:STANDARD
TZOFFSETFROM:-0700
TZOFFSETTO:-0800
TZNAME:PST
DTSTART:20181104T090000
END:STANDARD
BEGIN:DAYLIGHT
TZOFFSETFROM:-0800
TZOFFSETTO:-0700
TZNAME:PDT
DTSTART:20190310T100000
END:DAYLIGHT
BEGIN:STANDARD
TZOFFSETFROM:-0700
TZOFFSETTO:-0800
TZNAME:PST
DTSTART:20191103T090000
END:STANDARD
BEGIN:DAYLIGHT
TZOFFSETFROM:-0800
TZOFFSETTO:-0700
TZNAME:PDT
DTSTART:20200308T100000
END:DAYLIGHT
BEGIN:STANDARD
TZOFFSETFROM:-0700
TZOFFSETTO:-0800
TZNAME:PST
DTSTART:20201101T090000
END:STANDARD
BEGIN:DAYLIGHT
TZOFFSETFROM:-0800
TZOFFSETTO:-0700
TZNAME:PDT
DTSTART:20210314T100000
END:DAYLIGHT
BEGIN:STANDARD
TZOFFSETFROM:-0700
TZOFFSETTO:-0800
TZNAME:PST
DTSTART:20211107T090000
END:STANDARD
BEGIN:DAYLIGHT
TZOFFSETFROM:-0800
TZOFFSETTO:-0700
TZNAME:PDT
DTSTART:20220313T100000
END:DAYLIGHT
BEGIN:STANDARD
TZOFFSETFROM:-0700
TZOFFSETTO:-0800
TZNAME:PST
DTSTART:20221106T090000
END:STANDARD
BEGIN:DAYLIGHT
TZOFFSETFROM:-0800
TZOFFSETTO:-0700
TZNAME:PDT
DTSTART:20230312T100000
END:DAYLIGHT
BEGIN:STANDARD
TZOFFSETFROM:-0700
TZOFFSETTO:-0800
TZNAME:PST
DTSTART:20231105T090000
END:STANDARD
BEGIN:DAYLIGHT
TZOFFSETFROM:-0800
TZOFFSETTO:-0700
TZNAME:PDT
DTSTART:20240310T100000
END:DAYLIGHT
BEGIN:STANDARD
TZOFFSETFROM:-0700
TZOFFSETTO:-0800
TZNAME:PST
DTSTART:20241103T090000
END:STANDARD
BEGIN:DAYLIGHT
TZOFFSETFROM:-0800
TZOFFSETTO:-0700
TZNAME:PDT
DTSTART:20250309T100000
END:DAYLIGHT
BEGIN:STANDARD
TZOFFSETFROM:-0700
TZOFFSETTO:-0800
TZNAME:PST
DTSTART:20251102T090000
END:STANDARD
BEGIN:DAYLIGHT
TZOFFSETFROM:-0800
TZOFFSETTO:-0700
TZNAME:PDT
DTSTART:20260308T100000
END:DAYLIGHT
BEGIN:STANDARD
TZOFFSETFROM:-0700
TZOFFSETTO:-0800
TZNAME:PST
DTSTART:20261101T090000
END:STANDARD
END:VTIMEZONE
BEGIN:VEVENT
DTSTART;TZID=America/Los_Angeles:20250426T140000
DTEND;TZID=America/Los_Angeles:20250426T153000
DTSTAMP:20260422T094204
CREATED:20250408T195916Z
LAST-MODIFIED:20250408T201036Z
UID:10010949-1745676000-1745681400@edsd.org
SUMMARY:Sacred Songs for a Sacred Earth\, St Margaret’s in Palm Desert
DESCRIPTION:April 26 at 2pm Sacred Songs for a Sacred Earth\, St Margaret’s in Palm Desert\, 47535 Hwy 74 \nFree Benefit Concert for Neighbors-4-Neighbors
URL:https://edsd.org/event/sacred-songs-for-a-sacred-earth-st-margarets-in-palm-desert/
LOCATION:St. Margaret’s Episcopal Church\, 47535 CA-74\, Palm Desert\, 92260
GEO:33.7034896;-116.3979421
X-APPLE-STRUCTURED-LOCATION;VALUE=URI;X-ADDRESS=St. Margaret’s Episcopal Church 47535 CA-74 Palm Desert 92260;X-APPLE-RADIUS=500;X-TITLE=47535 CA-74:geo:-116.3979421,33.7034896
END:VEVENT
BEGIN:VEVENT
DTSTART;TZID=America/Los_Angeles:20241109T103000
DTEND;TZID=America/Los_Angeles:20241109T143000
DTSTAMP:20260422T094204
CREATED:20241018T201557Z
LAST-MODIFIED:20241018T213646Z
UID:10010883-1731148200-1731162600@edsd.org
SUMMARY:Come\, Follow me – Youth at Convention 2024
DESCRIPTION:Join youth from all over our diocese as we serve and play together. Each year Convention offers the opportunity for our diocese to gather for business\, fellowship\, and worship. A vibrant youth presence is an integral part of that day! In addition to games\, food\, and laughter with friends\, this year’s program features an immersive journey through St. Margaret’s service ministry. Together we will serve and learn in Neighbor for Neighbors\, The Good Earth Project\, and their Comm-unity Garden. We will use Matthew 4:19 as our guide considering how Jesus is calling us to\, “Come\, follow me” in the ways that we care for each other and the world. \n* Youth in grades 6-12\n* November 9\, 2024\, 10:30am – 2:30pm\n* St. Margaret’s Palm Desert\n* $15 suggested registration fee \nRegister Here
URL:https://edsd.org/event/youthatconvention2024/
LOCATION:St. Margaret’s Episcopal Church\, 47535 CA-74\, Palm Desert\, 92260
CATEGORIES:Event
ATTACH;FMTTYPE=image/png:https://edsd.org/wp-content/uploads/2024/10/convention-24.png
ORGANIZER;CN="Charlette Preslar":MAILTO:cpreslar@edsd.org
GEO:33.7034896;-116.3979421
X-APPLE-STRUCTURED-LOCATION;VALUE=URI;X-ADDRESS=St. Margaret’s Episcopal Church 47535 CA-74 Palm Desert 92260;X-APPLE-RADIUS=500;X-TITLE=47535 CA-74:geo:-116.3979421,33.7034896
END:VEVENT
BEGIN:VEVENT
DTSTART;VALUE=DATE:20231027
DTEND;VALUE=DATE:20231029
DTSTAMP:20260422T094204
CREATED:20230613T182627Z
LAST-MODIFIED:20230911T184937Z
UID:10006873-1698364800-1698537599@edsd.org
SUMMARY:LARK Workshop
DESCRIPTION:LARK (Localized Anti-Racism Knowledge) began as a challenge from Bishop Susan Brown Snook. In February 2022 she asked the Racial Justice and Reconciliation Task Force (RJRTF) to develop a localized anti-racism workshop. Since anti-racism trainings are usually designed in other regions of the country\, they reflect their populations and histories. Our area has its own history\, issues\, and stories. LARK focuses on our local history and populations and deals with local issues and stories. The workshop includes practical tools and approaches for advancing racial reconciliation and justice within our diocese. \nLARK is one part of a lifelong journey for racial reconciliation and racial justice. Whether you are a novice or veteran in the areas of racial justice and reconciliation\, whether you are a Sacred Ground alum\, current Sacred Ground participant\, or have never even heard of Sacred Ground\, this LARK workshop is for you! All are encouraged to attend\, and all are welcome! \nThe workshop will take place at St. Margaret’s Episcopal Church\, 47535 Highway 74\, Palm Desert on Friday\, October 27\, 4-9 pm & Saturday\, October 28\, 9:30 am-4:30 pm. Registration fee is $25 (includes refreshments and lunches). Scholarship available. Register below.\nLARK Registration \nFor questions contact Mae Chao: maechao.888@gmail.com
URL:https://edsd.org/event/lark-workshop/
LOCATION:St. Margaret’s Episcopal Church\, 47535 CA-74\, Palm Desert\, 92260
ATTACH;FMTTYPE=image/png:https://edsd.org/wp-content/uploads/2023/06/LARK-Save-the-Date-Oct-23.png
ORGANIZER;CN="Mae Chao":MAILTO:maechao.888@gmail.com
GEO:33.7034896;-116.3979421
X-APPLE-STRUCTURED-LOCATION;VALUE=URI;X-ADDRESS=St. Margaret’s Episcopal Church 47535 CA-74 Palm Desert 92260;X-APPLE-RADIUS=500;X-TITLE=47535 CA-74:geo:-116.3979421,33.7034896
END:VEVENT
BEGIN:VEVENT
DTSTART;TZID=America/Los_Angeles:20230504T120000
DTEND;TZID=America/Los_Angeles:20230504T140000
DTSTAMP:20260422T094204
CREATED:20230223T184844Z
LAST-MODIFIED:20230313T233535Z
UID:10010269-1683201600-1683208800@edsd.org
SUMMARY:Luncheon for Retired Clergy and Spouses
DESCRIPTION:Join us for this time to socialize and catch up on what is happening throughout the diocese and in our lives. You can look forward to Bishop Susan joining us and providing a short message. We are inviting all retired clergy living in our diocese and their spouses\, as well as the widows and widowers of clergy who have remained in our diocese. \nThe Retired Clergy Lunch will be available in two locations:\n– St. Paul’s Cathedral – April 19\, 2023 from 12-2pm &\n– St. Margaret’s\, Palm Desert – May 4th\, 2023 from 12-2pm. \nPlease be sure to RSVP using the link below.\nRSVP
URL:https://edsd.org/event/retiredclergylunchstmargarets/
LOCATION:St. Margaret’s Episcopal Church\, 47535 CA-74\, Palm Desert\, 92260
CATEGORIES:Formation
GEO:33.7034896;-116.3979421
X-APPLE-STRUCTURED-LOCATION;VALUE=URI;X-ADDRESS=St. Margaret’s Episcopal Church 47535 CA-74 Palm Desert 92260;X-APPLE-RADIUS=500;X-TITLE=47535 CA-74:geo:-116.3979421,33.7034896
END:VEVENT
BEGIN:VEVENT
DTSTART;VALUE=DATE:20200126
DTEND;VALUE=DATE:20200127
DTSTAMP:20260422T094204
CREATED:20190712T180152Z
LAST-MODIFIED:20210802T191146Z
UID:10006799-1579996800-1580083199@edsd.org
SUMMARY:Bishop's Visitation\, St. Margaret's\, Palm Desert
DESCRIPTION:Bishop Susan will make an episcopal visit\, which often includes baptisms\, confirmations\, receptions and reaffirmations. It is an opportunity for the congregation to get to know our bishop\, and to celebrate the unity we share as one diocese of the Episcopal branch of the Jesus movement.
URL:https://edsd.org/event/bishops-visitation-st-margarets-palm-desert/
LOCATION:St. Margaret’s Episcopal Church\, 47535 CA-74\, Palm Desert\, 92260
CATEGORIES:Bishop's Visitation
ATTACH;FMTTYPE=image/jpeg:https://edsd.org/wp-content/uploads/2019/07/Bishop-SBS-sm.jpg
GEO:33.7034896;-116.3979421
X-APPLE-STRUCTURED-LOCATION;VALUE=URI;X-ADDRESS=St. Margaret’s Episcopal Church 47535 CA-74 Palm Desert 92260;X-APPLE-RADIUS=500;X-TITLE=47535 CA-74:geo:-116.3979421,33.7034896
END:VEVENT
BEGIN:VEVENT
DTSTART;TZID=America/Los_Angeles:20191207T130000
DTEND;TZID=America/Los_Angeles:20191207T150000
DTSTAMP:20260422T094204
CREATED:20190625T175121Z
LAST-MODIFIED:20220418T220207Z
UID:10006390-1575723600-1575730800@edsd.org
SUMMARY:A Call for Uncommon Courage
DESCRIPTION:Speaker: Joan Chittister\nLocation: St. Margaret’s Episcopal Church \nAbout this Event: World renowned author Joan Chittister is coming to the Coachella Valley to share her passion for God\, Justice & Life. Sister Joan has been a passionate voice for social justice and women’s rights for over 50 years. Her energizing message invites us to participate in a vision for a world greater than the one we find ourselves in today. This is spirituality in action\, this is practical and powerful activism for our times. As Sister Joan is sought after all over the world\, we are so fortunate to have her here to help launch a year of exploration of a world of justice\, freedom\, peace\, and empowerment. To learn more about our event go to www.stmargarets.org. For more information about Sister Joan\, go to www.joanchittister.org. \n\n\n\n\nPurchase your tickets by clicking HERE.
URL:https://edsd.org/event/chittister/
LOCATION:St. Margaret’s Episcopal Church\, 47535 CA-74\, Palm Desert\, 92260
CATEGORIES:Event
ATTACH;FMTTYPE=image/jpeg:https://edsd.org/wp-content/uploads/2019/06/JC-2.jpg
GEO:33.7034896;-116.3979421
X-APPLE-STRUCTURED-LOCATION;VALUE=URI;X-ADDRESS=St. Margaret’s Episcopal Church 47535 CA-74 Palm Desert 92260;X-APPLE-RADIUS=500;X-TITLE=47535 CA-74:geo:-116.3979421,33.7034896
END:VEVENT
BEGIN:VEVENT
DTSTART;TZID=America/Los_Angeles:20191108T190000
DTEND;TZID=America/Los_Angeles:20191110T113000
DTSTAMP:20260422T094204
CREATED:20191001T175707Z
LAST-MODIFIED:20210730T133449Z
UID:10006815-1573239600-1573385400@edsd.org
SUMMARY:EDSD Youth at Convention
DESCRIPTION:EDSD Youth at Convention\nSponsored  by the EDSD Youth Collaborative\nFor: youth grades 6-12\nWhen: November 8-10\nCost: $100 (scholarships available) \nRegistration includes:\n– 2 night hotel stay in Palm Desert\, CA\n– 5 meals\n– Annual awesome t-shirt\n– A full weekend of programming \n\nRegistration is limited to just 32 participants. Register now!\nRegister
URL:https://edsd.org/event/youthatconvention/
LOCATION:St. Margaret’s Episcopal Church\, 47535 CA-74\, Palm Desert\, 92260
CATEGORIES:Communications,Event,Formation,Outreach,Youth
ATTACH;FMTTYPE=image/png:https://edsd.org/wp-content/uploads/2019/10/Capture.png
GEO:33.7034896;-116.3979421
X-APPLE-STRUCTURED-LOCATION;VALUE=URI;X-ADDRESS=St. Margaret’s Episcopal Church 47535 CA-74 Palm Desert 92260;X-APPLE-RADIUS=500;X-TITLE=47535 CA-74:geo:-116.3979421,33.7034896
END:VEVENT
BEGIN:VEVENT
DTSTART;TZID=America/Los_Angeles:20191108T080000
DTEND;TZID=America/Los_Angeles:20191109T170000
DTSTAMP:20260422T094204
CREATED:20190319T184158Z
LAST-MODIFIED:20210730T174405Z
UID:10006784-1573200000-1573318800@edsd.org
SUMMARY:46th Diocesan Convention
DESCRIPTION:Our 46th Annual Diocesan Convention will take place on November 8 and 9 at St. Margaret’s\, 47-535 Highway 74\, Palm Desert\, CA 92260. \nImportant Dates & Deadlines \nApril 30: Deadline for Lay Delegate Certificates. If you have not yet sent yours in\, please contact Keren Mondaca\, 619-481-5455.\nJuly 21: Deadline for Nominations\nAugust 1: Deadline for proposed changes in the Constitution and Canons\nSeptember 30: Deadline for Servant Ministry Award Nominations\nOctober 1: Deadline for Resolutions & Deadline for All Material to be included in the convention booklet\nOctober 27: Deadline for Registration\nNovember 8-9: Forty-Sixth Annual Diocesan Convention at St. Margaret’s\, Palm Desert\nNovember 15: Deadline for Common Life Share Pledges. Please submit your pledge to the diocesan office by this date. A budget will be presented to Convention with estimated pledges. \n2019 Lay Delegate Certificate (Fillable PDF) \n2019 Delegation Change Testimonial (Fillable PDF) \nREGISTRATION: \n\n$50 Early Registration – ends August 22\n$60 Regular Registration – ends October 22\n$75 Walk-in Registration – during Convention\n$30 Under 21 Registration– ends October 22\n\nRegister\n  \nONLINE VOTING: \nBe sure to practice online voting here. If you have any questions about voting at convention\, email Hannah Wilder. \nBRING YOUR SMART PHONE OR TABLET AND CHARGER: \nWe will provide a few charging stations at convention. We encourage you to bring your own charging cord and charger. \nSPANISH INTERPRETATION: \nSesiones de negocio y Eucaristía serán traducidos al español. Pasa la voz y por favor háganos saber si usted desea utilizar los servicios de traducción. Spanish translation will be provided for the business sessions and the Eucharist. Please spread the word and let us know if you would like to use the translation services. \n  \nTENTATIVE AGENDA COMING SOON
URL:https://edsd.org/event/46th-diocesan-convention/
LOCATION:St. Margaret’s Episcopal Church\, 47535 CA-74\, Palm Desert\, 92260
CATEGORIES:Communications,Event,Formation
GEO:33.7034896;-116.3979421
X-APPLE-STRUCTURED-LOCATION;VALUE=URI;X-ADDRESS=St. Margaret’s Episcopal Church 47535 CA-74 Palm Desert 92260;X-APPLE-RADIUS=500;X-TITLE=47535 CA-74:geo:-116.3979421,33.7034896
END:VEVENT
BEGIN:VEVENT
DTSTART;VALUE=DATE:20190914
DTEND;VALUE=DATE:20190915
DTSTAMP:20260422T094204
CREATED:20190730T224722Z
LAST-MODIFIED:20210730T150703Z
UID:10006786-1568419200-1568505599@edsd.org
SUMMARY:Eucharistic Visitor/Pastoral Visitor Coaching Workshop
DESCRIPTION:Eucharistic Visitors and Pastoral Care Visitors\nPastoral Care Ministries of Presence\, Healing and Hope \n\nIn this fun\, interactive workshop\, you will learn about the Eucharistic Visitor and Pastoral Care Visitor history and the theological underpinnings of these pastoral care ministries.\nYou will be provided the opportunity to practice the experience of a private home/hospital communion service and pastoral care call in a private home/or medical facility\, in all circumstances.\nYou will learn about building trust\, confidentiality issues\, listening skills\, reporting to your supervisor pastoral concerns and much more.\n\nClick below to register for this workshop.\nRegister
URL:https://edsd.org/event/eucharistic-visitor-pastoral-visitor-coaching-workshop/
LOCATION:St. Margaret’s Episcopal Church\, 47535 CA-74\, Palm Desert\, 92260
CATEGORIES:Communications,Event
ATTACH;FMTTYPE=image/jpeg:https://edsd.org/wp-content/uploads/2019/07/EV-training-workshop-image1.jpg
GEO:33.7034896;-116.3979421
X-APPLE-STRUCTURED-LOCATION;VALUE=URI;X-ADDRESS=St. Margaret’s Episcopal Church 47535 CA-74 Palm Desert 92260;X-APPLE-RADIUS=500;X-TITLE=47535 CA-74:geo:-116.3979421,33.7034896
END:VEVENT
BEGIN:VEVENT
DTSTART;VALUE=DATE:20190620
DTEND;VALUE=DATE:20190622
DTSTAMP:20260422T094205
CREATED:20190507T205851Z
LAST-MODIFIED:20210730T181405Z
UID:10006587-1560988800-1561161599@edsd.org
SUMMARY:Conflict in the Church: Entrusted with the Message of Reconciliation
DESCRIPTION:“All this is from God\, who reconciled us to himself through Christ\, and has given us the ministry of reconciliation.”  ~ II Corinthians 5:18 \nThis workshop will help you understand . . . \n\nThat conflict need not be bad\, but is an opportunity for growth.\nThe Biblical basis for conflict transformation.\nYour own style of responding to conflict.\nThe communication skills necessary to resolve conflict peacefully.\nStrategies for preventing destructive conflict in the church family.\nA model for working at congregational decision-making in a win-win manner.\n\nThe workshop is designed for: \n\nChurch leaders\, clergy\, lay leaders.\nAnyone interested in improving their ability to handle conflict effectively\, whether in the church\, the home\, the workplace\, or the community.\n\n  \nRichard Blackburn is executive director of Lombard Mennonite Peace Center (LMPC) in Lombard\, IL. Richard is a trainer and mediator\, with broad experience in serving as a consultant to conflicted churches. He participated in Dr. Edwin Friedman’s Postgraduate Clergy Seminar in Family Emotional Process and the Postgraduate Program in Family Systems Theory and It’s Applications at the Bowen Center for the Study of the Family in Washington\, D.C. \n  \nRegistration \nThe registration fee is $ 30 per person or $ 45 per couple (includes manuals and lunch) if registered by June 12.  Add $10 per person if registering after that date. \nRegister Online Here  \nAbout the Workshop \nConflict is a normal part of life\, even in the church. Understanding this can help church members realize that they should not be surprised or ashamed when they experience conflict in their faith communities. What is important is how the conflicts that inevitably arise are dealt with. The Conflict in the Church: Entrusted with the Message of Reconciliation workshop teaches some basic skills that will help participants manage conflicts within the congregation in a healthier manner. \nThe goal of the workshop is to help participants gain the understanding and the skills needed to prevent destructive conflicts in the future. We also want participants to see how church conflict can be transformed into an opportunity to learn something new about God’s will for their church. \nThe workshop was developed by the Lombard Mennonite Peace Center (LMPC)\, a non-profit ministry whose mission is to “proclaim Christ’s good news\, the gospel of peace and justice – and to be active in the sacred ministry of reconciliation.” \nTo learn more about LMPC resources see: www.LMPeaceCenter.org \n  \nWorkshop Schedule\n \nFriday\, June 21 \n6:30-7:00       Registration\n \n7:00-8:30      Introduction: The Nature and Role of Conflict\n \n                       Conflict in the New Testament: Finding Renewal in Conflict \n8:30-8:45      Break \n8:45-9:30      Understanding Your Own Style of Response to Conflict \n  \nSaturday\, June 22 \n9:00-10:30    Discovering Your Personal Style Profile for Communication in Groups  \nInterpreting Your Personal Style Profile: Your Unique Strengths and Potential Excesses \n10:30-10:45  Break \n10:45-12:00  Interpersonal Peacemaking Skills: Negotiating Win-Win Solutions \n12:00-1:00    Lunch \n1:00-2:30      Congregational Conflict: The Dynamics of Conflict in the Church \n2:30-2:45      Break \n2:45-4:00      Congregational Conflict: Managing Conflict in the Church    \n     \nRegister Online Here 
URL:https://edsd.org/event/conflict/
LOCATION:St. Margaret’s Episcopal Church\, 47535 CA-74\, Palm Desert\, 92260
CATEGORIES:Communications,Event
ATTACH;FMTTYPE=image/png:https://edsd.org/wp-content/uploads/2019/05/lombard-peace-dove.png
ORGANIZER;CN="Nancy Holland":MAILTO:nrholland@cox.net
GEO:33.7034896;-116.3979421
X-APPLE-STRUCTURED-LOCATION;VALUE=URI;X-ADDRESS=St. Margaret’s Episcopal Church 47535 CA-74 Palm Desert 92260;X-APPLE-RADIUS=500;X-TITLE=47535 CA-74:geo:-116.3979421,33.7034896
END:VEVENT
BEGIN:VEVENT
DTSTART;TZID=America/Los_Angeles:20190114T190000
DTEND;TZID=America/Los_Angeles:20190114T210000
DTSTAMP:20260422T094205
CREATED:20181220T214900Z
LAST-MODIFIED:20210731T042252Z
UID:10006419-1547492400-1547499600@edsd.org
SUMMARY:Walkabout at St. Margaret's
DESCRIPTION:All members of the diocese are invited and encouraged to attend this important opportunity to get to know our candidates for fifth bishop of San Diego. Learn about the candidates.
URL:https://edsd.org/event/candidate-walkabout-at-st-margarets-evening/
LOCATION:St. Margaret’s Episcopal Church\, 47535 CA-74\, Palm Desert\, 92260
CATEGORIES:Communications,Event
ATTACH;FMTTYPE=image/jpeg:https://edsd.org/wp-content/uploads/2019/01/candidates.jpg
ORGANIZER;CN="Martha Anderson":MAILTO:manderson@stpetersdelmar.net
GEO:33.7034896;-116.3979421
X-APPLE-STRUCTURED-LOCATION;VALUE=URI;X-ADDRESS=St. Margaret’s Episcopal Church 47535 CA-74 Palm Desert 92260;X-APPLE-RADIUS=500;X-TITLE=47535 CA-74:geo:-116.3979421,33.7034896
END:VEVENT
BEGIN:VEVENT
DTSTART;TZID=America/Los_Angeles:20180427T160000
DTEND;TZID=America/Los_Angeles:20180427T173000
DTSTAMP:20260422T094205
CREATED:20180216T225709Z
LAST-MODIFIED:20210730T061751Z
UID:10006284-1524844800-1524850200@edsd.org
SUMMARY:Fulfilling Your Wishes: Planning for the End of Life
DESCRIPTION:No one’s plans for the end of life will be exactly the same\, but one thing is for certain: if you don’t plan\, someone else will decide for you. From reviewing medical care if you are incapacitated\, to how you wish be remembered by your loved ones\, and planning your estate\, take the time now to decide on your end-of-life wishes. Please join Jim Murphy for this useful and informative workshop\, free of charge. The same content will be repeated at both events. \nThe event is free of charge\, but we do need you to RSVP for materials preparation. \nRegister\nAbout Our Presenter\n \nJames W.N. Murphy\, CFRE\nManaging Program Director \nJim Murphy is Managing Program Director of Financial Resources at the Episcopal Church Foundation (ECF).  He oversees ECF’s Financial Resource development programs and resources\, including planned giving\, donor solutions and endowment management. He leads workshops and works with congregations\, dioceses\, and other Episcopal organizations to enhance and develop their programs and resources. \nPrior to joining ECF in 2008\, Jim was Director of the Master of Arts Program and Program Manager for Lifelong Learning & the Center for Christian Spirituality at the General Theological Seminary.  For more than 16 years he worked for a major international law firm in NYC\, serving in a number of financial management roles.  He has been an active volunteer leader in stewardship\, parish administration\, and Christian formation ministries in several Episcopal parishes in New York and New Jersey. \nA native of Lansing\, Michigan\, Jim holds a Certificate in Fundraising from New York University’s School of Continuing and Professional Studies\, an MA in Christian Spirituality from the General Theological Seminary\, and a BS from NYU’s Stern School of Business. Jim is a member of the Association of Fundraising Professionals (AFP) and is a Certified Fund Raising Executive (CFRE). \nRegister Here
URL:https://edsd.org/event/fulfilling/
LOCATION:St. Margaret’s Episcopal Church\, 47535 CA-74\, Palm Desert\, 92260
CATEGORIES:Communications,Event,Formation
ATTACH;FMTTYPE=image/jpeg:https://edsd.org/wp-content/uploads/2018/02/end-life-ocean.jpg
ORGANIZER;CN="Sam Ward":MAILTO:samward961@sbcglobal.net
GEO:33.7034896;-116.3979421
X-APPLE-STRUCTURED-LOCATION;VALUE=URI;X-ADDRESS=St. Margaret’s Episcopal Church 47535 CA-74 Palm Desert 92260;X-APPLE-RADIUS=500;X-TITLE=47535 CA-74:geo:-116.3979421,33.7034896
END:VEVENT
BEGIN:VEVENT
DTSTART;TZID=America/Los_Angeles:20180427T140000
DTEND;TZID=America/Los_Angeles:20180427T170000
DTSTAMP:20260422T094205
CREATED:20180213T183156Z
LAST-MODIFIED:20210730T042454Z
UID:10006268-1524837600-1524848400@edsd.org
SUMMARY:End of Life Planning
DESCRIPTION:Few things are more important than making certain that your assets are distributed as you wish at your death\, or ensuring the kind of funeral/memorial service you would desire. It is also crucial that loved ones know how you want to be cared for medically if you were not able to communicate your wishes directly. Join Jim Murphy\, managing program director for the Episcopal Church Foundation (ECF)\, to learn more about how to ensure that your end of life and medical care wishes will be fulfilled.
URL:https://edsd.org/event/end-of-life-planning/
LOCATION:St. Margaret’s Episcopal Church\, 47535 CA-74\, Palm Desert\, 92260
CATEGORIES:Communications,Event,Formation
ATTACH;FMTTYPE=image/png:https://edsd.org/wp-content/uploads/2018/02/end-of-life-planning-image.png
ORGANIZER;CN="Sam Ward":MAILTO:samward961@sbcglobal.net
GEO:33.7034896;-116.3979421
X-APPLE-STRUCTURED-LOCATION;VALUE=URI;X-ADDRESS=St. Margaret’s Episcopal Church 47535 CA-74 Palm Desert 92260;X-APPLE-RADIUS=500;X-TITLE=47535 CA-74:geo:-116.3979421,33.7034896
END:VEVENT
BEGIN:VEVENT
DTSTART;TZID=America/Los_Angeles:20180218T160000
DTEND;TZID=America/Los_Angeles:20180218T180000
DTSTAMP:20260422T094205
CREATED:20180131T190347Z
LAST-MODIFIED:20210731T145711Z
UID:10006258-1518969600-1518976800@edsd.org
SUMMARY:Bishop's Visitation - Palm Desert
DESCRIPTION:
URL:https://edsd.org/event/bishops-visitation-palm-desert-3/
LOCATION:St. Margaret’s Episcopal Church\, 47535 CA-74\, Palm Desert\, 92260
ATTACH;FMTTYPE=image/jpeg:https://edsd.org/wp-content/uploads/2016/02/st-margarets.jpg
GEO:33.7034896;-116.3979421
X-APPLE-STRUCTURED-LOCATION;VALUE=URI;X-ADDRESS=St. Margaret’s Episcopal Church 47535 CA-74 Palm Desert 92260;X-APPLE-RADIUS=500;X-TITLE=47535 CA-74:geo:-116.3979421,33.7034896
END:VEVENT
END:VCALENDAR