BEGIN:VCALENDAR
VERSION:2.0
PRODID:-//Episcopal Diocese of San Diego - ECPv6.15.18//NONSGML v1.0//EN
CALSCALE:GREGORIAN
METHOD:PUBLISH
X-WR-CALNAME:Episcopal Diocese of San Diego
X-ORIGINAL-URL:https://edsd.org
X-WR-CALDESC:Events for Episcopal Diocese of San Diego
REFRESH-INTERVAL;VALUE=DURATION:PT1H
X-Robots-Tag:noindex
X-PUBLISHED-TTL:PT1H
BEGIN:VTIMEZONE
TZID:America/Los_Angeles
BEGIN:DAYLIGHT
TZOFFSETFROM:-0800
TZOFFSETTO:-0700
TZNAME:PDT
DTSTART:20170312T100000
END:DAYLIGHT
BEGIN:STANDARD
TZOFFSETFROM:-0700
TZOFFSETTO:-0800
TZNAME:PST
DTSTART:20171105T090000
END:STANDARD
BEGIN:DAYLIGHT
TZOFFSETFROM:-0800
TZOFFSETTO:-0700
TZNAME:PDT
DTSTART:20180311T100000
END:DAYLIGHT
BEGIN:STANDARD
TZOFFSETFROM:-0700
TZOFFSETTO:-0800
TZNAME:PST
DTSTART:20181104T090000
END:STANDARD
BEGIN:DAYLIGHT
TZOFFSETFROM:-0800
TZOFFSETTO:-0700
TZNAME:PDT
DTSTART:20190310T100000
END:DAYLIGHT
BEGIN:STANDARD
TZOFFSETFROM:-0700
TZOFFSETTO:-0800
TZNAME:PST
DTSTART:20191103T090000
END:STANDARD
END:VTIMEZONE
BEGIN:VEVENT
DTSTART;TZID=America/Los_Angeles:20180514T100000
DTEND;TZID=America/Los_Angeles:20180514T130000
DTSTAMP:20260422T042530
CREATED:20180426T174018Z
LAST-MODIFIED:20210730T182229Z
UID:10006294-1526292000-1526302800@edsd.org
SUMMARY:Wardens' Roundtable Luncheon
DESCRIPTION:The Honorable James F. Stiven\, president of the standing committee and the Rt. Rev. Katharine Jefferts Schori\, assisting bishop of San Diego\, invite all clergy\, senior and junior wardens to a wardens roundtable luncheon. The luncheon will be held at St. Anthony of-the-Desert Episcopal Church. \nRSVP to Keren Mondaca by calling 619-481-5454 or emailing with “Roundtable in the subject line. \n  \n 
URL:https://edsd.org/event/wardens-roundtable-luncheon/
LOCATION:St. Anthony of-the-Desert\, 19990 Mountain View Rd\, Desert Hot Springs\, CA\, 92241\, United States
CATEGORIES:Communications,Event
ATTACH;FMTTYPE=image/png:https://edsd.org/wp-content/uploads/2018/04/wardens-roundtable-3.png
ORGANIZER;CN="Alyson Terry":MAILTO:aterry@edsd.org
GEO:33.9045406;-116.4750331
X-APPLE-STRUCTURED-LOCATION;VALUE=URI;X-ADDRESS=St. Anthony of-the-Desert 19990 Mountain View Rd Desert Hot Springs CA 92241 United States;X-APPLE-RADIUS=500;X-TITLE=19990 Mountain View Rd:geo:-116.4750331,33.9045406
END:VEVENT
BEGIN:VEVENT
DTSTART;TZID=America/Los_Angeles:20180218T130000
DTEND;TZID=America/Los_Angeles:20180218T150000
DTSTAMP:20260422T042530
CREATED:20180131T185609Z
LAST-MODIFIED:20210801T021652Z
UID:10006257-1518958800-1518966000@edsd.org
SUMMARY:Bishop's Vistitation - Desert Hot Springs
DESCRIPTION:
URL:https://edsd.org/event/bishops-vistitation-dhs/
LOCATION:St. Anthony of-the-Desert\, 19990 Mountain View Rd\, Desert Hot Springs\, CA\, 92241\, United States
ATTACH;FMTTYPE=image/jpeg:https://edsd.org/wp-content/uploads/2016/04/st_anthony.jpg
GEO:33.9045406;-116.4750331
X-APPLE-STRUCTURED-LOCATION;VALUE=URI;X-ADDRESS=St. Anthony of-the-Desert 19990 Mountain View Rd Desert Hot Springs CA 92241 United States;X-APPLE-RADIUS=500;X-TITLE=19990 Mountain View Rd:geo:-116.4750331,33.9045406
END:VEVENT
END:VCALENDAR