BEGIN:VCALENDAR
VERSION:2.0
PRODID:-//Episcopal Diocese of San Diego - ECPv6.15.18//NONSGML v1.0//EN
CALSCALE:GREGORIAN
METHOD:PUBLISH
X-WR-CALNAME:Episcopal Diocese of San Diego
X-ORIGINAL-URL:https://edsd.org
X-WR-CALDESC:Events for Episcopal Diocese of San Diego
REFRESH-INTERVAL;VALUE=DURATION:PT1H
X-Robots-Tag:noindex
X-PUBLISHED-TTL:PT1H
BEGIN:VTIMEZONE
TZID:America/Los_Angeles
BEGIN:DAYLIGHT
TZOFFSETFROM:-0800
TZOFFSETTO:-0700
TZNAME:PDT
DTSTART:20180311T100000
END:DAYLIGHT
BEGIN:STANDARD
TZOFFSETFROM:-0700
TZOFFSETTO:-0800
TZNAME:PST
DTSTART:20181104T090000
END:STANDARD
BEGIN:DAYLIGHT
TZOFFSETFROM:-0800
TZOFFSETTO:-0700
TZNAME:PDT
DTSTART:20190310T100000
END:DAYLIGHT
BEGIN:STANDARD
TZOFFSETFROM:-0700
TZOFFSETTO:-0800
TZNAME:PST
DTSTART:20191103T090000
END:STANDARD
BEGIN:DAYLIGHT
TZOFFSETFROM:-0800
TZOFFSETTO:-0700
TZNAME:PDT
DTSTART:20200308T100000
END:DAYLIGHT
BEGIN:STANDARD
TZOFFSETFROM:-0700
TZOFFSETTO:-0800
TZNAME:PST
DTSTART:20201101T090000
END:STANDARD
END:VTIMEZONE
BEGIN:VEVENT
DTSTART;VALUE=DATE:20191208
DTEND;VALUE=DATE:20191209
DTSTAMP:20260422T220627
CREATED:20190712T180011Z
LAST-MODIFIED:20210730T161512Z
UID:10006800-1575763200-1575849599@edsd.org
SUMMARY:Bishop's Visitation\, St. Andrew's\, Lake Elsinore
DESCRIPTION:Bishop Susan will make an episcopal visit\, which often includes baptisms\, confirmations\, receptions and reaffirmations. It is an opportunity for the congregation to get to know our bishop\, and to celebrate the unity we share as one diocese of the Episcopal branch of the Jesus movement.
URL:https://edsd.org/event/bishops-visitation-st-andrews-lake-elsinore-2/
LOCATION:St. Andrew’s\, Lake Elsinore\, 111 South Kellogg Street\, Lake \, Lake Elsinore\, CA\, 92530\, United States
CATEGORIES:Bishop's Visitation
ATTACH;FMTTYPE=image/jpeg:https://edsd.org/wp-content/uploads/2019/07/Bishop-SBS-sm.jpg
GEO:33.6693045;-117.3354059
X-APPLE-STRUCTURED-LOCATION;VALUE=URI;X-ADDRESS=St. Andrew’s Lake Elsinore 111 South Kellogg Street Lake  Lake Elsinore CA 92530 United States;X-APPLE-RADIUS=500;X-TITLE=111 South Kellogg Street\, Lake:geo:-117.3354059,33.6693045
END:VEVENT
END:VCALENDAR