BEGIN:VCALENDAR
VERSION:2.0
PRODID:-//Episcopal Diocese of San Diego - ECPv6.15.18//NONSGML v1.0//EN
CALSCALE:GREGORIAN
METHOD:PUBLISH
X-WR-CALNAME:Episcopal Diocese of San Diego
X-ORIGINAL-URL:https://edsd.org
X-WR-CALDESC:Events for Episcopal Diocese of San Diego
REFRESH-INTERVAL;VALUE=DURATION:PT1H
X-Robots-Tag:noindex
X-PUBLISHED-TTL:PT1H
BEGIN:VTIMEZONE
TZID:America/Los_Angeles
BEGIN:DAYLIGHT
TZOFFSETFROM:-0800
TZOFFSETTO:-0700
TZNAME:PDT
DTSTART:20190310T100000
END:DAYLIGHT
BEGIN:STANDARD
TZOFFSETFROM:-0700
TZOFFSETTO:-0800
TZNAME:PST
DTSTART:20191103T090000
END:STANDARD
BEGIN:DAYLIGHT
TZOFFSETFROM:-0800
TZOFFSETTO:-0700
TZNAME:PDT
DTSTART:20200308T100000
END:DAYLIGHT
BEGIN:STANDARD
TZOFFSETFROM:-0700
TZOFFSETTO:-0800
TZNAME:PST
DTSTART:20201101T090000
END:STANDARD
BEGIN:DAYLIGHT
TZOFFSETFROM:-0800
TZOFFSETTO:-0700
TZNAME:PDT
DTSTART:20210314T100000
END:DAYLIGHT
BEGIN:STANDARD
TZOFFSETFROM:-0700
TZOFFSETTO:-0800
TZNAME:PST
DTSTART:20211107T090000
END:STANDARD
END:VTIMEZONE
BEGIN:VEVENT
DTSTART;TZID=America/Los_Angeles:20200222T180000
DTEND;TZID=America/Los_Angeles:20200222T210000
DTSTAMP:20260422T040349
CREATED:20190919T204037Z
LAST-MODIFIED:20210731T015126Z
UID:10006438-1582394400-1582405200@edsd.org
SUMMARY:2020 RefugeeNet Hope Gala
DESCRIPTION:Honoring the Past\, Embracing the Future. \nPLEASE RSVP BY FEBRUARY 12\, 2020 \nProceeds to benefit services and programs provided by Refugee Net. \nRoyal Banquet Hall\, 8990 Mirimar Road\, Suite 250 | San Diego\, CA 92126\nParking notes/Entrance details: Turn off Miramar Road at the Royal India Restaruant (just west of Clayton Road). The banquet hall is behind the restaurant. Park east of the restaurant near the banquet hall entrance. \nRegister Here! \n 
URL:https://edsd.org/event/refugeenet-gala-2/
LOCATION:Royal Banquet Hall\, 8990 Miramar Rd Ste 200A\, San Diego\, CA 92126\, California\, 92126\, United States
CATEGORIES:Communications,Event
GEO:32.8953877;-117.132369
X-APPLE-STRUCTURED-LOCATION;VALUE=URI;X-ADDRESS=Royal Banquet Hall 8990 Miramar Rd Ste 200A San Diego CA 92126 California 92126 United States;X-APPLE-RADIUS=500;X-TITLE=8990 Miramar Rd Ste 200A:geo:-117.132369,32.8953877
END:VEVENT
END:VCALENDAR