BEGIN:VCALENDAR
VERSION:2.0
PRODID:-//Episcopal Diocese of San Diego - ECPv6.15.18//NONSGML v1.0//EN
CALSCALE:GREGORIAN
METHOD:PUBLISH
X-WR-CALNAME:Episcopal Diocese of San Diego
X-ORIGINAL-URL:https://edsd.org
X-WR-CALDESC:Events for Episcopal Diocese of San Diego
REFRESH-INTERVAL;VALUE=DURATION:PT1H
X-Robots-Tag:noindex
X-PUBLISHED-TTL:PT1H
BEGIN:VTIMEZONE
TZID:America/Los_Angeles
BEGIN:DAYLIGHT
TZOFFSETFROM:-0800
TZOFFSETTO:-0700
TZNAME:PDT
DTSTART:20210314T100000
END:DAYLIGHT
BEGIN:STANDARD
TZOFFSETFROM:-0700
TZOFFSETTO:-0800
TZNAME:PST
DTSTART:20211107T090000
END:STANDARD
BEGIN:DAYLIGHT
TZOFFSETFROM:-0800
TZOFFSETTO:-0700
TZNAME:PDT
DTSTART:20220313T100000
END:DAYLIGHT
BEGIN:STANDARD
TZOFFSETFROM:-0700
TZOFFSETTO:-0800
TZNAME:PST
DTSTART:20221106T090000
END:STANDARD
BEGIN:DAYLIGHT
TZOFFSETFROM:-0800
TZOFFSETTO:-0700
TZNAME:PDT
DTSTART:20230312T100000
END:DAYLIGHT
BEGIN:STANDARD
TZOFFSETFROM:-0700
TZOFFSETTO:-0800
TZNAME:PST
DTSTART:20231105T090000
END:STANDARD
BEGIN:DAYLIGHT
TZOFFSETFROM:-0800
TZOFFSETTO:-0700
TZNAME:PDT
DTSTART:20240310T100000
END:DAYLIGHT
BEGIN:STANDARD
TZOFFSETFROM:-0700
TZOFFSETTO:-0800
TZNAME:PST
DTSTART:20241103T090000
END:STANDARD
BEGIN:DAYLIGHT
TZOFFSETFROM:-0800
TZOFFSETTO:-0700
TZNAME:PDT
DTSTART:20250309T100000
END:DAYLIGHT
BEGIN:STANDARD
TZOFFSETFROM:-0700
TZOFFSETTO:-0800
TZNAME:PST
DTSTART:20251102T090000
END:STANDARD
BEGIN:DAYLIGHT
TZOFFSETFROM:-0800
TZOFFSETTO:-0700
TZNAME:PDT
DTSTART:20260308T100000
END:DAYLIGHT
BEGIN:STANDARD
TZOFFSETFROM:-0700
TZOFFSETTO:-0800
TZNAME:PST
DTSTART:20261101T090000
END:STANDARD
END:VTIMEZONE
BEGIN:VTIMEZONE
TZID:Africa/Abidjan
BEGIN:STANDARD
TZOFFSETFROM:+0000
TZOFFSETTO:+0000
TZNAME:GMT
DTSTART:20190101T000000
END:STANDARD
END:VTIMEZONE
BEGIN:VEVENT
DTSTART;TZID=America/Los_Angeles:20250530T150000
DTEND;TZID=America/Los_Angeles:20250601T173000
DTSTAMP:20260421T200020
CREATED:20250325T175737Z
LAST-MODIFIED:20250523T173824Z
UID:10010942-1748617200-1748799000@edsd.org
SUMMARY:Godly Play Core Training 
DESCRIPTION:The Episcopal Diocese of San Diego is pleased to offer a Godly Play Core Training Retreat on May 30\, 31\, and June 1\, 2025 at Christ Church Coronado. This retreat will allow congregations the opportunity to refresh their training and to bring new storytellers and door holders into the fold as they complete their program year and look forward toward Fall. \nThroughout the retreat\, participants will experience all aspects of the Godly Play method and begin to become fluent in the Godly Play core stories and fundamental practices. Additionally\, Godly Play’s guiding Theology of Childhood is introduced\, so participants become more deeply connected to their work. The circle of participants becomes very strong and trustworthy when this work is done in the closed environment of a several-day retreat\, and participants enjoy spiritual renewal and lasting friendships. \nOver the last several years\, we have had participants from across the diocese. This year\, we are hoping to further expand the circle and the connections that come from doing this deep work together. \nGodly Play Core Training is $75 for members of the Episcopal Diocese of San Diego\, and $355 for those outside of our diocese. \nThe times for each training day are below.\nYou must attend all three days of the training in order to receive a certificate of completion.\n– Friday\, May 30\, 3 PM – 9 PM\n– Saturday\, May 31\, 9 AM – 5:30 PM\n– Sunday\, June 1\, 12 PM – 5:30 PM \nREGISTRATION IS FULL FOR THIS TRAINING.
URL:https://edsd.org/event/godly-play-core-training/
LOCATION:Christ Episcopal Church\, 1114 9th St\, Coronado\, CA\, 92118\, United States
CATEGORIES:Event,Training
ATTACH;FMTTYPE=image/jpeg:https://edsd.org/wp-content/uploads/2025/03/Godly-Play-Core-Training-photo.jpeg
ORGANIZER;CN="Charlette Preslar":MAILTO:cpreslar@edsd.org
GEO:32.6866642;-117.1782182
X-APPLE-STRUCTURED-LOCATION;VALUE=URI;X-ADDRESS=Christ Episcopal Church 1114 9th St Coronado CA 92118 United States;X-APPLE-RADIUS=500;X-TITLE=1114 9th St:geo:-117.1782182,32.6866642
END:VEVENT
BEGIN:VEVENT
DTSTART;TZID=America/Los_Angeles:20220819T150000
DTEND;TZID=America/Los_Angeles:20220821T170000
DTSTAMP:20260421T200020
CREATED:20220609T200555Z
LAST-MODIFIED:20220609T212851Z
UID:10006923-1660921200-1661101200@edsd.org
SUMMARY:Godly Play Training Retreat
DESCRIPTION:Godly Play Training\nThe Episcopal Diocese of San Diego in partnership with Christ Church Coronado is pleased to offer a Godly Play Core Training Retreat August 19-21\, 2022. Over the course of the retreat\, participants will experience all aspects of the Godly Play method and begin to become fluent in the Godly Play core stories and fundamental practices. Additionally\, Godly Play’s guiding Theology of Childhood is introduced\, so participants become more deeply connected to their work. The circle of participants becomes very strong and trustworthy when this work is done in the closed environment of a several-day retreat\, and participants enjoy spiritual renewal and lasting friendships. This training is regularly $355 but will be offered to participants in our diocese for $75 per person. \nRetreat Schedule\n8/19\, Friday – 3:00 p.m. – 9:00 p.m. includes dinner\n8/20\, Saturday – 8:30 a.m. – 5:30 p.m. includes coffee\, snacks and lunch\n8/21\, Sunday – 12:00 p.m. – 5:00 p.m. includes lunch\, snacks\, and beverages \n** Space is limited. Please register through the link below. \nREGISTER \n 
URL:https://edsd.org/event/godly-play-training-retreat/
LOCATION:Christ Episcopal Church\, 1114 9th St\, Coronado\, CA\, 92118\, United States
CATEGORIES:Formation,Training
ATTACH;FMTTYPE=image/jpeg:https://edsd.org/wp-content/uploads/2022/06/Godly-Play.jpg
GEO:32.6866642;-117.1782182
X-APPLE-STRUCTURED-LOCATION;VALUE=URI;X-ADDRESS=Christ Episcopal Church 1114 9th St Coronado CA 92118 United States;X-APPLE-RADIUS=500;X-TITLE=1114 9th St:geo:-117.1782182,32.6866642
END:VEVENT
BEGIN:VEVENT
DTSTART;TZID=America/Los_Angeles:20220306T150000
DTEND;TZID=America/Los_Angeles:20220306T190000
DTSTAMP:20260421T200020
CREATED:20220215T205749Z
LAST-MODIFIED:20220215T205749Z
UID:10006650-1646578800-1646593200@edsd.org
SUMMARY:Youth Lent Event 2022
DESCRIPTION:The Lent Event – The EDSD Youth Collaborative invites youth in grades 6-12 to Christ Church Coronado on March 6th for an afternoon of fun and connection. Bring your bike and helmet and join youth who are circumnavigating Coronado. Bring a guitar\, ukulele\, or drum and make music. Channel your inner Van Gogh and create art! Or join a crochet and knitting circle and develop a new hobby. Don’t worry if you don’t have a bike\, a guitar\, or crochet hooks. There will be extras available! The afternoon will also include dinner\, s’mores around the campfire\, and Eucharist under the twinkling lights. Contact Charlette Preslar\, cpreslar@edsd.org for more information. Register here. \n  \n 
URL:https://edsd.org/event/youth-lent-event-2022/
LOCATION:Christ Episcopal Church\, 1114 9th St\, Coronado\, CA\, 92118\, United States
CATEGORIES:Youth
ATTACH;FMTTYPE=image/png:https://edsd.org/wp-content/uploads/2022/02/LENT-EVENT-2022.png
GEO:32.6866642;-117.1782182
X-APPLE-STRUCTURED-LOCATION;VALUE=URI;X-ADDRESS=Christ Episcopal Church 1114 9th St Coronado CA 92118 United States;X-APPLE-RADIUS=500;X-TITLE=1114 9th St:geo:-117.1782182,32.6866642
END:VEVENT
BEGIN:VEVENT
DTSTART;TZID=Africa/Abidjan:20200201T090000
DTEND;TZID=Africa/Abidjan:20200201T120000
DTSTAMP:20260421T200020
CREATED:20191220T001425Z
LAST-MODIFIED:20210801T013421Z
UID:10006852-1580547600-1580558400@edsd.org
SUMMARY:Diocesan Service & Justice Coalition (DSJC) Meeting
DESCRIPTION:
URL:https://edsd.org/event/diocesan-service-justice-coalition-dsjc-meeting/
LOCATION:Christ Episcopal Church\, 1114 9th St\, Coronado\, CA\, 92118\, United States
GEO:32.6866642;-117.1782182
X-APPLE-STRUCTURED-LOCATION;VALUE=URI;X-ADDRESS=Christ Episcopal Church 1114 9th St Coronado CA 92118 United States;X-APPLE-RADIUS=500;X-TITLE=1114 9th St:geo:-117.1782182,32.6866642
END:VEVENT
END:VCALENDAR