BEGIN:VCALENDAR
VERSION:2.0
PRODID:-//Episcopal Diocese of San Diego - ECPv6.15.18//NONSGML v1.0//EN
CALSCALE:GREGORIAN
METHOD:PUBLISH
X-ORIGINAL-URL:https://edsd.org
X-WR-CALDESC:Events for Episcopal Diocese of San Diego
REFRESH-INTERVAL;VALUE=DURATION:PT1H
X-Robots-Tag:noindex
X-PUBLISHED-TTL:PT1H
BEGIN:VTIMEZONE
TZID:America/Los_Angeles
BEGIN:DAYLIGHT
TZOFFSETFROM:-0800
TZOFFSETTO:-0700
TZNAME:PDT
DTSTART:20180311T100000
END:DAYLIGHT
BEGIN:STANDARD
TZOFFSETFROM:-0700
TZOFFSETTO:-0800
TZNAME:PST
DTSTART:20181104T090000
END:STANDARD
BEGIN:DAYLIGHT
TZOFFSETFROM:-0800
TZOFFSETTO:-0700
TZNAME:PDT
DTSTART:20190310T100000
END:DAYLIGHT
BEGIN:STANDARD
TZOFFSETFROM:-0700
TZOFFSETTO:-0800
TZNAME:PST
DTSTART:20191103T090000
END:STANDARD
BEGIN:DAYLIGHT
TZOFFSETFROM:-0800
TZOFFSETTO:-0700
TZNAME:PDT
DTSTART:20200308T100000
END:DAYLIGHT
BEGIN:STANDARD
TZOFFSETFROM:-0700
TZOFFSETTO:-0800
TZNAME:PST
DTSTART:20201101T090000
END:STANDARD
END:VTIMEZONE
BEGIN:VEVENT
DTSTART;TZID=America/Los_Angeles:20190922T113000
DTEND;TZID=America/Los_Angeles:20190922T123000
DTSTAMP:20260423T092909
CREATED:20190912T170334Z
LAST-MODIFIED:20210731T111218Z
UID:10006828-1569151800-1569155400@edsd.org
SUMMARY:Prayer\, Theodicy and Moral Responsibility
DESCRIPTION:A conversation hosted by All Souls’ Episcopal Church. \nMark Gregory Karris\, therapist\, author and ordained pastor\, will explore how petitionary prayer can be reconciled with the uncontrolling love of God. This is a free event. For more information\, contact the Rev. Terry Dirbas.
URL:https://edsd.org/event/prayer-theodicy-and-moral-responsibility/
LOCATION:All Souls’ Episcopal Church\, 1475 Catalina Blvd\, San Diego\, CA\, 92107\, United States
CATEGORIES:Event,Formation
ORGANIZER;CN="Terry Dirbas":MAILTO:tdirbas@allsoulspointloma.org
GEO:32.7318259;-117.2424699
X-APPLE-STRUCTURED-LOCATION;VALUE=URI;X-ADDRESS=All Souls’ Episcopal Church 1475 Catalina Blvd San Diego CA 92107 United States;X-APPLE-RADIUS=500;X-TITLE=1475 Catalina Blvd:geo:-117.2424699,32.7318259
END:VEVENT
END:VCALENDAR