BEGIN:VCALENDAR
VERSION:2.0
PRODID:-//Episcopal Diocese of San Diego - ECPv6.15.18//NONSGML v1.0//EN
CALSCALE:GREGORIAN
METHOD:PUBLISH
X-ORIGINAL-URL:https://edsd.org
X-WR-CALDESC:Events for Episcopal Diocese of San Diego
REFRESH-INTERVAL;VALUE=DURATION:PT1H
X-Robots-Tag:noindex
X-PUBLISHED-TTL:PT1H
BEGIN:VTIMEZONE
TZID:America/Los_Angeles
BEGIN:DAYLIGHT
TZOFFSETFROM:-0800
TZOFFSETTO:-0700
TZNAME:PDT
DTSTART:20230312T100000
END:DAYLIGHT
BEGIN:STANDARD
TZOFFSETFROM:-0700
TZOFFSETTO:-0800
TZNAME:PST
DTSTART:20231105T090000
END:STANDARD
BEGIN:DAYLIGHT
TZOFFSETFROM:-0800
TZOFFSETTO:-0700
TZNAME:PDT
DTSTART:20240310T100000
END:DAYLIGHT
BEGIN:STANDARD
TZOFFSETFROM:-0700
TZOFFSETTO:-0800
TZNAME:PST
DTSTART:20241103T090000
END:STANDARD
BEGIN:DAYLIGHT
TZOFFSETFROM:-0800
TZOFFSETTO:-0700
TZNAME:PDT
DTSTART:20250309T100000
END:DAYLIGHT
BEGIN:STANDARD
TZOFFSETFROM:-0700
TZOFFSETTO:-0800
TZNAME:PST
DTSTART:20251102T090000
END:STANDARD
END:VTIMEZONE
BEGIN:VEVENT
DTSTART;TZID=America/Los_Angeles:20241015T183000
DTEND;TZID=America/Los_Angeles:20241015T200000
DTSTAMP:20260422T114718
CREATED:20241001T180321Z
LAST-MODIFIED:20241001T180854Z
UID:10010873-1729017000-1729022400@edsd.org
SUMMARY:Voter Information Prop Talk
DESCRIPTION:Want to learn more about the many state and local initiatives on the ballot this November?\nSt. Brigid’s Oceanside\, along with the League of Women Voters North County San Diego\, is hosting a free\, non-partisan “Prop Talk” workshop on the evening of October 15th. Pros and cons of each ballot measure will be presented\, with live Spanish translation available. For more information\, contact St. Brigid’s at stbrigidsoside@gmail.com.
URL:https://edsd.org/event/voter-information-prop-talk/
LOCATION:Mission Elementary School\, 2100 Mission Ave.\, Oceanside\, 92058\, United States
CATEGORIES:Event,Outreach
ATTACH;FMTTYPE=image/jpeg:https://edsd.org/wp-content/uploads/2024/10/Prop-talk-2.jpg
ORGANIZER;CN="St. Brigid's Episcopal Church":MAILTO:stbrigidsoside@gmail.com
GEO:33.2076636;-117.3624968
X-APPLE-STRUCTURED-LOCATION;VALUE=URI;X-ADDRESS=Mission Elementary School 2100 Mission Ave. Oceanside 92058 United States;X-APPLE-RADIUS=500;X-TITLE=2100 Mission Ave.:geo:-117.3624968,33.2076636
END:VEVENT
END:VCALENDAR