BEGIN:VCALENDAR
VERSION:2.0
PRODID:-//Episcopal Diocese of San Diego - ECPv6.15.18//NONSGML v1.0//EN
CALSCALE:GREGORIAN
METHOD:PUBLISH
X-ORIGINAL-URL:https://edsd.org
X-WR-CALDESC:Events for Episcopal Diocese of San Diego
REFRESH-INTERVAL;VALUE=DURATION:PT1H
X-Robots-Tag:noindex
X-PUBLISHED-TTL:PT1H
BEGIN:VTIMEZONE
TZID:America/Los_Angeles
BEGIN:DAYLIGHT
TZOFFSETFROM:-0800
TZOFFSETTO:-0700
TZNAME:PDT
DTSTART:20170312T100000
END:DAYLIGHT
BEGIN:STANDARD
TZOFFSETFROM:-0700
TZOFFSETTO:-0800
TZNAME:PST
DTSTART:20171105T090000
END:STANDARD
BEGIN:DAYLIGHT
TZOFFSETFROM:-0800
TZOFFSETTO:-0700
TZNAME:PDT
DTSTART:20180311T100000
END:DAYLIGHT
BEGIN:STANDARD
TZOFFSETFROM:-0700
TZOFFSETTO:-0800
TZNAME:PST
DTSTART:20181104T090000
END:STANDARD
BEGIN:DAYLIGHT
TZOFFSETFROM:-0800
TZOFFSETTO:-0700
TZNAME:PDT
DTSTART:20190310T100000
END:DAYLIGHT
BEGIN:STANDARD
TZOFFSETFROM:-0700
TZOFFSETTO:-0800
TZNAME:PST
DTSTART:20191103T090000
END:STANDARD
END:VTIMEZONE
BEGIN:VEVENT
DTSTART;TZID=America/Los_Angeles:20181214T110000
DTEND;TZID=America/Los_Angeles:20181214T140000
DTSTAMP:20260422T103211
CREATED:20181120T233131Z
LAST-MODIFIED:20210730T193004Z
UID:10006425-1544785200-1544796000@edsd.org
SUMMARY:San Diego County Council on Aging presents Sundries for Seniors 2018
DESCRIPTION:San Diego County Council on Aging\npresents Sundries for Seniors 2018\nBring joy to low income seniors this holiday season.\n  \nFill your empty grocery bags with personal care and comfort items (we have listed some suggestions). \nSuggested items San Diego Seniors will appreciate this holiday season:\n\nToilet paper\nShampoo\nConditioner\nPaper towels\nDeodorant Liquid\ncleaners\nDish soap\nLaundry soap\nBathing Soap\nSponges\nTrash Bags\nCleaning Rags\nSheets/Blankets\nJournal/Notebook\nBus coupons\nPillows\nWrapped sweets\nBag/purse\nHeat (heater)\nStamps\nUndergarments\nEnvelopes\nPens\nRazors\nCalendar\nSoft food items\nDried and canned foods\n\nBring your flled bags to the San Diego County Council on Aging Holiday Lunch:\nFriday\, December 14th\,\n11am to 2pm\nBahia Resort Hotel\n998 West Mission Bay Drive\, San Diego\, CA. 92109 \n$60.00 for members\, $70.00 for non-members. Sponsored tables at $500.00\nper table\, 8 people per table include logo on program and event recognition. \nRegister Here\nIf you cannot attend the luncheon\, please deliver your bag to any board\nmember of OR you can deliver it to Amanda Gois at\nSt. Paul’s Senior Services at 328 Maple Street\, San Diego\, CA 92103.\n(619) 239‐6900
URL:https://edsd.org/event/san-diego-county-council-on-aging-presents-sundries-for-seniors-2018/
LOCATION:Bahia\, 998 West Mission Bay Drive\, 92109\, CA\, 92109\, United States
CATEGORIES:Event,Outreach
ATTACH;FMTTYPE=image/png:https://edsd.org/wp-content/uploads/2018/11/Aging-Luncheon-e1542756938713.png
GEO:32.7724848;-117.2467598
X-APPLE-STRUCTURED-LOCATION;VALUE=URI;X-ADDRESS=Bahia 998 West Mission Bay Drive 92109 CA 92109 United States;X-APPLE-RADIUS=500;X-TITLE=998 West Mission Bay Drive:geo:-117.2467598,32.7724848
END:VEVENT
END:VCALENDAR