BEGIN:VCALENDAR
VERSION:2.0
PRODID:-//Episcopal Diocese of San Diego - ECPv6.15.18//NONSGML v1.0//EN
CALSCALE:GREGORIAN
METHOD:PUBLISH
X-WR-CALNAME:Episcopal Diocese of San Diego
X-ORIGINAL-URL:https://edsd.org
X-WR-CALDESC:Events for Episcopal Diocese of San Diego
REFRESH-INTERVAL;VALUE=DURATION:PT1H
X-Robots-Tag:noindex
X-PUBLISHED-TTL:PT1H
BEGIN:VTIMEZONE
TZID:America/Los_Angeles
BEGIN:DAYLIGHT
TZOFFSETFROM:-0800
TZOFFSETTO:-0700
TZNAME:PDT
DTSTART:20170312T100000
END:DAYLIGHT
BEGIN:STANDARD
TZOFFSETFROM:-0700
TZOFFSETTO:-0800
TZNAME:PST
DTSTART:20171105T090000
END:STANDARD
BEGIN:DAYLIGHT
TZOFFSETFROM:-0800
TZOFFSETTO:-0700
TZNAME:PDT
DTSTART:20180311T100000
END:DAYLIGHT
BEGIN:STANDARD
TZOFFSETFROM:-0700
TZOFFSETTO:-0800
TZNAME:PST
DTSTART:20181104T090000
END:STANDARD
BEGIN:DAYLIGHT
TZOFFSETFROM:-0800
TZOFFSETTO:-0700
TZNAME:PDT
DTSTART:20190310T100000
END:DAYLIGHT
BEGIN:STANDARD
TZOFFSETFROM:-0700
TZOFFSETTO:-0800
TZNAME:PST
DTSTART:20191103T090000
END:STANDARD
END:VTIMEZONE
BEGIN:VEVENT
DTSTART;TZID=America/Los_Angeles:20180609T090000
DTEND;TZID=America/Los_Angeles:20180609T144000
DTSTAMP:20260422T124349
CREATED:20180425T170308Z
LAST-MODIFIED:20210731T053509Z
UID:10006292-1528534800-1528555200@edsd.org
SUMMARY:You Are A Creator: Creativity Workshop
DESCRIPTION:“…awaken to more of who you are and appreciate your unique part in God’s Creation.” \nA workshop based on the recently published workbook by St. James by-the-Sea parishioner\, Mark Turner. \nUsing his unique\, art journal-style workbook\, Mark will guide your exploration of the stages of creation: inspiration\, execution and exhibition. \nBring your idea\, project\, business\, art\, endeavor\, or performance to customize the workshop to your own goals while gaining insights from Mark’s 49-year career as artist\, writer and producer around the world. \n​Sign up after St. James services starting April 29\, or call the office\, 858-459-3421. \nParticipants get access to the Table of Creation Facebook Group page.
URL:https://edsd.org/event/you-are-a-creator-creativity-workshop/
LOCATION:St. James by-the-Sea Episcopal Church\, 743 Prospect St\, La Jolla\, CA\, 92037\, United States
CATEGORIES:Formation
ATTACH;FMTTYPE=image/jpeg:https://edsd.org/wp-content/uploads/2018/04/TableCreation-Wrkshp-logo-2018.jpg
ORGANIZER;CN="Rebecca Dinovo":MAILTO:rebecca@sjbts.org
GEO:32.8447645;-117.2768612
X-APPLE-STRUCTURED-LOCATION;VALUE=URI;X-ADDRESS=St. James by-the-Sea Episcopal Church 743 Prospect St La Jolla CA 92037 United States;X-APPLE-RADIUS=500;X-TITLE=743 Prospect St:geo:-117.2768612,32.8447645
END:VEVENT
BEGIN:VEVENT
DTSTART;TZID=America/Los_Angeles:20180324T083000
DTEND;TZID=America/Los_Angeles:20180324T123000
DTSTAMP:20260422T124349
CREATED:20180221T193033Z
LAST-MODIFIED:20210731T224224Z
UID:10006361-1521880200-1521894600@edsd.org
SUMMARY:Introductory Workshop on Centering Prayer (Christian Meditation)
DESCRIPTION:Do you want more from your prayer life?\nDo you hunger for a deeper personal relationship with God?\n\nCentering Prayer may be for you. \nCentering prayer is a simple method of Christ-centered silent prayer\, a renewal of an ancient Christian contemplative practice\, updated for our time.  It can lead to a deeper prayer life\, personal healing\, spiritual transformation\, and closer union with God. \nLead by: Karen Downs of Contemplative Outreach \nPre-Register: Sign up / call the church office 858-459-3421 \n 
URL:https://edsd.org/event/introductory-workshop-on-centering-prayer-christian-meditation/
LOCATION:St. James by-the-Sea Episcopal Church\, 743 Prospect Street\, La Jolla\, CA\, 92037\, United States
CATEGORIES:Formation
ORGANIZER;CN="Rebecca Dinovo":MAILTO:rebecca@sjbts.org
GEO:32.8447645;-117.2768612
X-APPLE-STRUCTURED-LOCATION;VALUE=URI;X-ADDRESS=St. James by-the-Sea Episcopal Church 743 Prospect Street La Jolla CA 92037 United States;X-APPLE-RADIUS=500;X-TITLE=743 Prospect Street:geo:-117.2768612,32.8447645
END:VEVENT
END:VCALENDAR