BEGIN:VCALENDAR
VERSION:2.0
PRODID:-//Episcopal Diocese of San Diego - ECPv6.15.18//NONSGML v1.0//EN
CALSCALE:GREGORIAN
METHOD:PUBLISH
X-WR-CALNAME:Episcopal Diocese of San Diego
X-ORIGINAL-URL:https://edsd.org
X-WR-CALDESC:Events for Episcopal Diocese of San Diego
REFRESH-INTERVAL;VALUE=DURATION:PT1H
X-Robots-Tag:noindex
X-PUBLISHED-TTL:PT1H
BEGIN:VTIMEZONE
TZID:America/Los_Angeles
BEGIN:DAYLIGHT
TZOFFSETFROM:-0800
TZOFFSETTO:-0700
TZNAME:PDT
DTSTART:20170312T100000
END:DAYLIGHT
BEGIN:STANDARD
TZOFFSETFROM:-0700
TZOFFSETTO:-0800
TZNAME:PST
DTSTART:20171105T090000
END:STANDARD
BEGIN:DAYLIGHT
TZOFFSETFROM:-0800
TZOFFSETTO:-0700
TZNAME:PDT
DTSTART:20180311T100000
END:DAYLIGHT
BEGIN:STANDARD
TZOFFSETFROM:-0700
TZOFFSETTO:-0800
TZNAME:PST
DTSTART:20181104T090000
END:STANDARD
BEGIN:DAYLIGHT
TZOFFSETFROM:-0800
TZOFFSETTO:-0700
TZNAME:PDT
DTSTART:20190310T100000
END:DAYLIGHT
BEGIN:STANDARD
TZOFFSETFROM:-0700
TZOFFSETTO:-0800
TZNAME:PST
DTSTART:20191103T090000
END:STANDARD
END:VTIMEZONE
BEGIN:VEVENT
DTSTART;TZID=America/Los_Angeles:20181116T190000
DTEND;TZID=America/Los_Angeles:20181118T120000
DTSTAMP:20260422T055152
CREATED:20180330T164429Z
LAST-MODIFIED:20210730T130825Z
UID:10006288-1542394800-1542542400@edsd.org
SUMMARY:Borderless Grace
DESCRIPTION:Border Ministries Summit sponsored by the Episcopal Diocese of the Rio Grande \nThe summit will include: \n\na keynote address by the Rt. Rev. Katharine Jefferts Schori\nspeakers from the Episcopal Church and secular agencies that work along the border\nopportunities for border immersion experiences\n\nThe 2\,000 miles of border between the US and Mexico is an area of heightened social\, political and spiritual importance. Along the border\, cultures\, economies and families meet and are divided. The border offers the Church an unique opportunity for ministry\, and dioceses along the border have each responded. This summit will provide opportunities to share information about border ministries and to build partnerships for future ministries and increase awareness of border issues. \nThe six dioceses who share the border will share their experiences of ministry. Other interested parties are invited to participate as space allows. \nDraft Schedule \nFriday\, November 16 \n\n\n\nAfternoon\nOptional border immersion experience\n\n\n1 p.m. – 6 p.m.\nRegistration\n\n\n6 p.m.\nDinner on your own\n\n\n7 p.m.\nOpening keynote address\n\n\n7:30 p.m.\nDiscussion groups\n\n\n8 p.m.\nSocial hour\n\n\n9 p.m.\nBilingual Compline\n\n\n\n  \nSaturday\, November 17 \n\n\n\n7:30 a.m.\nBilingual Morning Prayer\n\n\n8 a.m.\nBreakfast\n\n\n9 a.m. – 9:45 a.m.\nDiocesan presentation and discussion: Diocese of Arizona\n\n\n10 a.m. – 10:45 a.m.\nDiocesan presentation and discussion: Diocese of Western Mexico\n\n\n11 a.m. – 12 p.m.\nBreakout Sessions: 1) Lacy Broemel\, presiding bishop’s advisor on immigration issues 2) Mark Stevenson\, Episcopal Migration Ministries 3) Province VII anti-racism network and border ministry 4) Anthony Guillen\, Latin@ ministry\n\n\n12 p.m. – 1 p.m.\nLunch on your own\n\n\n1 p.m. – 1:45 p.m.\nDiocesan presentation and discussion: Diocese of San Diego\n\n\n2 p.m. – 2:45 p.m.\nDiocesan presentation and discussion: Diocese of Northern Mexico\n\n\n3 p.m. – 4 p.m.\nBreakout Sessions: 1) homeland security and border safety issues 2) immigration law on both sides of the border 3) social work along the border\n\n\n4:15 p.m. – 5 p.m.\nDiocesan presentation and discussion: Diocese of West Texas\n\n\n5:15 p.m. – 7 p.m.\nDinner on your own\n\n\n7 p.m. – 7:45 p.m.\nDiocesan presentation and discussion: Diocese of the Rio Grande\n\n\n8 p.m.\nSocial Hour\n\n\n9 p.m.\nBilingual Compline\n\n\n\n  \nSunday\, November 18 \n\n\n\n8 a.m.\nBreakfast on your own\n\n\n8:30 a.m. – 9:30 a.m.\nRoundtable discussion on the future of border ministry\n\n\n9:30 a.m. – 10:30 a.m.\nTravel to border mass location\n\n\n11 a.m.\nBorder mass\n\n\nAfternoon\nOptional border immersion experience
URL:https://edsd.org/event/borderless-grace/
CATEGORIES:Communications,Event,Outreach
ATTACH;FMTTYPE=image/jpeg:https://edsd.org/wp-content/uploads/2018/03/borderless-grace.jpg
ORGANIZER;CN="Nancy Holland":MAILTO:nrholland@cox.net
END:VEVENT
BEGIN:VEVENT
DTSTART;VALUE=DATE:20180518
DTEND;VALUE=DATE:20180520
DTSTAMP:20260422T055152
CREATED:20180131T220626Z
LAST-MODIFIED:20210730T094517Z
UID:10006378-1526601600-1526774399@edsd.org
SUMMARY:New Camino
DESCRIPTION:Friday\, May 18\, 6 p.m. to 9 p.m. \nSaturday\, May 19\, 9 a.m. to 3:30 p.m \nMany church leaders are interested in growing with and being responsive to Latino/a communities. Some think it’s impossible because they don’t speak Spanish. Come to the New Camino seminar. Led by the Rev. Anthony Guillén\, Episcopal Church officer for Latinx ministries\, this seminar explores the changing face\, cultural backgrounds\, interests and needs of Latino/a communities\, and how to welcome\, serve and involve such communities in congregational life. \nCome learn how Latinx ministry has changed from the old\, bifurcated Spanish only/English only model. \nClergy members\, vestry\, bishop’s committee\, and lay leaders who want a growing and vital church will join us at New Camino. \nWe encourage teams of at least three people from each congregation. \nThis event is a joint effort of the Episcopal Diocese of San Diego\, and the Episcopal Church. \n  \nRegister Here
URL:https://edsd.org/event/new-camino/
LOCATION:St. Paul’s Cathedral\, 2728 Sixth Ave\, San Diego\, CA\, 92103\, United States
CATEGORIES:Communications,Event,Formation
ATTACH;FMTTYPE=image/jpeg:https://edsd.org/wp-content/uploads/2018/01/new-camino-2.jpg
ORGANIZER;CN="Nancy Holland":MAILTO:nrholland@cox.net
GEO:32.7338658;-117.1598777
X-APPLE-STRUCTURED-LOCATION;VALUE=URI;X-ADDRESS=St. Paul’s Cathedral 2728 Sixth Ave San Diego CA 92103 United States;X-APPLE-RADIUS=500;X-TITLE=2728 Sixth Ave:geo:-117.1598777,32.7338658
END:VEVENT
BEGIN:VEVENT
DTSTART;TZID=America/Los_Angeles:20180407T120000
DTEND;TZID=America/Los_Angeles:20180407T140000
DTSTAMP:20260422T055152
CREATED:20180307T231538Z
LAST-MODIFIED:20210730T181313Z
UID:10006412-1523102400-1523109600@edsd.org
SUMMARY:Wardens' Roundtable
DESCRIPTION:The Honorable James F. Stiven\, President of the Standing Committee and  The Rt. Rev. Katharine Jefferts Schori\, Assisting Bishop of San Diego onvite all Senior and Junior Wardens to a Wardens’ Roundtable Luncheon \nThe goal is to connect people in this important leadership role to share best practices\, troubleshoot issues and build relationships. Please forward this to your new wardens who may not yet receive our emails. All wardens serving in 2016 – 2018 are invited. \nRSVP by emailing Keren Mondaca with “Roundtable” in the subject line.
URL:https://edsd.org/event/wardens-roundtable/
LOCATION:St. Dunstan’s Episcopal Church\, 6556 Park Ridge Blvd.\, San Diego\, CA\, 92120\, United States
CATEGORIES:Communications,Event
ATTACH;FMTTYPE=image/png:https://edsd.org/wp-content/uploads/2018/03/wardens-roundtable-e1524761567418.png
ORGANIZER;CN="Nancy Holland":MAILTO:nrholland@cox.net
GEO:32.795771;-117.049964
X-APPLE-STRUCTURED-LOCATION;VALUE=URI;X-ADDRESS=St. Dunstan’s Episcopal Church 6556 Park Ridge Blvd. San Diego CA 92120 United States;X-APPLE-RADIUS=500;X-TITLE=6556 Park Ridge Blvd.:geo:-117.049964,32.795771
END:VEVENT
END:VCALENDAR