BEGIN:VCALENDAR
VERSION:2.0
PRODID:-//Episcopal Diocese of San Diego - ECPv6.15.18//NONSGML v1.0//EN
CALSCALE:GREGORIAN
METHOD:PUBLISH
X-ORIGINAL-URL:https://edsd.org
X-WR-CALDESC:Events for Episcopal Diocese of San Diego
REFRESH-INTERVAL;VALUE=DURATION:PT1H
X-Robots-Tag:noindex
X-PUBLISHED-TTL:PT1H
BEGIN:VTIMEZONE
TZID:America/Los_Angeles
BEGIN:DAYLIGHT
TZOFFSETFROM:-0800
TZOFFSETTO:-0700
TZNAME:PDT
DTSTART:20180311T100000
END:DAYLIGHT
BEGIN:STANDARD
TZOFFSETFROM:-0700
TZOFFSETTO:-0800
TZNAME:PST
DTSTART:20181104T090000
END:STANDARD
BEGIN:DAYLIGHT
TZOFFSETFROM:-0800
TZOFFSETTO:-0700
TZNAME:PDT
DTSTART:20190310T100000
END:DAYLIGHT
BEGIN:STANDARD
TZOFFSETFROM:-0700
TZOFFSETTO:-0800
TZNAME:PST
DTSTART:20191103T090000
END:STANDARD
BEGIN:DAYLIGHT
TZOFFSETFROM:-0800
TZOFFSETTO:-0700
TZNAME:PDT
DTSTART:20200308T100000
END:DAYLIGHT
BEGIN:STANDARD
TZOFFSETFROM:-0700
TZOFFSETTO:-0800
TZNAME:PST
DTSTART:20201101T090000
END:STANDARD
END:VTIMEZONE
BEGIN:VEVENT
DTSTART;TZID=America/Los_Angeles:20190629T110000
DTEND;TZID=America/Los_Angeles:20190629T140000
DTSTAMP:20260422T172343
CREATED:20190529T041939Z
LAST-MODIFIED:20210730T151004Z
UID:10006477-1561806000-1561816800@edsd.org
SUMMARY:Transition Roundtable
DESCRIPTION:Come meet other leaders of congregations in transition\, talk about common issues and learn best practices within our diocese and the Episcopal Church. \nQuestions? Contact the Rev. Laura Sheridan-Campbell: lsheridancampbell@edsd.org. \nClick below to register for this event.\nRegister \n 
URL:https://edsd.org/event/transition/
LOCATION:St. Thomas of Canterbury\, 44651 Avenida de Missiones\, Temecula\, CA\, 92592\, United States
CATEGORIES:Communications,Event
ATTACH;FMTTYPE=image/jpeg:https://edsd.org/wp-content/uploads/2019/05/change-transition-sm.jpg
ORGANIZER;CN="Laura Sheridan-Campbell":MAILTO:lsheridancampbell@edsd.org
GEO:33.4752128;-117.1115165
X-APPLE-STRUCTURED-LOCATION;VALUE=URI;X-ADDRESS=St. Thomas of Canterbury 44651 Avenida de Missiones Temecula CA 92592 United States;X-APPLE-RADIUS=500;X-TITLE=44651 Avenida de Missiones:geo:-117.1115165,33.4752128
END:VEVENT
BEGIN:VEVENT
DTSTART;TZID=America/Los_Angeles:20190330T093000
DTEND;TZID=America/Los_Angeles:20190330T150000
DTSTAMP:20260422T172343
CREATED:20190314T165610Z
LAST-MODIFIED:20210730T151229Z
UID:10006462-1553938200-1553958000@edsd.org
SUMMARY:Breaking the Silence on Mental Health
DESCRIPTION:Engage with the author at this special event! The Rev. Dr. Sarah Griffith Lund\, author of Blessed are the Crazy: Breaking the Silence on Mental Health\, Family and the Church \nThe day will include a panel discussion\, story telling and workshops. \nClergy\, this event is eligible for .5 Continuing Education Units (CEUs) \nCost for this event is $30 for participants\, or $50 for pastors seeking CEUs \nPayable in with cash\, checks or online donation the day of the event \nLunch is Included \nThis event is presented by Beloved San Diego and Beloved Compassion Network \nCo-sponsored by Community Church of Poway (UCC) and University Christian Church (DOC) \nFor more information about Beloved Compassion Network\, visit our website. \nFREE BONUS EVENT SUNDAY\, MARCH 31 \nJoin us at 10:00 a.m. \nWorship featuring the Rev. Dr. Sarah Griffith Lund \nUniversity Christian Church (Disciples of Christ) \n3900 Cleveland Ave\, San Diego\, CA 92103 \n  \n  \nRegister \n 
URL:https://edsd.org/event/breaking-the-silence-on-mental-health/
LOCATION:Community Church of Poway\, 13501 Community Road\, Poway\, CA\, 92064\, United States
CATEGORIES:Communications,Event
ATTACH;FMTTYPE=image/png:https://edsd.org/wp-content/uploads/2019/03/breaking-silence.png
ORGANIZER;CN="Laura Sheridan-Campbell":MAILTO:lsheridancampbell@edsd.org
GEO:32.9615056;-117.0401469
X-APPLE-STRUCTURED-LOCATION;VALUE=URI;X-ADDRESS=Community Church of Poway 13501 Community Road Poway CA 92064 United States;X-APPLE-RADIUS=500;X-TITLE=13501 Community Road:geo:-117.0401469,32.9615056
END:VEVENT
END:VCALENDAR