BEGIN:VCALENDAR
VERSION:2.0
PRODID:-//Episcopal Diocese of San Diego - ECPv6.15.18//NONSGML v1.0//EN
CALSCALE:GREGORIAN
METHOD:PUBLISH
X-WR-CALNAME:Episcopal Diocese of San Diego
X-ORIGINAL-URL:https://edsd.org
X-WR-CALDESC:Events for Episcopal Diocese of San Diego
REFRESH-INTERVAL;VALUE=DURATION:PT1H
X-Robots-Tag:noindex
X-PUBLISHED-TTL:PT1H
BEGIN:VTIMEZONE
TZID:America/Los_Angeles
BEGIN:DAYLIGHT
TZOFFSETFROM:-0800
TZOFFSETTO:-0700
TZNAME:PDT
DTSTART:20180311T100000
END:DAYLIGHT
BEGIN:STANDARD
TZOFFSETFROM:-0700
TZOFFSETTO:-0800
TZNAME:PST
DTSTART:20181104T090000
END:STANDARD
BEGIN:DAYLIGHT
TZOFFSETFROM:-0800
TZOFFSETTO:-0700
TZNAME:PDT
DTSTART:20190310T100000
END:DAYLIGHT
BEGIN:STANDARD
TZOFFSETFROM:-0700
TZOFFSETTO:-0800
TZNAME:PST
DTSTART:20191103T090000
END:STANDARD
BEGIN:DAYLIGHT
TZOFFSETFROM:-0800
TZOFFSETTO:-0700
TZNAME:PDT
DTSTART:20200308T100000
END:DAYLIGHT
BEGIN:STANDARD
TZOFFSETFROM:-0700
TZOFFSETTO:-0800
TZNAME:PST
DTSTART:20201101T090000
END:STANDARD
BEGIN:DAYLIGHT
TZOFFSETFROM:-0800
TZOFFSETTO:-0700
TZNAME:PDT
DTSTART:20210314T100000
END:DAYLIGHT
BEGIN:STANDARD
TZOFFSETFROM:-0700
TZOFFSETTO:-0800
TZNAME:PST
DTSTART:20211107T090000
END:STANDARD
BEGIN:DAYLIGHT
TZOFFSETFROM:-0800
TZOFFSETTO:-0700
TZNAME:PDT
DTSTART:20220313T100000
END:DAYLIGHT
BEGIN:STANDARD
TZOFFSETFROM:-0700
TZOFFSETTO:-0800
TZNAME:PST
DTSTART:20221106T090000
END:STANDARD
BEGIN:DAYLIGHT
TZOFFSETFROM:-0800
TZOFFSETTO:-0700
TZNAME:PDT
DTSTART:20230312T100000
END:DAYLIGHT
BEGIN:STANDARD
TZOFFSETFROM:-0700
TZOFFSETTO:-0800
TZNAME:PST
DTSTART:20231105T090000
END:STANDARD
END:VTIMEZONE
BEGIN:VEVENT
DTSTART;TZID=America/Los_Angeles:20220412T110000
DTEND;TZID=America/Los_Angeles:20220412T133000
DTSTAMP:20260423T005106
CREATED:20220111T203627Z
LAST-MODIFIED:20220111T203956Z
UID:10006647-1649761200-1649770200@edsd.org
SUMMARY:Clergy Renewal of Vows at St. Paul's Cathedral
DESCRIPTION:Clergy Renewal of Vows at St. Paul’s Cathedral\nEpiscopal clergy will worship together\, renew our ordination vows\, and bless holy oils at our diocesan cathedral\, where construction will be complete. They are eager to show the diocese their new space! After the service\, we will gather for lunch. Please be sure to register for this event. \nClick HERE to register!
URL:https://edsd.org/event/clergy-renewal-of-vows-at-st-pauls-cathedral/
LOCATION:St. Paul’s Cathedral\, 2728 Sixth Ave\, San Diego\, CA\, 92103\, United States
CATEGORIES:Event,Formation
ORGANIZER;CN="Keren Mondaca":MAILTO:kmondaca@edsd.org
GEO:32.7338658;-117.1598777
X-APPLE-STRUCTURED-LOCATION;VALUE=URI;X-ADDRESS=St. Paul’s Cathedral 2728 Sixth Ave San Diego CA 92103 United States;X-APPLE-RADIUS=500;X-TITLE=2728 Sixth Ave:geo:-117.1598777,32.7338658
END:VEVENT
BEGIN:VEVENT
DTSTART;TZID=America/Los_Angeles:20220202T110000
DTEND;TZID=America/Los_Angeles:20220202T133000
DTSTAMP:20260423T005106
CREATED:20220111T202314Z
LAST-MODIFIED:20220111T204807Z
UID:10006594-1643799600-1643808600@edsd.org
SUMMARY:Clericus at Good Samaritan Episcopal Church
DESCRIPTION:Clericus at Good Samaritan Episcopal Church\, San Diego\nWe will gather for fellowship\, Bible study\, and a presentation from Canon Jason Evans about this year’s Bishop’s Visitations\, which will take the form of Revivals. We will then enjoy lunch together. The week before the gathering\, our staff will assess pandemic conditions and determine whether we will be meeting in the parish hall or outdoors on the patio\, so please dress for the weather in case we meet outside. Please be sure to register for this event. \nClick HERE to register!
URL:https://edsd.org/event/clericus-at-good-samaritan-episcopal-church/
LOCATION:Good Samaritan Episcopal Church\, 4321 Eastgate Mall\, San Diego\, CA\, 92121\, United States
CATEGORIES:Event,Formation
ORGANIZER;CN="Keren Mondaca":MAILTO:kmondaca@edsd.org
GEO:32.877425;-117.213607
X-APPLE-STRUCTURED-LOCATION;VALUE=URI;X-ADDRESS=Good Samaritan Episcopal Church 4321 Eastgate Mall San Diego CA 92121 United States;X-APPLE-RADIUS=500;X-TITLE=4321 Eastgate Mall:geo:-117.213607,32.877425
END:VEVENT
BEGIN:VEVENT
DTSTART;TZID=America/Los_Angeles:20190630T170000
DTEND;TZID=America/Los_Angeles:20190630T180000
DTSTAMP:20260423T005106
CREATED:20190327T220437Z
LAST-MODIFIED:20210730T160351Z
UID:10006666-1561914000-1561917600@edsd.org
SUMMARY:Seating of the Bishop
DESCRIPTION:All are welcome to a festive Evensong to witness the seating of our fifth bishop\, the Rev. Canon Susan Brown Snook. Bishop-elect Susan will preach. The service will be live-streamed on the Facebook page of St. Paul’s Cathedral and on the cathedral website. Reception to follow.
URL:https://edsd.org/event/seating-of-the-bishop/
LOCATION:St. Paul’s Cathedral\, 2728 Sixth Ave\, San Diego\, CA\, 92103\, United States
CATEGORIES:Event,Ordination
ORGANIZER;CN="Keren Mondaca":MAILTO:kmondaca@edsd.org
GEO:32.7338658;-117.1598777
X-APPLE-STRUCTURED-LOCATION;VALUE=URI;X-ADDRESS=St. Paul’s Cathedral 2728 Sixth Ave San Diego CA 92103 United States;X-APPLE-RADIUS=500;X-TITLE=2728 Sixth Ave:geo:-117.1598777,32.7338658
END:VEVENT
BEGIN:VEVENT
DTSTART;TZID=America/Los_Angeles:20190614T110000
DTEND;TZID=America/Los_Angeles:20190614T130000
DTSTAMP:20260423T005106
CREATED:20190321T211526Z
LAST-MODIFIED:20210731T043614Z
UID:10006667-1560510000-1560517200@edsd.org
SUMMARY:Clergy Luncheon
DESCRIPTION:On the Friday before the consecration and ordination of our fifth bishop\, our clergy members will gather with our bishop-elect\, the Rev. Canon Susan Brown Snook. This opportunity for conversation and sharing about the larger Church also provides a time for the clergy to learn about the bishop-elect’s vision for the diocese. The conversation is followed by lunch.
URL:https://edsd.org/event/clergy-luncheon/
CATEGORIES:Communications,Event
ATTACH;FMTTYPE=image/png:https://edsd.org/wp-content/uploads/2019/04/Clergy-Luncheon-e1554764672714.png
ORGANIZER;CN="Keren Mondaca":MAILTO:kmondaca@edsd.org
END:VEVENT
BEGIN:VEVENT
DTSTART;TZID=America/Los_Angeles:20190518T100000
DTEND;TZID=America/Los_Angeles:20190518T140000
DTSTAMP:20260423T005106
CREATED:20190213T004740Z
LAST-MODIFIED:20210730T041017Z
UID:10006349-1558173600-1558188000@edsd.org
SUMMARY:Diaconal Ordinations
DESCRIPTION:Pending approvals\, the Rt. Rev. Katharine Jefferts Schori will ordain Chris Craig-Jones of St. Michael’s\, Carlsbad\, and Hannah Wilder\, of St. Paul’s Cathedral and St. Luke’s\, San Diego\, will be ordained to the diaconate. Festive reception to follow.
URL:https://edsd.org/event/diaconal-ordinations/
LOCATION:St. Paul’s Cathedral\, 2728 Sixth Ave\, San Diego\, CA\, 92103\, United States
CATEGORIES:Communications,Event,Formation,Ordination,School for Ministry
ATTACH;FMTTYPE=image/jpeg:https://edsd.org/wp-content/uploads/2019/02/chris-hannah-sm-3.jpg
ORGANIZER;CN="Keren Mondaca":MAILTO:kmondaca@edsd.org
GEO:32.7338658;-117.1598777
X-APPLE-STRUCTURED-LOCATION;VALUE=URI;X-ADDRESS=St. Paul’s Cathedral 2728 Sixth Ave San Diego CA 92103 United States;X-APPLE-RADIUS=500;X-TITLE=2728 Sixth Ave:geo:-117.1598777,32.7338658
END:VEVENT
BEGIN:VEVENT
DTSTART;TZID=America/Los_Angeles:20190421T080000
DTEND;TZID=America/Los_Angeles:20190421T120000
DTSTAMP:20260423T005106
CREATED:20190312T215326Z
LAST-MODIFIED:20210730T063256Z
UID:10006468-1555833600-1555848000@edsd.org
SUMMARY:Easter Sunday
DESCRIPTION:The Rt. Rev. Katharine Jefferts Schori\, assisting bishop\, will preach at the 8 a.m. service and the 10:30 a.m. Choral Eucharist at St. Paul’s Cathedral. This will be her last Easter with us as our assisting bishop during the episcopate transition.
URL:https://edsd.org/event/easter-sunday/
LOCATION:St. Paul’s Cathedral\, 2728 Sixth Ave\, San Diego\, CA\, 92103\, United States
CATEGORIES:Bishop's Visitation,Communications,Event
ATTACH;FMTTYPE=image/jpeg:https://edsd.org/wp-content/uploads/2019/03/kjs-easter-2018.jpg
ORGANIZER;CN="Keren Mondaca":MAILTO:kmondaca@edsd.org
GEO:32.7338658;-117.1598777
X-APPLE-STRUCTURED-LOCATION;VALUE=URI;X-ADDRESS=St. Paul’s Cathedral 2728 Sixth Ave San Diego CA 92103 United States;X-APPLE-RADIUS=500;X-TITLE=2728 Sixth Ave:geo:-117.1598777,32.7338658
END:VEVENT
BEGIN:VEVENT
DTSTART;TZID=America/Los_Angeles:20190420T193000
DTEND;TZID=America/Los_Angeles:20190420T213000
DTSTAMP:20260423T005106
CREATED:20190312T215915Z
LAST-MODIFIED:20210731T045024Z
UID:10006467-1555788600-1555795800@edsd.org
SUMMARY:Easter Vigil
DESCRIPTION:The Rt. Rev. Katharine Jefferts Schori will preach at the Easter Vigil at St. Paul’s Cathedral at 7:30 p.m. This will be her last Easter Vigil with us as our assisting bishop. Traditionally\, baptisms\, confirmations\, receptions and reaffirmations take place at this special service.
URL:https://edsd.org/event/easter-vigil/
LOCATION:St. Paul’s Cathedral\, 2728 Sixth Ave\, San Diego\, CA\, 92103\, United States
CATEGORIES:Bishop's Visitation,Communications,Event
ATTACH;FMTTYPE=image/jpeg:https://edsd.org/wp-content/uploads/2019/03/kjs-easter-2018.jpg
ORGANIZER;CN="Keren Mondaca":MAILTO:kmondaca@edsd.org
GEO:32.7338658;-117.1598777
X-APPLE-STRUCTURED-LOCATION;VALUE=URI;X-ADDRESS=St. Paul’s Cathedral 2728 Sixth Ave San Diego CA 92103 United States;X-APPLE-RADIUS=500;X-TITLE=2728 Sixth Ave:geo:-117.1598777,32.7338658
END:VEVENT
BEGIN:VEVENT
DTSTART;TZID=America/Los_Angeles:20190202T080000
DTEND;TZID=America/Los_Angeles:20190202T163000
DTSTAMP:20260423T005106
CREATED:20180504T203221Z
LAST-MODIFIED:20210730T212657Z
UID:10006409-1549094400-1549125000@edsd.org
SUMMARY:Electing Convention for the Fifth Bishop of San Diego
DESCRIPTION:The special convention to elect our fifth bishop will take place on Saturday\, February 2 at St. Bartholomew’s\, 16275 Pomerado Road\, Poway. On the day of the convention\, check-in opens at 8 a.m. and the Eucharist and business sessions begin at 9 a.m. Please be prompt. \nAttention Certified Delegates: There is no cost to attend the special electing convention. Pre-registration is required for planning purposes. Lunch is included. \nPlease Note: Space limitations in the St. Bartholomew’s sanctuary mean that seating for visitors is exceedingly limited. If you would like to attend as a visitor\, please register early. We reserve the right to limit the number of visitors because of space considerations. Thank you for your understanding. \n  \nIf you have any questions\, please contact Hannah Wilder: 619-200-5036 (mobile; feel free to text)
URL:https://edsd.org/event/electing-convention-for-the-5th-bishop-of-san-diego/
LOCATION:St. Bartholomew’s Episcopal Church\, 16275 Pomerado Road\, Poway\, CA\, 92064\, United States
CATEGORIES:Communications,Event
ATTACH;FMTTYPE=image/jpeg:https://edsd.org/wp-content/uploads/2019/01/A-EDSD-SocialMedia-electing-conventionHero-banner.jpg
ORGANIZER;CN="Keren Mondaca":MAILTO:kmondaca@edsd.org
GEO:33.0083482;-117.0558861
X-APPLE-STRUCTURED-LOCATION;VALUE=URI;X-ADDRESS=St. Bartholomew’s Episcopal Church 16275 Pomerado Road Poway CA 92064 United States;X-APPLE-RADIUS=500;X-TITLE=16275 Pomerado Road:geo:-117.0558861,33.0083482
END:VEVENT
END:VCALENDAR