BEGIN:VCALENDAR
VERSION:2.0
PRODID:-//Episcopal Diocese of San Diego - ECPv6.15.18//NONSGML v1.0//EN
CALSCALE:GREGORIAN
METHOD:PUBLISH
X-WR-CALNAME:Episcopal Diocese of San Diego
X-ORIGINAL-URL:https://edsd.org
X-WR-CALDESC:Events for Episcopal Diocese of San Diego
REFRESH-INTERVAL;VALUE=DURATION:PT1H
X-Robots-Tag:noindex
X-PUBLISHED-TTL:PT1H
BEGIN:VTIMEZONE
TZID:America/Los_Angeles
BEGIN:DAYLIGHT
TZOFFSETFROM:-0800
TZOFFSETTO:-0700
TZNAME:PDT
DTSTART:20170312T100000
END:DAYLIGHT
BEGIN:STANDARD
TZOFFSETFROM:-0700
TZOFFSETTO:-0800
TZNAME:PST
DTSTART:20171105T090000
END:STANDARD
BEGIN:DAYLIGHT
TZOFFSETFROM:-0800
TZOFFSETTO:-0700
TZNAME:PDT
DTSTART:20180311T100000
END:DAYLIGHT
BEGIN:STANDARD
TZOFFSETFROM:-0700
TZOFFSETTO:-0800
TZNAME:PST
DTSTART:20181104T090000
END:STANDARD
BEGIN:DAYLIGHT
TZOFFSETFROM:-0800
TZOFFSETTO:-0700
TZNAME:PDT
DTSTART:20190310T100000
END:DAYLIGHT
BEGIN:STANDARD
TZOFFSETFROM:-0700
TZOFFSETTO:-0800
TZNAME:PST
DTSTART:20191103T090000
END:STANDARD
END:VTIMEZONE
BEGIN:VEVENT
DTSTART;TZID=America/Los_Angeles:20180915T110000
DTEND;TZID=America/Los_Angeles:20180915T190000
DTSTAMP:20260422T151230
CREATED:20180202T000628Z
LAST-MODIFIED:20210730T035219Z
UID:10006375-1537009200-1537038000@edsd.org
SUMMARY:Latino/Hispanic Heritage Celebration
DESCRIPTION:Independence Day for many of our culture comes in September: Chile\, Costa Rica\, El Savador\, Guatemala\, Honduras\, Mexico and Nicaragua. Add to that our sisters and brothers in Columbia\, Cuba\, Peru and many more. Come celebrate with us! \nCuisine\, Games\, La Loteria\,\nBounce House\, Aztec Dancers\,\nMariachi\, Art Displays\, Carousels\, DJ \nCongregations wishing to host a food booth\,\nplease contact Joe Gamboa: 619-933-1346\, gamboa2@cox.net \n  \nCocina\, Juegos\, La Loteria\nBounce House\, bailarines aztecas\,\nMariachi\, exhibiciones de arte\, carruseles\, DJ \nCongregaciones que desean albergar un puesto de comida\,\npor favor póngase en contacto con Joe Gamboa: 619-933-1346\, gamboa2@cox.net
URL:https://edsd.org/event/latino-hispanic-heritage-day/
LOCATION:St. Philip’s\, Lemon Grove\, 2660 Hardy Drive\, Lemon Grove\, CA\, 91945\, United States
CATEGORIES:Communications,Event,Outreach
ATTACH;FMTTYPE=image/png:https://edsd.org/wp-content/uploads/2018/02/Latino-Hispanic-Heritage-2018b.png
ORGANIZER;CN="Joseph Gamboa":MAILTO:gamboa2@cox.net
GEO:32.7340269;-117.0284882
X-APPLE-STRUCTURED-LOCATION;VALUE=URI;X-ADDRESS=St. Philip’s Lemon Grove 2660 Hardy Drive Lemon Grove CA 91945 United States;X-APPLE-RADIUS=500;X-TITLE=2660 Hardy Drive:geo:-117.0284882,32.7340269
END:VEVENT
END:VCALENDAR