BEGIN:VCALENDAR
VERSION:2.0
PRODID:-//Episcopal Diocese of San Diego - ECPv6.15.18//NONSGML v1.0//EN
CALSCALE:GREGORIAN
METHOD:PUBLISH
X-ORIGINAL-URL:https://edsd.org
X-WR-CALDESC:Events for Episcopal Diocese of San Diego
REFRESH-INTERVAL;VALUE=DURATION:PT1H
X-Robots-Tag:noindex
X-PUBLISHED-TTL:PT1H
BEGIN:VTIMEZONE
TZID:America/Los_Angeles
BEGIN:DAYLIGHT
TZOFFSETFROM:-0800
TZOFFSETTO:-0700
TZNAME:PDT
DTSTART:20170312T100000
END:DAYLIGHT
BEGIN:STANDARD
TZOFFSETFROM:-0700
TZOFFSETTO:-0800
TZNAME:PST
DTSTART:20171105T090000
END:STANDARD
BEGIN:DAYLIGHT
TZOFFSETFROM:-0800
TZOFFSETTO:-0700
TZNAME:PDT
DTSTART:20180311T100000
END:DAYLIGHT
BEGIN:STANDARD
TZOFFSETFROM:-0700
TZOFFSETTO:-0800
TZNAME:PST
DTSTART:20181104T090000
END:STANDARD
BEGIN:DAYLIGHT
TZOFFSETFROM:-0800
TZOFFSETTO:-0700
TZNAME:PDT
DTSTART:20190310T100000
END:DAYLIGHT
BEGIN:STANDARD
TZOFFSETFROM:-0700
TZOFFSETTO:-0800
TZNAME:PST
DTSTART:20191103T090000
END:STANDARD
BEGIN:DAYLIGHT
TZOFFSETFROM:-0800
TZOFFSETTO:-0700
TZNAME:PDT
DTSTART:20200308T100000
END:DAYLIGHT
BEGIN:STANDARD
TZOFFSETFROM:-0700
TZOFFSETTO:-0800
TZNAME:PST
DTSTART:20201101T090000
END:STANDARD
BEGIN:DAYLIGHT
TZOFFSETFROM:-0800
TZOFFSETTO:-0700
TZNAME:PDT
DTSTART:20210314T100000
END:DAYLIGHT
BEGIN:STANDARD
TZOFFSETFROM:-0700
TZOFFSETTO:-0800
TZNAME:PST
DTSTART:20211107T090000
END:STANDARD
BEGIN:DAYLIGHT
TZOFFSETFROM:-0800
TZOFFSETTO:-0700
TZNAME:PDT
DTSTART:20220313T100000
END:DAYLIGHT
BEGIN:STANDARD
TZOFFSETFROM:-0700
TZOFFSETTO:-0800
TZNAME:PST
DTSTART:20221106T090000
END:STANDARD
BEGIN:DAYLIGHT
TZOFFSETFROM:-0800
TZOFFSETTO:-0700
TZNAME:PDT
DTSTART:20230312T100000
END:DAYLIGHT
BEGIN:STANDARD
TZOFFSETFROM:-0700
TZOFFSETTO:-0800
TZNAME:PST
DTSTART:20231105T090000
END:STANDARD
BEGIN:DAYLIGHT
TZOFFSETFROM:-0800
TZOFFSETTO:-0700
TZNAME:PDT
DTSTART:20240310T100000
END:DAYLIGHT
BEGIN:STANDARD
TZOFFSETFROM:-0700
TZOFFSETTO:-0800
TZNAME:PST
DTSTART:20241103T090000
END:STANDARD
BEGIN:DAYLIGHT
TZOFFSETFROM:-0800
TZOFFSETTO:-0700
TZNAME:PDT
DTSTART:20250309T100000
END:DAYLIGHT
BEGIN:STANDARD
TZOFFSETFROM:-0700
TZOFFSETTO:-0800
TZNAME:PST
DTSTART:20251102T090000
END:STANDARD
BEGIN:DAYLIGHT
TZOFFSETFROM:-0800
TZOFFSETTO:-0700
TZNAME:PDT
DTSTART:20260308T100000
END:DAYLIGHT
BEGIN:STANDARD
TZOFFSETFROM:-0700
TZOFFSETTO:-0800
TZNAME:PST
DTSTART:20261101T090000
END:STANDARD
END:VTIMEZONE
BEGIN:VEVENT
DTSTART;TZID=America/Los_Angeles:20251015T160000
DTEND;TZID=America/Los_Angeles:20251015T170000
DTSTAMP:20260422T042430
CREATED:20250915T195827Z
LAST-MODIFIED:20250915T200126Z
UID:10010984-1760544000-1760547600@edsd.org
SUMMARY:2026 Employee Information for Annual Enrolment
DESCRIPTION:Annual enrollment for benefits is from October 15 through November 7.  To learn more about your benefits\, employees are encouraged to join us on October 15 at 4 pm via Zoom to discuss the benefits plans that will be offered in 2026. All employees are invited to this webinar\, where we review your health plan options and discuss changes to the plan since last year. \nImportant:  The Anthem PPO 90 and the Kaiser EPO High will not be offered in 2026.  Join this session to find out about your other options. \nPlease register below.\nRegister \n 
URL:https://edsd.org/event/2026-employee-information-for-annual-enrolment/
LOCATION:Zoom
ORGANIZER;CN="Jeff Martinhauk":MAILTO:jmartinhauk@edsd.org
END:VEVENT
BEGIN:VEVENT
DTSTART;TZID=America/Los_Angeles:20251007T160000
DTEND;TZID=America/Los_Angeles:20251007T170000
DTSTAMP:20260422T042430
CREATED:20250915T195358Z
LAST-MODIFIED:20250929T180127Z
UID:10010983-1759852800-1759856400@edsd.org
SUMMARY:2026 Annual Enrollment Information for Administrators
DESCRIPTION:Annual enrollment season is right around the corner!  Join us in this session for benefit administrators to prepare\, learn about what your employees need\, and share with other administrators. To learn more about your benefits\, administrators are encouraged to join us on Tuesday\, October 7 at 4 pm via Zoom to discuss the benefits plans that will be offered in 2026. \nImportant:  The Anthem PPO 90 and the Kaiser EPO High will not be offered in 2026.  Join this session to find out about your other options. \nPlease register below.\nREGISTER
URL:https://edsd.org/event/2026-annual-enrollment-information-for-administrators/
LOCATION:Zoom
ORGANIZER;CN="Jeff Martinhauk":MAILTO:jmartinhauk@edsd.org
END:VEVENT
BEGIN:VEVENT
DTSTART;TZID=America/Los_Angeles:20250206T160000
DTEND;TZID=America/Los_Angeles:20250206T170000
DTSTAMP:20260422T042430
CREATED:20241206T234837Z
LAST-MODIFIED:20241213T194807Z
UID:10010906-1738857600-1738861200@edsd.org
SUMMARY:Parochial Report Training - Feb 2025
DESCRIPTION:2024 Parochial Report – The parochial report filing season opens in early January\, 2025. The 2024 parochial report has been simplified by the General Convention Office. Join diocesan treasurer Jeff Martinhauk and Finance Committee Member Terry Farrelly in this review of changes to the report\, including changes in the way your congregational assessment (Common Life Share) is calculated. (The total amount of CLS owed should not change\, but the new report requires a new formula.) Note that parochial reports must be submitted by March 1\, 2025; the General Convention office tells us that the parochial report online portal will be frozen at that time\, and any changes after 3/1/25 may only be submitted by diocesan administrators. Don’t be late! Join us on February 6\, 2025 at 4:00 pm and stay ahead of the game. \nRegister Here\n 
URL:https://edsd.org/event/parochial-report-training/
LOCATION:Zoom
CATEGORIES:Training
ORGANIZER;CN="Jeff Martinhauk":MAILTO:jmartinhauk@edsd.org
END:VEVENT
BEGIN:VEVENT
DTSTART;TZID=America/Los_Angeles:20250115T160000
DTEND;TZID=America/Los_Angeles:20250115T170000
DTSTAMP:20260422T042430
CREATED:20241213T194636Z
LAST-MODIFIED:20241213T194736Z
UID:10010912-1736956800-1736960400@edsd.org
SUMMARY:Parochial Report Training - Jan 2025
DESCRIPTION:2024 Parochial Report – The parochial report filing season opens in early January\, 2025. The 2024 parochial report has been simplified by the General Convention Office. Join diocesan treasurer Jeff Martinhauk and Finance Committee Member Terry Farrelly in this review of changes to the report\, including changes in the way your congregational assessment (Common Life Share) is calculated. (The total amount of CLS owed should not change\, but the new report requires a new formula.) Note that parochial reports must be submitted by March 1\, 2025; the General Convention office tells us that the parochial report online portal will be frozen at that time\, and any changes after 3/1/25 may only be submitted by diocesan administrators. Don’t be late! Join us on January 15\, 2025 at 4:00 pm and stay ahead of the game. \nRegister Here\n 
URL:https://edsd.org/event/parochial-report-training-2/
LOCATION:Zoom
CATEGORIES:Training
ORGANIZER;CN="Jeff Martinhauk":MAILTO:jmartinhauk@edsd.org
END:VEVENT
BEGIN:VEVENT
DTSTART;TZID=America/Los_Angeles:20241015T153000
DTEND;TZID=America/Los_Angeles:20241015T163000
DTSTAMP:20260422T042430
CREATED:20240906T183521Z
LAST-MODIFIED:20240906T184838Z
UID:10010868-1729006200-1729009800@edsd.org
SUMMARY:Annual Enrollment Employee Education Zoom Call
DESCRIPTION:EMPLOYEE BENEFITS – Annual enrollment for 2025 for active employees is from October 16 through November 15.  Annual enrollment for retired clergy is October 23 through November 22.  We are offering a new plan in 2025 as well as all other plans offered in 2024.  In 2025\, Cigna and Anthem insurance cards and member services will be offered through Quantum health (while benefits will largely remain the same as in 2024).  For retired clergy\, Cariloop is a new benefit that will help bridge the gap for family members/caretakers caring for their loved ones. \nTo learn more about your benefits\, employees are encouraged to join us on October 15 at 3:30 via Zoom to discuss the benefits plans offered in 2025. Our CPG relationship manager Toni Marie Sutliff will be present an overview of our diocesan benefits.\nTo receive the Zoom link\, please register below.\nRegister Here
URL:https://edsd.org/event/annual-enrollment-employee-education-zoom-call/
LOCATION:Zoom
ATTACH;FMTTYPE=image/png:https://edsd.org/wp-content/uploads/2024/09/Employee-Benefits.png
ORGANIZER;CN="Jeff Martinhauk":MAILTO:jmartinhauk@edsd.org
END:VEVENT
BEGIN:VEVENT
DTSTART;TZID=America/Los_Angeles:20231025T140000
DTEND;TZID=America/Los_Angeles:20231025T150000
DTSTAMP:20260422T042430
CREATED:20230919T193406Z
LAST-MODIFIED:20230919T194646Z
UID:10010432-1698242400-1698246000@edsd.org
SUMMARY:Benefit Education Session - Oct 25\, 2023
DESCRIPTION:New Dental plans in 2024! \nFor employees in the diocese:\nAre you maximizing your employment benefits? Join us for the annual benefit information session for EDSD with our CPG representative\, Toni Marie Sutliff. Our dental plans are all new in 2024 with better benefits at no additional cost. Join us for this session where Toni Marie will review all of the plans available\, including the new dental plans and existing medical plans\, and answer any benefit related questions you might have. We will meet via Zoom on 10/25/23 at 2:00. \nA prize will be given to one lucky participant who attends in real time! This session is for all clergy and lay employees in the diocese who work over 1\,000 hours per year. \nRSVP
URL:https://edsd.org/event/benefit-education-session-oct-15-2023/
LOCATION:Zoom
ORGANIZER;CN="Jeff Martinhauk":MAILTO:jmartinhauk@edsd.org
END:VEVENT
BEGIN:VEVENT
DTSTART;TZID=America/Los_Angeles:20221013T180000
DTEND;TZID=America/Los_Angeles:20221013T200000
DTSTAMP:20260422T042430
CREATED:20221011T171814Z
LAST-MODIFIED:20221011T172650Z
UID:10010263-1665684000-1665691200@edsd.org
SUMMARY:Treasurer/Administration Roundtable
DESCRIPTION:Please join us for a conversation with your fellow church treasurers about benefits\, compensation\, and whatever else may be on your mind at a Treasurer’s Roundtable on October 13 at 6:00 pm. All interested parties are welcome—you do not need to be a treasurer. Register Below.
URL:https://edsd.org/event/treasurer-administration-roundtable/
LOCATION:Zoom
CATEGORIES:Formation,Training
ATTACH;FMTTYPE=image/png:https://edsd.org/wp-content/uploads/2021/07/Logo-Transparency-black.png
ORGANIZER;CN="Jeff Martinhauk":MAILTO:jmartinhauk@edsd.org
END:VEVENT
BEGIN:VEVENT
DTSTART;TZID=America/Los_Angeles:20180714T110000
DTEND;TZID=America/Los_Angeles:20180714T150000
DTSTAMP:20260422T042430
CREATED:20180510T232036Z
LAST-MODIFIED:20210731T052117Z
UID:10006407-1531566000-1531580400@edsd.org
SUMMARY:San Diego PRIDE
DESCRIPTION:Join the street Eucharist and the contingent of Episcopalians who march in the Pride Parade. We usually have a trolley and hand out lots of crowd-pleasing give-aways. Last year\, we were in the front of the whole parade as the largest faith-based participant. It’s followed by a barbecue and dance party at the Cathedral. \nChurches that would like to participate should contact the Rev. Canon Jeff Martinhauk by May 25 to be a part of the planning.
URL:https://edsd.org/event/san-diego-pride/
LOCATION:St. Paul’s Cathedral\, 2728 Sixth Ave\, San Diego\, CA\, 92103\, United States
CATEGORIES:Event,Outreach
ORGANIZER;CN="Jeff Martinhauk":MAILTO:jmartinhauk@edsd.org
GEO:32.7338658;-117.1598777
X-APPLE-STRUCTURED-LOCATION;VALUE=URI;X-ADDRESS=St. Paul’s Cathedral 2728 Sixth Ave San Diego CA 92103 United States;X-APPLE-RADIUS=500;X-TITLE=2728 Sixth Ave:geo:-117.1598777,32.7338658
END:VEVENT
BEGIN:VEVENT
DTSTART;TZID=America/Los_Angeles:20180711T200000
DTEND;TZID=America/Los_Angeles:20180711T203000
DTSTAMP:20260422T042430
CREATED:20180510T231747Z
LAST-MODIFIED:20210731T031321Z
UID:10006408-1531339200-1531341000@edsd.org
SUMMARY:Light up the Cathedral for PRIDE
DESCRIPTION:Join the Cathedral community for the lighting of the exterior and a special guest (to be announced)
URL:https://edsd.org/event/light-up-the-cathedral-for-pride/
LOCATION:St. Paul’s Cathedral\, 2728 Sixth Ave\, San Diego\, CA\, 92103\, United States
CATEGORIES:Event,Formation,Outreach
ORGANIZER;CN="Jeff Martinhauk":MAILTO:jmartinhauk@edsd.org
GEO:32.7338658;-117.1598777
X-APPLE-STRUCTURED-LOCATION;VALUE=URI;X-ADDRESS=St. Paul’s Cathedral 2728 Sixth Ave San Diego CA 92103 United States;X-APPLE-RADIUS=500;X-TITLE=2728 Sixth Ave:geo:-117.1598777,32.7338658
END:VEVENT
END:VCALENDAR