BEGIN:VCALENDAR
VERSION:2.0
PRODID:-//Episcopal Diocese of San Diego - ECPv6.15.18//NONSGML v1.0//EN
CALSCALE:GREGORIAN
METHOD:PUBLISH
X-WR-CALNAME:Episcopal Diocese of San Diego
X-ORIGINAL-URL:https://edsd.org
X-WR-CALDESC:Events for Episcopal Diocese of San Diego
REFRESH-INTERVAL;VALUE=DURATION:PT1H
X-Robots-Tag:noindex
X-PUBLISHED-TTL:PT1H
BEGIN:VTIMEZONE
TZID:America/Los_Angeles
BEGIN:DAYLIGHT
TZOFFSETFROM:-0800
TZOFFSETTO:-0700
TZNAME:PDT
DTSTART:20210314T100000
END:DAYLIGHT
BEGIN:STANDARD
TZOFFSETFROM:-0700
TZOFFSETTO:-0800
TZNAME:PST
DTSTART:20211107T090000
END:STANDARD
BEGIN:DAYLIGHT
TZOFFSETFROM:-0800
TZOFFSETTO:-0700
TZNAME:PDT
DTSTART:20220313T100000
END:DAYLIGHT
BEGIN:STANDARD
TZOFFSETFROM:-0700
TZOFFSETTO:-0800
TZNAME:PST
DTSTART:20221106T090000
END:STANDARD
BEGIN:DAYLIGHT
TZOFFSETFROM:-0800
TZOFFSETTO:-0700
TZNAME:PDT
DTSTART:20230312T100000
END:DAYLIGHT
BEGIN:STANDARD
TZOFFSETFROM:-0700
TZOFFSETTO:-0800
TZNAME:PST
DTSTART:20231105T090000
END:STANDARD
END:VTIMEZONE
BEGIN:VEVENT
DTSTART;TZID=America/Los_Angeles:20221103T100000
DTEND;TZID=America/Los_Angeles:20221103T113000
DTSTAMP:20260422T175638
CREATED:20221024T230457Z
LAST-MODIFIED:20221024T230457Z
UID:10010256-1667469600-1667475000@edsd.org
SUMMARY:How to Increase Members' Generosity
DESCRIPTION:TENS has partnered with Vanco to help congregations inspire generosity among their members and simplify the donation and reconciliation process. Join the webinar on Thursday\, November 3 at 10 am. We will cover an online giving platform that inspires generosity\, solutions to keep members engaged\, and management solutions that reduce time and allocation errors. Save your spot by registering below! \nREGISTER
URL:https://edsd.org/event/how-to-increase-members-generosity/
LOCATION:Zoom
ATTACH;FMTTYPE=image/png:https://edsd.org/wp-content/uploads/2022/10/10242022.png
ORGANIZER;CN="Jason Evans":MAILTO:jevans@edsd.org
END:VEVENT
END:VCALENDAR