BEGIN:VCALENDAR
VERSION:2.0
PRODID:-//Episcopal Diocese of San Diego - ECPv6.15.18//NONSGML v1.0//EN
CALSCALE:GREGORIAN
METHOD:PUBLISH
X-ORIGINAL-URL:https://edsd.org
X-WR-CALDESC:Events for Episcopal Diocese of San Diego
REFRESH-INTERVAL;VALUE=DURATION:PT1H
X-Robots-Tag:noindex
X-PUBLISHED-TTL:PT1H
BEGIN:VTIMEZONE
TZID:America/Los_Angeles
BEGIN:DAYLIGHT
TZOFFSETFROM:-0800
TZOFFSETTO:-0700
TZNAME:PDT
DTSTART:20170312T100000
END:DAYLIGHT
BEGIN:STANDARD
TZOFFSETFROM:-0700
TZOFFSETTO:-0800
TZNAME:PST
DTSTART:20171105T090000
END:STANDARD
BEGIN:DAYLIGHT
TZOFFSETFROM:-0800
TZOFFSETTO:-0700
TZNAME:PDT
DTSTART:20180311T100000
END:DAYLIGHT
BEGIN:STANDARD
TZOFFSETFROM:-0700
TZOFFSETTO:-0800
TZNAME:PST
DTSTART:20181104T090000
END:STANDARD
BEGIN:DAYLIGHT
TZOFFSETFROM:-0800
TZOFFSETTO:-0700
TZNAME:PDT
DTSTART:20190310T100000
END:DAYLIGHT
BEGIN:STANDARD
TZOFFSETFROM:-0700
TZOFFSETTO:-0800
TZNAME:PST
DTSTART:20191103T090000
END:STANDARD
BEGIN:DAYLIGHT
TZOFFSETFROM:-0800
TZOFFSETTO:-0700
TZNAME:PDT
DTSTART:20200308T100000
END:DAYLIGHT
BEGIN:STANDARD
TZOFFSETFROM:-0700
TZOFFSETTO:-0800
TZNAME:PST
DTSTART:20201101T090000
END:STANDARD
END:VTIMEZONE
BEGIN:VEVENT
DTSTART;TZID=America/Los_Angeles:20190921T100000
DTEND;TZID=America/Los_Angeles:20190921T140000
DTSTAMP:20260423T132258
CREATED:20190329T213709Z
LAST-MODIFIED:20210730T095328Z
UID:10006663-1569060000-1569074400@edsd.org
SUMMARY:Multicultural Children's Fall Festival
DESCRIPTION:Episcopal Asiamerica Ministry in San Diego will be holding their 3rd diocesan Multicultural Children’s Fall Festival this September 21 at 10 am. Bring your kids and grandkids and enjoy a Lion Dance\, Aztec and Filipino dancers\, the St. Luke’s choir\, and Japanese Taiko drumming. Participate in origami folding\, Indian chalk-painting\, crafts & games. Taste food from East Africa\, Greece\, the Philippines and Vietnam. Suggested donation: $10 per adult\, $5 per child\, or $25 per family. St. David’s\, 5050 Milton St.\, San Diego\, 92110. \nFor more information please contact Hanh Tran.
URL:https://edsd.org/event/multicultural-childrens-fall-festival/
LOCATION:St. David’s Episcopal Church\, 5050 Milton St\, San Diego\, CA\, 92110\, United States
CATEGORIES:Event,Outreach,Youth
ATTACH;FMTTYPE=image/jpeg:https://edsd.org/wp-content/uploads/2019/03/2019-multicultural-fall-festival.jpg
GEO:32.783289;-117.189961
X-APPLE-STRUCTURED-LOCATION;VALUE=URI;X-ADDRESS=St. David’s Episcopal Church 5050 Milton St San Diego CA 92110 United States;X-APPLE-RADIUS=500;X-TITLE=5050 Milton St:geo:-117.189961,32.783289
END:VEVENT
BEGIN:VEVENT
DTSTART;TZID=America/Los_Angeles:20181013T110000
DTEND;TZID=America/Los_Angeles:20181013T140000
DTSTAMP:20260423T132258
CREATED:20180629T182505Z
LAST-MODIFIED:20210730T165855Z
UID:10006444-1539428400-1539439200@edsd.org
SUMMARY:Multicultural Children's Festival
DESCRIPTION:Bring your children\, grandchildren and friends to Episcopal Asiamerica Ministry’s event\, the Multicultural Fall Children’s Festival. Enjoy a lion dance\, music by the St. Luke’s band and choir\, the Matrida Umoja Band\, Filipino Igorot dance\, children’s programs and an international lunch. $10 adults; $5 children. \nFor additional information contact Hanh Tran at quevn614@gmail.com.
URL:https://edsd.org/event/multicultural-childrens-festival/
LOCATION:Good Samaritan Episcopal Church\, 4321 Eastgate Mall\, San Diego\, CA\, 92121\, United States
CATEGORIES:Communications,Event,Youth
GEO:32.877425;-117.213607
X-APPLE-STRUCTURED-LOCATION;VALUE=URI;X-ADDRESS=Good Samaritan Episcopal Church 4321 Eastgate Mall San Diego CA 92121 United States;X-APPLE-RADIUS=500;X-TITLE=4321 Eastgate Mall:geo:-117.213607,32.877425
END:VEVENT
END:VCALENDAR