BEGIN:VCALENDAR
VERSION:2.0
PRODID:-//Episcopal Diocese of San Diego - ECPv6.15.18//NONSGML v1.0//EN
CALSCALE:GREGORIAN
METHOD:PUBLISH
X-WR-CALNAME:Episcopal Diocese of San Diego
X-ORIGINAL-URL:https://edsd.org
X-WR-CALDESC:Events for Episcopal Diocese of San Diego
REFRESH-INTERVAL;VALUE=DURATION:PT1H
X-Robots-Tag:noindex
X-PUBLISHED-TTL:PT1H
BEGIN:VTIMEZONE
TZID:America/Los_Angeles
BEGIN:DAYLIGHT
TZOFFSETFROM:-0800
TZOFFSETTO:-0700
TZNAME:PDT
DTSTART:20220313T100000
END:DAYLIGHT
BEGIN:STANDARD
TZOFFSETFROM:-0700
TZOFFSETTO:-0800
TZNAME:PST
DTSTART:20221106T090000
END:STANDARD
BEGIN:DAYLIGHT
TZOFFSETFROM:-0800
TZOFFSETTO:-0700
TZNAME:PDT
DTSTART:20230312T100000
END:DAYLIGHT
BEGIN:STANDARD
TZOFFSETFROM:-0700
TZOFFSETTO:-0800
TZNAME:PST
DTSTART:20231105T090000
END:STANDARD
BEGIN:DAYLIGHT
TZOFFSETFROM:-0800
TZOFFSETTO:-0700
TZNAME:PDT
DTSTART:20240310T100000
END:DAYLIGHT
BEGIN:STANDARD
TZOFFSETFROM:-0700
TZOFFSETTO:-0800
TZNAME:PST
DTSTART:20241103T090000
END:STANDARD
BEGIN:DAYLIGHT
TZOFFSETFROM:-0800
TZOFFSETTO:-0700
TZNAME:PDT
DTSTART:20250309T100000
END:DAYLIGHT
BEGIN:STANDARD
TZOFFSETFROM:-0700
TZOFFSETTO:-0800
TZNAME:PST
DTSTART:20251102T090000
END:STANDARD
BEGIN:DAYLIGHT
TZOFFSETFROM:-0800
TZOFFSETTO:-0700
TZNAME:PDT
DTSTART:20260308T100000
END:DAYLIGHT
BEGIN:STANDARD
TZOFFSETFROM:-0700
TZOFFSETTO:-0800
TZNAME:PST
DTSTART:20261101T090000
END:STANDARD
END:VTIMEZONE
BEGIN:VEVENT
DTSTART;TZID=America/Los_Angeles:20250924T140000
DTEND;TZID=America/Los_Angeles:20250928T110000
DTSTAMP:20260422T101132
CREATED:20250811T221551Z
LAST-MODIFIED:20250811T221920Z
UID:10010968-1758722400-1759057200@edsd.org
SUMMARY:Clergy Conference 2025
DESCRIPTION:We look forward to gathering September 24-26 for a time of rest\, renewal\, and reconnection in the company of fellow clergy from across the Episcopal Diocese of San Diego. \nThis year’s conference will feature the Rt. Rev. Robert Wright\, Bishop of Atlanta\, as well as opportunities for worship\, fellowship\, and reflection. Bishop Wright will help us understand how to preach and lead congregations in times of division and conflict in the wider world. \nWe encourage you to register soon—single rooms are available on a first-come\, first-served basis. \n Register Today!
URL:https://edsd.org/event/clergy-conference-2025/
LOCATION:Vina de Lestonnac Retreat Center\, 39300 De Portola Rd\, Temecula\, CA\, 92592\, United States
ATTACH;FMTTYPE=image/png:https://edsd.org/wp-content/uploads/2018/08/Clergy-Conference-2018-home-banner.png
ORGANIZER;CN="Gwynn Lynch":MAILTO:glynch@edsd.org
GEO:33.5333898;-117.0167064
X-APPLE-STRUCTURED-LOCATION;VALUE=URI;X-ADDRESS=Vina de Lestonnac Retreat Center 39300 De Portola Rd Temecula CA 92592 United States;X-APPLE-RADIUS=500;X-TITLE=39300 De Portola Rd:geo:-117.0167064,33.5333898
END:VEVENT
BEGIN:VEVENT
DTSTART;TZID=America/Los_Angeles:20240420T100000
DTEND;TZID=America/Los_Angeles:20240420T140000
DTSTAMP:20260422T101132
CREATED:20240319T211129Z
LAST-MODIFIED:20240319T211835Z
UID:10010474-1713607200-1713621600@edsd.org
SUMMARY:Governance Best Practices
DESCRIPTION:Join Canon Gwynn Lynch and Canon Jeff Martinhauk to learn more about the ABCs of church governance. The day is designed for vestry/Bishop’s committee members\, wardens\, and treasurers.  The workshops will include meeting facilitation skills\, discussion of accounting software packages\, and the upcoming changes to the parochial report. There will also be an opportunity for affinity groups to discuss common themes. \nWhen: April 20\, 2024   10:00 a.m. to 2:00 p.m.\nWhere: St. Thomas of Canterbury\, Temecula \nLunch will be served. \nRegister Here
URL:https://edsd.org/event/governance-best-practices/
LOCATION:St. Thomas of Canterbury\, 44651 Avenida de Missiones\, Temecula\, CA\, 92592\, United States
CATEGORIES:Formation,Training
ATTACH;FMTTYPE=image/jpeg:https://edsd.org/wp-content/uploads/2024/03/governance-2.jpg
ORGANIZER;CN="Gwynn Lynch":MAILTO:glynch@edsd.org
GEO:33.4752128;-117.1115165
X-APPLE-STRUCTURED-LOCATION;VALUE=URI;X-ADDRESS=St. Thomas of Canterbury 44651 Avenida de Missiones Temecula CA 92592 United States;X-APPLE-RADIUS=500;X-TITLE=44651 Avenida de Missiones:geo:-117.1115165,33.4752128
END:VEVENT
BEGIN:VEVENT
DTSTART;TZID=America/Los_Angeles:20230429T090000
DTEND;TZID=America/Los_Angeles:20230429T120000
DTSTAMP:20260422T101132
CREATED:20230406T222931Z
LAST-MODIFIED:20230406T223259Z
UID:10010313-1682758800-1682769600@edsd.org
SUMMARY:Congregational Governance Roundtable
DESCRIPTION:Congregational Governance Basics Roundtable – April 29\, 2023\, 9:00 a.m. to noon\, Zoom \nVestries\, Bishop’s Committees\, Treasurers\, and other congregational leaders are invited to join a virtual training in all things governance! Canon Gwynn Lynch (Canon to the Ordinary) will cover Vestry/BC basics and Canon Jeff Martinhauk (Chief Financial Officer and Treasurer) will cover Finances and Human Resources. This will be especially useful for new vestry/BC members\, and new treasurers. Register below. Questions? Contact Canon Gwynn for more information\, glynch@edsd.org.\nREGISTER
URL:https://edsd.org/event/congregational-governance-roundtable/
LOCATION:Zoom
ATTACH;FMTTYPE=image/jpeg:https://edsd.org/wp-content/uploads/2023/04/roundtable-e1702669712995.jpg
ORGANIZER;CN="Gwynn Lynch":MAILTO:glynch@edsd.org
END:VEVENT
BEGIN:VEVENT
DTSTART;TZID=America/Los_Angeles:20230323T110000
DTEND;TZID=America/Los_Angeles:20230323T140000
DTSTAMP:20260422T101132
CREATED:20230313T215725Z
LAST-MODIFIED:20230313T215725Z
UID:10010300-1679569200-1679580000@edsd.org
SUMMARY:Fresh Start
DESCRIPTION:Fresh Start\nDate: Thursday\,  March 23\, 2023\nTime: 11:00 am – 2:00 pm\nLocation: Christ the King\, Alpine\n\nRSVP Below\nRSVP
URL:https://edsd.org/event/fresh-start/
LOCATION:Christ the King Episcopal Church\, 1460 Midway Dr.\, Alpine\, CA\, 91901\, United States
CATEGORIES:Formation
ORGANIZER;CN="Gwynn Lynch":MAILTO:glynch@edsd.org
GEO:32.836963;-116.783478
X-APPLE-STRUCTURED-LOCATION;VALUE=URI;X-ADDRESS=Christ the King Episcopal Church 1460 Midway Dr. Alpine CA 91901 United States;X-APPLE-RADIUS=500;X-TITLE=1460 Midway Dr.:geo:-116.783478,32.836963
END:VEVENT
END:VCALENDAR