BEGIN:VCALENDAR
VERSION:2.0
PRODID:-//Episcopal Diocese of San Diego - ECPv6.15.18//NONSGML v1.0//EN
CALSCALE:GREGORIAN
METHOD:PUBLISH
X-ORIGINAL-URL:https://edsd.org
X-WR-CALDESC:Events for Episcopal Diocese of San Diego
REFRESH-INTERVAL;VALUE=DURATION:PT1H
X-Robots-Tag:noindex
X-PUBLISHED-TTL:PT1H
BEGIN:VTIMEZONE
TZID:America/Los_Angeles
BEGIN:DAYLIGHT
TZOFFSETFROM:-0800
TZOFFSETTO:-0700
TZNAME:PDT
DTSTART:20220313T100000
END:DAYLIGHT
BEGIN:STANDARD
TZOFFSETFROM:-0700
TZOFFSETTO:-0800
TZNAME:PST
DTSTART:20221106T090000
END:STANDARD
BEGIN:DAYLIGHT
TZOFFSETFROM:-0800
TZOFFSETTO:-0700
TZNAME:PDT
DTSTART:20230312T100000
END:DAYLIGHT
BEGIN:STANDARD
TZOFFSETFROM:-0700
TZOFFSETTO:-0800
TZNAME:PST
DTSTART:20231105T090000
END:STANDARD
BEGIN:DAYLIGHT
TZOFFSETFROM:-0800
TZOFFSETTO:-0700
TZNAME:PDT
DTSTART:20240310T100000
END:DAYLIGHT
BEGIN:STANDARD
TZOFFSETFROM:-0700
TZOFFSETTO:-0800
TZNAME:PST
DTSTART:20241103T090000
END:STANDARD
END:VTIMEZONE
BEGIN:VEVENT
DTSTART;TZID=America/Los_Angeles:20230126T190000
DTEND;TZID=America/Los_Angeles:20230126T203000
DTSTAMP:20260422T035318
CREATED:20230111T235136Z
LAST-MODIFIED:20230111T235136Z
UID:10010286-1674759600-1674765000@edsd.org
SUMMARY:Affordable Housing Forum
DESCRIPTION:Faith in Action is hosting this special event where you can: learn about housing history in Encinitas and how state law factors into local housing\, listen to stories of those impacted by housing affordability\, and leave knowing how you can make a difference. Join in this special event in person or via livestream. \nReserve you seat by registering below.\nREGISTER \n  \nQuestions? Please email encinitashousingforum@gmail.com.
URL:https://edsd.org/event/affordable-housing-forum/
LOCATION:St. Andrew’s\, Encinitas\, 890 Balour Dr\, Encinitas\, CA\, 92024\, United States
CATEGORIES:Outreach
ATTACH;FMTTYPE=image/png:https://edsd.org/wp-content/uploads/2023/01/Affordable-Housing.png
ORGANIZER;CN="Faith in Action":MAILTO:encinitashousingforum@gmail.com
GEO:33.0413449;-117.2687376
X-APPLE-STRUCTURED-LOCATION;VALUE=URI;X-ADDRESS=St. Andrew’s Encinitas 890 Balour Dr Encinitas CA 92024 United States;X-APPLE-RADIUS=500;X-TITLE=890 Balour Dr:geo:-117.2687376,33.0413449
END:VEVENT
END:VCALENDAR