BEGIN:VCALENDAR
VERSION:2.0
PRODID:-//Episcopal Diocese of San Diego - ECPv6.15.18//NONSGML v1.0//EN
CALSCALE:GREGORIAN
METHOD:PUBLISH
X-ORIGINAL-URL:https://edsd.org
X-WR-CALDESC:Events for Episcopal Diocese of San Diego
REFRESH-INTERVAL;VALUE=DURATION:PT1H
X-Robots-Tag:noindex
X-PUBLISHED-TTL:PT1H
BEGIN:VTIMEZONE
TZID:America/Los_Angeles
BEGIN:DAYLIGHT
TZOFFSETFROM:-0800
TZOFFSETTO:-0700
TZNAME:PDT
DTSTART:20210314T100000
END:DAYLIGHT
BEGIN:STANDARD
TZOFFSETFROM:-0700
TZOFFSETTO:-0800
TZNAME:PST
DTSTART:20211107T090000
END:STANDARD
BEGIN:DAYLIGHT
TZOFFSETFROM:-0800
TZOFFSETTO:-0700
TZNAME:PDT
DTSTART:20220313T100000
END:DAYLIGHT
BEGIN:STANDARD
TZOFFSETFROM:-0700
TZOFFSETTO:-0800
TZNAME:PST
DTSTART:20221106T090000
END:STANDARD
BEGIN:DAYLIGHT
TZOFFSETFROM:-0800
TZOFFSETTO:-0700
TZNAME:PDT
DTSTART:20230312T100000
END:DAYLIGHT
BEGIN:STANDARD
TZOFFSETFROM:-0700
TZOFFSETTO:-0800
TZNAME:PST
DTSTART:20231105T090000
END:STANDARD
BEGIN:DAYLIGHT
TZOFFSETFROM:-0800
TZOFFSETTO:-0700
TZNAME:PDT
DTSTART:20240310T100000
END:DAYLIGHT
BEGIN:STANDARD
TZOFFSETFROM:-0700
TZOFFSETTO:-0800
TZNAME:PST
DTSTART:20241103T090000
END:STANDARD
END:VTIMEZONE
BEGIN:VEVENT
DTSTART;TZID=America/Los_Angeles:20230126T183000
DTEND;TZID=America/Los_Angeles:20230126T200000
DTSTAMP:20260421T203619
CREATED:20221207T223516Z
LAST-MODIFIED:20230112T230018Z
UID:10010247-1674757800-1674763200@edsd.org
SUMMARY:CCC Roundtable - Thu.\, Jan 26\, 2023
DESCRIPTION:The EDSD Creation Care Community will hold two Roundtables with the same format. The first roundtable will be held Thursday\, Jan 26 from 6:30pm – 8pm. These events will offer a time to learn more about climate resilience in addition to many new ways to practice care for creation during this critical time of climate change as we network with members of our diocesan creation care community.\nRegister below.\nREGISTER \nClick here for information on second roundtable taking place Jan 29\, 2023.
URL:https://edsd.org/event/ccc-roundtable/
LOCATION:Zoom
ATTACH;FMTTYPE=image/png:https://edsd.org/wp-content/uploads/2022/12/Roundtable-Events-Cal-800-×-418-px.png
ORGANIZER;CN="Diane Lopez Hughes":MAILTO:dianelopezhughes@gmail.com
END:VEVENT
BEGIN:VEVENT
DTSTART;TZID=America/Los_Angeles:20220913T183000
DTEND;TZID=America/Los_Angeles:20220913T203000
DTSTAMP:20260421T203619
CREATED:20220829T222037Z
LAST-MODIFIED:20220901T183134Z
UID:10010212-1663093800-1663101000@edsd.org
SUMMARY:2040: Film and Discussion
DESCRIPTION:EDSD Creation Care Task Force All Soul’s\, Christ Church\, Good Sam’s\, St Bart’s\, St Marys in the Valley and St Paul’s will present the film followed by viewer discussion. \nWe hear so much about the dire state of the world and how climate change impacts God’s creation right now. This film takes us to solutions: what’s being done currently that generates hope. \nTo view the trailer\, https://whatsyour2040.com/ and scroll to the end of the site. \nReserve your spot by registering below.\nREGISTER
URL:https://edsd.org/event/2040-film-and-discussion/
LOCATION:Zoom
CATEGORIES:Formation
ATTACH;FMTTYPE=image/png:https://edsd.org/wp-content/uploads/2022/08/21_IMG_5529_3817.png
ORGANIZER;CN="Alyson Terry":MAILTO:aterry@edsd.org
END:VEVENT
END:VCALENDAR