BEGIN:VCALENDAR
VERSION:2.0
PRODID:-//Episcopal Diocese of San Diego - ECPv6.15.18//NONSGML v1.0//EN
CALSCALE:GREGORIAN
METHOD:PUBLISH
X-ORIGINAL-URL:https://edsd.org
X-WR-CALDESC:Events for Episcopal Diocese of San Diego
REFRESH-INTERVAL;VALUE=DURATION:PT1H
X-Robots-Tag:noindex
X-PUBLISHED-TTL:PT1H
BEGIN:VTIMEZONE
TZID:America/Los_Angeles
BEGIN:DAYLIGHT
TZOFFSETFROM:-0800
TZOFFSETTO:-0700
TZNAME:PDT
DTSTART:20210314T100000
END:DAYLIGHT
BEGIN:STANDARD
TZOFFSETFROM:-0700
TZOFFSETTO:-0800
TZNAME:PST
DTSTART:20211107T090000
END:STANDARD
BEGIN:DAYLIGHT
TZOFFSETFROM:-0800
TZOFFSETTO:-0700
TZNAME:PDT
DTSTART:20220313T100000
END:DAYLIGHT
BEGIN:STANDARD
TZOFFSETFROM:-0700
TZOFFSETTO:-0800
TZNAME:PST
DTSTART:20221106T090000
END:STANDARD
BEGIN:DAYLIGHT
TZOFFSETFROM:-0800
TZOFFSETTO:-0700
TZNAME:PDT
DTSTART:20230312T100000
END:DAYLIGHT
BEGIN:STANDARD
TZOFFSETFROM:-0700
TZOFFSETTO:-0800
TZNAME:PST
DTSTART:20231105T090000
END:STANDARD
BEGIN:DAYLIGHT
TZOFFSETFROM:-0800
TZOFFSETTO:-0700
TZNAME:PDT
DTSTART:20240310T100000
END:DAYLIGHT
BEGIN:STANDARD
TZOFFSETFROM:-0700
TZOFFSETTO:-0800
TZNAME:PST
DTSTART:20241103T090000
END:STANDARD
BEGIN:DAYLIGHT
TZOFFSETFROM:-0800
TZOFFSETTO:-0700
TZNAME:PDT
DTSTART:20250309T100000
END:DAYLIGHT
BEGIN:STANDARD
TZOFFSETFROM:-0700
TZOFFSETTO:-0800
TZNAME:PST
DTSTART:20251102T090000
END:STANDARD
BEGIN:DAYLIGHT
TZOFFSETFROM:-0800
TZOFFSETTO:-0700
TZNAME:PDT
DTSTART:20260308T100000
END:DAYLIGHT
BEGIN:STANDARD
TZOFFSETFROM:-0700
TZOFFSETTO:-0800
TZNAME:PST
DTSTART:20261101T090000
END:STANDARD
END:VTIMEZONE
BEGIN:VEVENT
DTSTART;TZID=America/Los_Angeles:20250330T160000
DTEND;TZID=America/Los_Angeles:20250330T173000
DTSTAMP:20260421T142944
CREATED:20250311T163948Z
LAST-MODIFIED:20250311T165423Z
UID:10010937-1743350400-1743355800@edsd.org
SUMMARY:Student Music Scholarship Concert
DESCRIPTION:For over a dozen years\, Trinity Church has hosted a benefit concert to support the American Guild of Organists Student Scholarship Fund. The concert donations help students\, young and old\, learn to play the “King of Instruments” and encourage them to consider becoming involved in church music. Auditions are held each May with the winners receiving receiving funds to help with music lessons. This is more important now than ever before as there are very few organists available to supply music for worship. \nThis year’s program will be “An Organ and Choir Exposition”…meaning that it will be both entertaining and educational. The organists will be performing works from Bach to the Beatles and from Durufle to Danny Boy\, with brief comments on how the composers actually use the organ. We hope to inspire interest in both the music and the King of Instruments. Organists performing include Michael Munson\, Howard McCullough\, Carol Graham\, Henry Doktorski\, Ronel Wishnuff and David Lewis. The 50 voice San Luis Rey Chorale will perform a section of the concert showcasing the many\, varied ways that the organ has been used as accompaniment. Choral works by Mendelssohn\, Durufle and Handel will be presented. Students will be invited to sit beside the organ console to have an “up close and personal” experience. The entire audience will be invited to sing along for the Hallelujah Chorus for a grand finale. Coffee and cookies will follow.\nThe suggested donation is just $10.00 at the door. No advance tickets needed. For more information call our organist\, David Lewis\, at 619-537-9040.  Trinity Episcopal Church is located at 845 Chestnut Street in Escondido.
URL:https://edsd.org/event/student-music-scholarship-concert/
LOCATION:Trinity Episcopal Church\, 845 Chestnut St\, Escondido\, CA\, 92025\, United States
CATEGORIES:Event
ORGANIZER;CN="David Lewis":MAILTO:directordavid@netaverse.net
GEO:33.1186692;-117.0701229
X-APPLE-STRUCTURED-LOCATION;VALUE=URI;X-ADDRESS=Trinity Episcopal Church 845 Chestnut St Escondido CA 92025 United States;X-APPLE-RADIUS=500;X-TITLE=845 Chestnut St:geo:-117.0701229,33.1186692
END:VEVENT
BEGIN:VEVENT
DTSTART;TZID=America/Los_Angeles:20221023T160000
DTEND;TZID=America/Los_Angeles:20221023T170000
DTSTAMP:20260421T142944
CREATED:20220901T215923Z
LAST-MODIFIED:20220901T222150Z
UID:10010255-1666540800-1666544400@edsd.org
SUMMARY:Organ Student Scholarship Concert
DESCRIPTION:The annual organ and choir concert sponsored by the American Guild of Organists will take place at Trinity\, Escondido on October 23rd at 4:00 p.m. Entitled “Hymn Fest” the music will all be based on hymn tunes. There is a suggested donation of $25.00 for the scholarship Fund and there is a wine and cheese reception following. Tickets at the door. \n 
URL:https://edsd.org/event/__trashed-2/
LOCATION:Trinity Episcopal Church\, 845 Chestnut St\, Escondido\, CA\, 92025\, United States
CATEGORIES:Event
ORGANIZER;CN="David Lewis":MAILTO:directordavid@netaverse.net
GEO:33.1186692;-117.0701229
X-APPLE-STRUCTURED-LOCATION;VALUE=URI;X-ADDRESS=Trinity Episcopal Church 845 Chestnut St Escondido CA 92025 United States;X-APPLE-RADIUS=500;X-TITLE=845 Chestnut St:geo:-117.0701229,33.1186692
END:VEVENT
END:VCALENDAR