BEGIN:VCALENDAR
VERSION:2.0
PRODID:-//Episcopal Diocese of San Diego - ECPv6.15.18//NONSGML v1.0//EN
CALSCALE:GREGORIAN
METHOD:PUBLISH
X-WR-CALNAME:Episcopal Diocese of San Diego
X-ORIGINAL-URL:https://edsd.org
X-WR-CALDESC:Events for Episcopal Diocese of San Diego
REFRESH-INTERVAL;VALUE=DURATION:PT1H
X-Robots-Tag:noindex
X-PUBLISHED-TTL:PT1H
BEGIN:VTIMEZONE
TZID:America/Los_Angeles
BEGIN:DAYLIGHT
TZOFFSETFROM:-0800
TZOFFSETTO:-0700
TZNAME:PDT
DTSTART:20170312T100000
END:DAYLIGHT
BEGIN:STANDARD
TZOFFSETFROM:-0700
TZOFFSETTO:-0800
TZNAME:PST
DTSTART:20171105T090000
END:STANDARD
BEGIN:DAYLIGHT
TZOFFSETFROM:-0800
TZOFFSETTO:-0700
TZNAME:PDT
DTSTART:20180311T100000
END:DAYLIGHT
BEGIN:STANDARD
TZOFFSETFROM:-0700
TZOFFSETTO:-0800
TZNAME:PST
DTSTART:20181104T090000
END:STANDARD
BEGIN:DAYLIGHT
TZOFFSETFROM:-0800
TZOFFSETTO:-0700
TZNAME:PDT
DTSTART:20190310T100000
END:DAYLIGHT
BEGIN:STANDARD
TZOFFSETFROM:-0700
TZOFFSETTO:-0800
TZNAME:PST
DTSTART:20191103T090000
END:STANDARD
END:VTIMEZONE
BEGIN:VEVENT
DTSTART;TZID=America/Los_Angeles:20180811T170000
DTEND;TZID=America/Los_Angeles:20180811T200000
DTSTAMP:20260423T093152
CREATED:20180720T174057Z
LAST-MODIFIED:20210730T073425Z
UID:10006437-1534006800-1534017600@edsd.org
SUMMARY:Ixtacapa Youth Fundraiser Dinner
DESCRIPTION:Please join the youth of our diocese for a delicious barbecue dinner and hear stories of their time in Guatemala this summer. Proceeds from the dinner will fund computers\, WiFi and a printer for the tutoring room in the Guatemalan village of Ixtacapa (pronounced eesh-ta-ca-pa). \n$25 for adults \n$10 for youth 17 and under \nRegister\n  \nDonate\n  \nPhotos from the Diocesan Youth Trip to Guatemala June 23 – 30\, 2018
URL:https://edsd.org/event/ixtacapa/
LOCATION:Good Samaritan Episcopal Church\, 4321 Eastgate Mall\, San Diego\, CA\, 92121\, United States
CATEGORIES:Communications,Event,Outreach,Youth
ATTACH;FMTTYPE=image/jpeg:https://edsd.org/wp-content/uploads/2018/07/ixtacapa2.jpg
GEO:32.877425;-117.213607
X-APPLE-STRUCTURED-LOCATION;VALUE=URI;X-ADDRESS=Good Samaritan Episcopal Church 4321 Eastgate Mall San Diego CA 92121 United States;X-APPLE-RADIUS=500;X-TITLE=4321 Eastgate Mall:geo:-117.213607,32.877425
END:VEVENT
BEGIN:VEVENT
DTSTART;VALUE=DATE:20180711
DTEND;VALUE=DATE:20180715
DTSTAMP:20260423T093152
CREATED:20180313T205556Z
LAST-MODIFIED:20210731T191614Z
UID:10006411-1531267200-1531612799@edsd.org
SUMMARY:Walking With Angels: Middle School Mission Trip
DESCRIPTION:an·gel\nˈānjəl/\nnoun \n1. a spiritual being believed to act as an attendant\, agent\, or messenger of God. \nLiving firsthand among the sights\, sounds\, smells\, and textures of urban life is an irreplaceable experience. Together we will learn about a city populated by the poor\, marginalized\, and too often invisible people. Our work will include food preparation\, food service\, clothing sorting\, meal distribution\, and more. We will be integrated into a variety of hands-on ministry opportunities to ensure that your time is spent supplying substantive help in Downtown Los Angeles. You will walk with angels. \nTour logistics are being coordinated with City Service Mission (CSM). CSM has been providing services in cities around the US for over 30 years. Their experience guarantees a comprehensive\, safe\, and productive short-term mission trip. \n  \n“He has shown you\, O mortal\, what is good.\nAnd what does the Lord require of you?\nTo act justly and to love mercy\nand to walk humbly with your God” \n– Micah 6:8 \n  \nSteps to Successful Event Registration \n\nComplete the waiver form below.\nRegister using the link below.\n\n  \nTa Dah! That’s it! You’re done! \n  \n\nWaiver Form\n[formidable id=57] \n  \n\nRegister\nIf you have questions about registration\, contact Keren Mondaca\, 619-481-5455.
URL:https://edsd.org/event/walking-with-angels-middle-school-mission-trip/
CATEGORIES:Communications,Event,Formation,Youth
ATTACH;FMTTYPE=image/jpeg:https://edsd.org/wp-content/uploads/2018/03/walking-with-angels.jpg
END:VEVENT
BEGIN:VEVENT
DTSTART;TZID=America/Los_Angeles:20180421T170000
DTEND;TZID=America/Los_Angeles:20180421T200000
DTSTAMP:20260423T093152
CREATED:20180213T211553Z
LAST-MODIFIED:20210730T225812Z
UID:10006270-1524330000-1524340800@edsd.org
SUMMARY:Around the World in 63 Days
DESCRIPTION:Help our diocesan youth raise funds for their mission trip to Guatemala while enjoying dinner\, dancing\, music and more! $50 per person (it’s a fundraiser)! \nPurchase Tickets
URL:https://edsd.org/event/around-the-world-in-63-days/
LOCATION:Christ Episcopal Church\, 1114 Ninth St.\, Coronado\, CA\, 92118\, United States
CATEGORIES:Communications,Event,Formation,Youth
ATTACH;FMTTYPE=image/png:https://edsd.org/wp-content/uploads/2018/02/Around-world.png
GEO:32.6868482;-117.178088
X-APPLE-STRUCTURED-LOCATION;VALUE=URI;X-ADDRESS=Christ Episcopal Church 1114 Ninth St. Coronado CA 92118 United States;X-APPLE-RADIUS=500;X-TITLE=1114 Ninth St.:geo:-117.178088,32.6868482
END:VEVENT
BEGIN:VEVENT
DTSTART;TZID=America/Los_Angeles:20180303T180000
DTEND;TZID=America/Los_Angeles:20180304T090000
DTSTAMP:20260423T093152
CREATED:20180207T211646Z
LAST-MODIFIED:20210731T103648Z
UID:10006373-1520100000-1520154000@edsd.org
SUMMARY:Night Watch 2018
DESCRIPTION:Transform: \na) to change in composition or structure; \nb) to change the outward form or appearance of; \nc) to change in character or condition: covert \nYouth Retreat at St. Paul’s Cathedral – Join youth from all over the diocese as they gather to take a transformational journey this Lent. Explore your faith\, how we worship in community\, and what it means to be transformed by prayer. The evening includes games\, food\, small group work\, worship\, laughter\, love\, friendship\, and an overnight in the cathedral. \nOpen to grades 6 –  12 \n\n  \n 
URL:https://edsd.org/event/night-watch-2018/
LOCATION:St. Paul’s Cathedral\, 2728 Sixth Ave\, San Diego\, CA\, 92103\, United States
CATEGORIES:Event,Youth
ATTACH;FMTTYPE=image/png:https://edsd.org/wp-content/uploads/2018/02/nightwatch-2018.png
GEO:32.7338658;-117.1598777
X-APPLE-STRUCTURED-LOCATION;VALUE=URI;X-ADDRESS=St. Paul’s Cathedral 2728 Sixth Ave San Diego CA 92103 United States;X-APPLE-RADIUS=500;X-TITLE=2728 Sixth Ave:geo:-117.1598777,32.7338658
END:VEVENT
END:VCALENDAR