BEGIN:VCALENDAR
VERSION:2.0
PRODID:-//Episcopal Diocese of San Diego - ECPv6.15.18//NONSGML v1.0//EN
CALSCALE:GREGORIAN
METHOD:PUBLISH
X-WR-CALNAME:Episcopal Diocese of San Diego
X-ORIGINAL-URL:https://edsd.org
X-WR-CALDESC:Events for Episcopal Diocese of San Diego
REFRESH-INTERVAL;VALUE=DURATION:PT1H
X-Robots-Tag:noindex
X-PUBLISHED-TTL:PT1H
BEGIN:VTIMEZONE
TZID:America/Los_Angeles
BEGIN:DAYLIGHT
TZOFFSETFROM:-0800
TZOFFSETTO:-0700
TZNAME:PDT
DTSTART:20170312T100000
END:DAYLIGHT
BEGIN:STANDARD
TZOFFSETFROM:-0700
TZOFFSETTO:-0800
TZNAME:PST
DTSTART:20171105T090000
END:STANDARD
BEGIN:DAYLIGHT
TZOFFSETFROM:-0800
TZOFFSETTO:-0700
TZNAME:PDT
DTSTART:20180311T100000
END:DAYLIGHT
BEGIN:STANDARD
TZOFFSETFROM:-0700
TZOFFSETTO:-0800
TZNAME:PST
DTSTART:20181104T090000
END:STANDARD
BEGIN:DAYLIGHT
TZOFFSETFROM:-0800
TZOFFSETTO:-0700
TZNAME:PDT
DTSTART:20190310T100000
END:DAYLIGHT
BEGIN:STANDARD
TZOFFSETFROM:-0700
TZOFFSETTO:-0800
TZNAME:PST
DTSTART:20191103T090000
END:STANDARD
END:VTIMEZONE
BEGIN:VEVENT
DTSTART;TZID=America/Los_Angeles:20180505T093000
DTEND;TZID=America/Los_Angeles:20180505T160000
DTSTAMP:20260422T101229
CREATED:20180419T184754Z
LAST-MODIFIED:20210730T105547Z
UID:10006290-1525512600-1525536000@edsd.org
SUMMARY:Safeguarding God's People Training
DESCRIPTION:Our diocese has an ongoing commitment to creating a safe haven for everyone\, our diocese trains people in the prevention of misconduct and encourages all to report misconduct. All reported incidences are taken seriously and investigated thoroughly and confidentially. \nThis required training teaches you what misconduct is\, how to prevent it and how to report it should something occur. This in-person training is a rare opportunity; we encourage you to send as many people as possible\, especially those who may not have a reliable internet connection. St. Philip’s\, Lemon Grove has graciously opened this to other churches in the area.  The trainers are the Rev. Tom Wilson and the Rev. Cathey Dowdle. \nThe $25 fee covers instructors\, materials\, refreshments and lunch. You may pay online or pay later with a check. Please make checks payable to “EDSD” and write “SGP Training” in the memo line. \nTo contact the church directly\, please email Jackie Hernandez\, office administrator\, 619-466-8055. \nThis training will be offered in English and Spanish. \nRegister Here \n  \nNuestra diócesis tiene un compromiso continuo para crear un refugio seguro para todos\, nuestra diócesis capacita a personas en la prevención de la mala conducta y anima a todos a denunciar malas conductas. Todas las incidencias reportadas se toman en serio\, se investigan exhaustivamente y confidencialmente. \nEn este entrenamiento requerido se aprende qué es la mala conducta\, cómo prevenirla y cómo reportarla en caso de que ocurra algo. Esta capacitación en persona es una oportunidad única; lo animamos a enviar a tantas personas como sea posible\, especialmente aquellos que no tienen una conexión de internet confiable. St. Philip’s\, Lemon Grove ha abierto esta oportunidad a otras iglesias en el área. Los entrenadores son el Rev. Tom Wilson y la Rev. Cathey Dowdle. \nLa precio de $ 25 cubre el costo de instructores\, materiales\, refrigerios y almuerzo. Puede pagar en línea hoy o después con un cheque. Favor de hacer los cheques a nombre de “EDSD” y escriba “SGP Training” en la línea de memo. \nPara comunicarse directamente con la iglesia\, envíe un correo electrónico a Jackie Hernández\, Administradora de la Oficina\, 619-466-8055. \nEsta capacitación se ofrecerá en inglés y español. \n  \nRegister Here
URL:https://edsd.org/event/sgp/
LOCATION:St. Philip’s\, Lemon Grove\, 2660 Hardy Drive\, Lemon Grove\, CA\, 91945\, United States
CATEGORIES:Communications,Event,Formation
ATTACH;FMTTYPE=image/png:https://edsd.org/wp-content/uploads/2017/07/sgp-header.png
ORGANIZER;CN="Chantai Bradford":MAILTO:cbradford@edsd.org
GEO:32.7340269;-117.0284882
X-APPLE-STRUCTURED-LOCATION;VALUE=URI;X-ADDRESS=St. Philip’s Lemon Grove 2660 Hardy Drive Lemon Grove CA 91945 United States;X-APPLE-RADIUS=500;X-TITLE=2660 Hardy Drive:geo:-117.0284882,32.7340269
END:VEVENT
END:VCALENDAR