BEGIN:VCALENDAR
VERSION:2.0
PRODID:-//Episcopal Diocese of San Diego - ECPv6.15.18//NONSGML v1.0//EN
CALSCALE:GREGORIAN
METHOD:PUBLISH
X-ORIGINAL-URL:https://edsd.org
X-WR-CALDESC:Events for Episcopal Diocese of San Diego
REFRESH-INTERVAL;VALUE=DURATION:PT1H
X-Robots-Tag:noindex
X-PUBLISHED-TTL:PT1H
BEGIN:VTIMEZONE
TZID:America/Los_Angeles
BEGIN:DAYLIGHT
TZOFFSETFROM:-0800
TZOFFSETTO:-0700
TZNAME:PDT
DTSTART:20210314T100000
END:DAYLIGHT
BEGIN:STANDARD
TZOFFSETFROM:-0700
TZOFFSETTO:-0800
TZNAME:PST
DTSTART:20211107T090000
END:STANDARD
BEGIN:DAYLIGHT
TZOFFSETFROM:-0800
TZOFFSETTO:-0700
TZNAME:PDT
DTSTART:20220313T100000
END:DAYLIGHT
BEGIN:STANDARD
TZOFFSETFROM:-0700
TZOFFSETTO:-0800
TZNAME:PST
DTSTART:20221106T090000
END:STANDARD
BEGIN:DAYLIGHT
TZOFFSETFROM:-0800
TZOFFSETTO:-0700
TZNAME:PDT
DTSTART:20230312T100000
END:DAYLIGHT
BEGIN:STANDARD
TZOFFSETFROM:-0700
TZOFFSETTO:-0800
TZNAME:PST
DTSTART:20231105T090000
END:STANDARD
BEGIN:DAYLIGHT
TZOFFSETFROM:-0800
TZOFFSETTO:-0700
TZNAME:PDT
DTSTART:20240310T100000
END:DAYLIGHT
BEGIN:STANDARD
TZOFFSETFROM:-0700
TZOFFSETTO:-0800
TZNAME:PST
DTSTART:20241103T090000
END:STANDARD
END:VTIMEZONE
BEGIN:VEVENT
DTSTART;TZID=America/Los_Angeles:20230320T090000
DTEND;TZID=America/Los_Angeles:20230320T140000
DTSTAMP:20260422T003327
CREATED:20230223T000914Z
LAST-MODIFIED:20230223T174225Z
UID:10010270-1679302800-1679320800@edsd.org
SUMMARY:Deacon's Annual Retreat 2023
DESCRIPTION:Deacons\, join us March 20\, 9AM-2PM for the 2023 Deacon’s Annual Retreat!  This retreat will be held in person and via zoom\, for those unable to travel\, at the Episcopal Church Center in the School for Ministry.  The retreat will be led by Lorenzo Lebrija\, Author of ‘How to Try’ and founder and director of TryTank.  Bishop Susan will join us as she is able.  As we continue this journey of building and renewing the diaconate\, we will look at the past\, present\, and ponder where and to what God might be calling us to in the  future.  Be prepared for a deeply spiritual and energizing retreat as we allow ourselves to imagine\, dream\, plan\, and move forward. \nPlease RSVP ahead of time by using the link below.\nPlease register no later than March 15\, 2023. \nRSVP \nQuestions? Please contact Archdeacon Cindy Campos ccampos@edsd.org. \n 
URL:https://edsd.org/event/deacons-annual-retreat-2023/
LOCATION:Episcopal Church Center
CATEGORIES:Formation
ATTACH;FMTTYPE=image/gif:https://edsd.org/wp-content/uploads/2022/06/Deacons-Retreat-2022.gif
ORGANIZER;CN="Archdeacon Cindy Campos":MAILTO:ccampos@edsd.org
GEO:32.747641;-117.2446928
END:VEVENT
BEGIN:VEVENT
DTSTART;TZID=America/Los_Angeles:20220926T103000
DTEND;TZID=America/Los_Angeles:20220926T143000
DTSTAMP:20260422T003327
CREATED:20220607T170520Z
LAST-MODIFIED:20220901T175140Z
UID:10006926-1664188200-1664202600@edsd.org
SUMMARY:Deacon's Annual Retreat - Dreaming Into Our Future
DESCRIPTION:What: Deacon’s Retreat – Dreaming Into Our Future\nWhen: Monday\, September 26 from 10:30 AM to 2:30 PM (just prior to Clergy Conference the same day)\nWhere: St Thomas of Canterbury Episcopal Church\, 44651 Avenida de Missiones\, Temecula\, 92592.\nQuestions: Please contact Archdeacon Cindy Campos\, ccampos@edsd.org OR 858-449-0964\n* Lunch will be provided \nPlease confirm your attendance below.\nREGISTER
URL:https://edsd.org/event/deacons-annual-retreat-2022/
LOCATION:St. Thomas of Canterbury\, 44651 Avenida de Missiones\, Temecula\, CA\, 92592\, United States
CATEGORIES:Event,Formation
ATTACH;FMTTYPE=image/gif:https://edsd.org/wp-content/uploads/2022/06/Deacons-Retreat-2022.gif
ORGANIZER;CN="Archdeacon Cindy Campos":MAILTO:ccampos@edsd.org
GEO:33.4752128;-117.1115165
X-APPLE-STRUCTURED-LOCATION;VALUE=URI;X-ADDRESS=St. Thomas of Canterbury 44651 Avenida de Missiones Temecula CA 92592 United States;X-APPLE-RADIUS=500;X-TITLE=44651 Avenida de Missiones:geo:-117.1115165,33.4752128
END:VEVENT
END:VCALENDAR