BEGIN:VCALENDAR
VERSION:2.0
PRODID:-//Episcopal Diocese of San Diego - ECPv6.15.18//NONSGML v1.0//EN
CALSCALE:GREGORIAN
METHOD:PUBLISH
X-WR-CALNAME:Episcopal Diocese of San Diego
X-ORIGINAL-URL:https://edsd.org
X-WR-CALDESC:Events for Episcopal Diocese of San Diego
REFRESH-INTERVAL;VALUE=DURATION:PT1H
X-Robots-Tag:noindex
X-PUBLISHED-TTL:PT1H
BEGIN:VTIMEZONE
TZID:America/Los_Angeles
BEGIN:DAYLIGHT
TZOFFSETFROM:-0800
TZOFFSETTO:-0700
TZNAME:PDT
DTSTART:20210314T100000
END:DAYLIGHT
BEGIN:STANDARD
TZOFFSETFROM:-0700
TZOFFSETTO:-0800
TZNAME:PST
DTSTART:20211107T090000
END:STANDARD
BEGIN:DAYLIGHT
TZOFFSETFROM:-0800
TZOFFSETTO:-0700
TZNAME:PDT
DTSTART:20220313T100000
END:DAYLIGHT
BEGIN:STANDARD
TZOFFSETFROM:-0700
TZOFFSETTO:-0800
TZNAME:PST
DTSTART:20221106T090000
END:STANDARD
BEGIN:DAYLIGHT
TZOFFSETFROM:-0800
TZOFFSETTO:-0700
TZNAME:PDT
DTSTART:20230312T100000
END:DAYLIGHT
BEGIN:STANDARD
TZOFFSETFROM:-0700
TZOFFSETTO:-0800
TZNAME:PST
DTSTART:20231105T090000
END:STANDARD
END:VTIMEZONE
BEGIN:VEVENT
DTSTART;TZID=America/Los_Angeles:20220907T183000
DTEND;TZID=America/Los_Angeles:20220907T200000
DTSTAMP:20260421T195900
CREATED:20220818T172301Z
LAST-MODIFIED:20220818T180526Z
UID:10010223-1662575400-1662580800@edsd.org
SUMMARY:The Creation Care Commission of the Episcopal Diocese of San Joaquin
DESCRIPTION:“This fragile earth\, our island home.”\nJoin us each Wednesday in September from 6:30 – 8:00 PM\nSeptember 7th\n“Inspiring Climate Action”\n(video presentation by Dr. Katharine Hayhoe)\nPresenter: Kim Leslie\nThis session opens with a March 2022 keynote address by Climate Scientist Dr. Katharine Hayhoe. Our discussion will include Katharine’s suggestions for what churches can do to reduce their carbon footprint\, as well as resource suggestions from the Creation Care Commission.\n(DioSanJoaquin.org/creationcare) \nSeptember 14th\n“Don’t Poison the Well”\nPresenters: Deacon Teri Van Huss\, Chuck Schaeffer\nWater conservation includes using less water\, as well as what we put into the water as it goes down the drain\, into the earth and our groundwater. We will discuss how to create chemical-free homes\, ways to use grey water\, and give an update on California’s efforts to regulate groundwater. \nSeptember 21th\n“Plastic pollution is worse than you think”\nPresenters: Presenters: Beryl Simkins\, Suzanne Harvey\nCalifornia just took a big step in leading the push to lessen the impact of plastics on people and the environment. Most of us know that plastic\, especially singe-use plastic is a problem; unfortunately\, recycling does little to reduce plastic pollution. \nSeptember 28th\n“Cover the Ground” & “Talking about Climate Change”\nPresenters: Xan Adams\, Deacon Teri Van Huss\nBare earth is naked\, hungry\, and running a fever. Mulches and compost create healthy soil and provide cover (shade) to keep water from evaporating quickly. We need to replace luscious green water soaked lawns in ways that are beautiful and still keep the ground covered. \nZoom Info Here \nClick HERE to download this flyer. \n 
URL:https://edsd.org/event/the-creation-care-commission-of-the-episcopal-diocese-of-san-joaquin/
LOCATION:Zoom
CATEGORIES:Formation,Outreach
ORGANIZER;CN="Anna Carmichael":MAILTO:canonanna@diosanjoaquin.org
END:VEVENT
END:VCALENDAR