BEGIN:VCALENDAR
VERSION:2.0
PRODID:-//Episcopal Diocese of San Diego - ECPv6.15.18//NONSGML v1.0//EN
CALSCALE:GREGORIAN
METHOD:PUBLISH
X-ORIGINAL-URL:https://edsd.org
X-WR-CALDESC:Events for Episcopal Diocese of San Diego
REFRESH-INTERVAL;VALUE=DURATION:PT1H
X-Robots-Tag:noindex
X-PUBLISHED-TTL:PT1H
BEGIN:VTIMEZONE
TZID:America/Los_Angeles
BEGIN:DAYLIGHT
TZOFFSETFROM:-0800
TZOFFSETTO:-0700
TZNAME:PDT
DTSTART:20170312T100000
END:DAYLIGHT
BEGIN:STANDARD
TZOFFSETFROM:-0700
TZOFFSETTO:-0800
TZNAME:PST
DTSTART:20171105T090000
END:STANDARD
BEGIN:DAYLIGHT
TZOFFSETFROM:-0800
TZOFFSETTO:-0700
TZNAME:PDT
DTSTART:20180311T100000
END:DAYLIGHT
BEGIN:STANDARD
TZOFFSETFROM:-0700
TZOFFSETTO:-0800
TZNAME:PST
DTSTART:20181104T090000
END:STANDARD
BEGIN:DAYLIGHT
TZOFFSETFROM:-0800
TZOFFSETTO:-0700
TZNAME:PDT
DTSTART:20190310T100000
END:DAYLIGHT
BEGIN:STANDARD
TZOFFSETFROM:-0700
TZOFFSETTO:-0800
TZNAME:PST
DTSTART:20191103T090000
END:STANDARD
END:VTIMEZONE
BEGIN:VEVENT
DTSTART;TZID=America/Los_Angeles:20180310T083000
DTEND;TZID=America/Los_Angeles:20180310T120000
DTSTAMP:20260421T222953
CREATED:20180208T192035Z
LAST-MODIFIED:20210731T041520Z
UID:10006265-1520670600-1520683200@edsd.org
SUMMARY:Eucharistic Visitor Training
DESCRIPTION:Learn the art and history of bringing the bread and wine made holy to the homebound. The Ven. Robert Nelson\, archdeacon\, will lead the training. \nSafeguarding God’s People is also required for all Eucharistic Visitors. You can take this online from the comfort of your own home. Contact Keren Mondaca with questions. \nHandouts and refreshments will be provided. \nRegister Here
URL:https://edsd.org/event/eucharistic-visitor-training/
LOCATION:St. Dunstan’s Episcopal Church\, 6556 Park Ridge Blvd.\, San Diego\, CA\, 92120\, United States
CATEGORIES:Event,Formation,Outreach
ATTACH;FMTTYPE=image/jpeg:https://edsd.org/wp-content/uploads/2016/06/bread-wine-2.jpg
ORGANIZER;CN="Alyson Terry":MAILTO:aterry@edsd.org
GEO:32.795771;-117.049964
X-APPLE-STRUCTURED-LOCATION;VALUE=URI;X-ADDRESS=St. Dunstan’s Episcopal Church 6556 Park Ridge Blvd. San Diego CA 92120 United States;X-APPLE-RADIUS=500;X-TITLE=6556 Park Ridge Blvd.:geo:-117.049964,32.795771
END:VEVENT
END:VCALENDAR