BEGIN:VCALENDAR
VERSION:2.0
PRODID:-//Episcopal Diocese of San Diego - ECPv6.15.18//NONSGML v1.0//EN
CALSCALE:GREGORIAN
METHOD:PUBLISH
X-ORIGINAL-URL:https://edsd.org
X-WR-CALDESC:Events for Episcopal Diocese of San Diego
REFRESH-INTERVAL;VALUE=DURATION:PT1H
X-Robots-Tag:noindex
X-PUBLISHED-TTL:PT1H
BEGIN:VTIMEZONE
TZID:America/Los_Angeles
BEGIN:DAYLIGHT
TZOFFSETFROM:-0800
TZOFFSETTO:-0700
TZNAME:PDT
DTSTART:20230312T100000
END:DAYLIGHT
BEGIN:STANDARD
TZOFFSETFROM:-0700
TZOFFSETTO:-0800
TZNAME:PST
DTSTART:20231105T090000
END:STANDARD
BEGIN:DAYLIGHT
TZOFFSETFROM:-0800
TZOFFSETTO:-0700
TZNAME:PDT
DTSTART:20240310T100000
END:DAYLIGHT
BEGIN:STANDARD
TZOFFSETFROM:-0700
TZOFFSETTO:-0800
TZNAME:PST
DTSTART:20241103T090000
END:STANDARD
BEGIN:DAYLIGHT
TZOFFSETFROM:-0800
TZOFFSETTO:-0700
TZNAME:PDT
DTSTART:20250309T100000
END:DAYLIGHT
BEGIN:STANDARD
TZOFFSETFROM:-0700
TZOFFSETTO:-0800
TZNAME:PST
DTSTART:20251102T090000
END:STANDARD
END:VTIMEZONE
BEGIN:VEVENT
DTSTART;TZID=America/Los_Angeles:20240924T180000
DTEND;TZID=America/Los_Angeles:20240924T200000
DTSTAMP:20260421T081517
CREATED:20240906T175932Z
LAST-MODIFIED:20240906T180007Z
UID:10010867-1727200800-1727208000@edsd.org
SUMMARY:La Misa in English Celebrating Hispanic Heritage Month
DESCRIPTION:All are invited to celebrate Hispanic Heritage Month at La Misa in English. Tuesday\, September 24th\, 6:00pm at St. John’s in Chula Vista.  Join us for a festive celebration of Hispanic culture\, with music\, dancing\, and a potluck dinner.\nContact our office at 619-422-4141 or info@saint-johns.org for more information
URL:https://edsd.org/event/la-misa-in-english-celebrating-hispanic-heritage-month/
LOCATION:St. John’s Episcopal Church\, Chula Vista\, 760 First St\, Chula Vista\, CA\, 91910\, United States
ATTACH;FMTTYPE=image/png:https://edsd.org/wp-content/uploads/2024/09/Hispanic-Heritage-La-Misa-small.png
ORGANIZER;CN="Maria Love":MAILTO:maria@saint-johns.org
GEO:32.627369;-117.0655744
X-APPLE-STRUCTURED-LOCATION;VALUE=URI;X-ADDRESS=St. John’s Episcopal Church Chula Vista 760 First St Chula Vista CA 91910 United States;X-APPLE-RADIUS=500;X-TITLE=760 First St:geo:-117.0655744,32.627369
END:VEVENT
END:VCALENDAR