BEGIN:VCALENDAR
VERSION:2.0
PRODID:-//Episcopal Diocese of San Diego - ECPv6.15.18//NONSGML v1.0//EN
CALSCALE:GREGORIAN
METHOD:PUBLISH
X-WR-CALNAME:Episcopal Diocese of San Diego
X-ORIGINAL-URL:https://edsd.org
X-WR-CALDESC:Events for Episcopal Diocese of San Diego
REFRESH-INTERVAL;VALUE=DURATION:PT1H
X-Robots-Tag:noindex
X-PUBLISHED-TTL:PT1H
BEGIN:VTIMEZONE
TZID:America/Los_Angeles
BEGIN:DAYLIGHT
TZOFFSETFROM:-0800
TZOFFSETTO:-0700
TZNAME:PDT
DTSTART:20240310T100000
END:DAYLIGHT
BEGIN:STANDARD
TZOFFSETFROM:-0700
TZOFFSETTO:-0800
TZNAME:PST
DTSTART:20241103T090000
END:STANDARD
BEGIN:DAYLIGHT
TZOFFSETFROM:-0800
TZOFFSETTO:-0700
TZNAME:PDT
DTSTART:20250309T100000
END:DAYLIGHT
BEGIN:STANDARD
TZOFFSETFROM:-0700
TZOFFSETTO:-0800
TZNAME:PST
DTSTART:20251102T090000
END:STANDARD
BEGIN:DAYLIGHT
TZOFFSETFROM:-0800
TZOFFSETTO:-0700
TZNAME:PDT
DTSTART:20260308T100000
END:DAYLIGHT
BEGIN:STANDARD
TZOFFSETFROM:-0700
TZOFFSETTO:-0800
TZNAME:PST
DTSTART:20261101T090000
END:STANDARD
END:VTIMEZONE
BEGIN:VEVENT
DTSTART;TZID=America/Los_Angeles:20250716T190000
DTEND;TZID=America/Los_Angeles:20250716T210000
DTSTAMP:20260424T010235
CREATED:20250701T201038Z
LAST-MODIFIED:20250701T201137Z
UID:10010963-1752692400-1752699600@edsd.org
SUMMARY:The Light Up the Cathedral
DESCRIPTION:The Light Up the Cathedral Service has its roots in outreach\, but it has become a beacon of hope\, love\, and interfaith inclusivity. This year\, you can join the LGBTQ+ community and faith leaders from throughout San Diego on July 16th at 7pm for Light Up the Cathedral and begin your Pride week in worship and love. \nTen years ago\, the newly arrived Dean Penny Bridges had a vision for the Cathedral community that was a unique approach for outreach to the LGBTQ community during Pride week in San Diego. The Pride Parade ends directly across the street from our church\, and the two-day festival takes place only two blocks away. Dean Penny believed lighting the Cathedral edifice in rainbow colors would make a statement to the thousands of people who pass by our location during the week. \nNo RSVP necessary.  Please arrive early as this event reaches capacity.
URL:https://edsd.org/event/lightupthecathedral2025/
LOCATION:St. Paul’s Cathedral\, 2728 Sixth Ave\, San Diego\, CA\, 92103\, United States
CATEGORIES:Event,Outreach
ATTACH;FMTTYPE=image/jpeg:https://edsd.org/wp-content/uploads/2025/06/53866332498_b810036406_c.jpg
GEO:32.7338658;-117.1598777
X-APPLE-STRUCTURED-LOCATION;VALUE=URI;X-ADDRESS=St. Paul’s Cathedral 2728 Sixth Ave San Diego CA 92103 United States;X-APPLE-RADIUS=500;X-TITLE=2728 Sixth Ave:geo:-117.1598777,32.7338658
END:VEVENT
END:VCALENDAR