BEGIN:VCALENDAR
VERSION:2.0
PRODID:-//Episcopal Diocese of San Diego - ECPv6.15.18//NONSGML v1.0//EN
CALSCALE:GREGORIAN
METHOD:PUBLISH
X-ORIGINAL-URL:https://edsd.org
X-WR-CALDESC:Events for Episcopal Diocese of San Diego
REFRESH-INTERVAL;VALUE=DURATION:PT1H
X-Robots-Tag:noindex
X-PUBLISHED-TTL:PT1H
BEGIN:VTIMEZONE
TZID:America/Los_Angeles
BEGIN:DAYLIGHT
TZOFFSETFROM:-0800
TZOFFSETTO:-0700
TZNAME:PDT
DTSTART:20240310T100000
END:DAYLIGHT
BEGIN:STANDARD
TZOFFSETFROM:-0700
TZOFFSETTO:-0800
TZNAME:PST
DTSTART:20241103T090000
END:STANDARD
BEGIN:DAYLIGHT
TZOFFSETFROM:-0800
TZOFFSETTO:-0700
TZNAME:PDT
DTSTART:20250309T100000
END:DAYLIGHT
BEGIN:STANDARD
TZOFFSETFROM:-0700
TZOFFSETTO:-0800
TZNAME:PST
DTSTART:20251102T090000
END:STANDARD
BEGIN:DAYLIGHT
TZOFFSETFROM:-0800
TZOFFSETTO:-0700
TZNAME:PDT
DTSTART:20260308T100000
END:DAYLIGHT
BEGIN:STANDARD
TZOFFSETFROM:-0700
TZOFFSETTO:-0800
TZNAME:PST
DTSTART:20261101T090000
END:STANDARD
END:VTIMEZONE
BEGIN:VEVENT
DTSTART;TZID=America/Los_Angeles:20250715T080000
DTEND;TZID=America/Los_Angeles:20250715T170000
DTSTAMP:20260423T231013
CREATED:20240405T174244Z
LAST-MODIFIED:20240405T174244Z
UID:10010492-1752566400-1752598800@edsd.org
SUMMARY:Gun Safety Work Group April Meeting
DESCRIPTION:Monthly meeting of the EDSD Gun Safety Working Group. The group will discuss ongoing advocacy and outreach activities\, and progress with development of gun safety plans in the Diocese. New members are welcome to attend. Please contact Paul Conry for more information\, paul.j.conry@gmail.com.
URL:https://edsd.org/event/gun-safety-work-group-april-meeting/2025-07-15/
LOCATION:Zoom
CATEGORIES:Outreach
ORGANIZER;CN="Paul Conry":MAILTO:paul.j.conry@gmail.com
END:VEVENT
BEGIN:VEVENT
DTSTART;TZID=America/Los_Angeles:20250716T190000
DTEND;TZID=America/Los_Angeles:20250716T210000
DTSTAMP:20260423T231013
CREATED:20250701T201038Z
LAST-MODIFIED:20250701T201137Z
UID:10010963-1752692400-1752699600@edsd.org
SUMMARY:The Light Up the Cathedral
DESCRIPTION:The Light Up the Cathedral Service has its roots in outreach\, but it has become a beacon of hope\, love\, and interfaith inclusivity. This year\, you can join the LGBTQ+ community and faith leaders from throughout San Diego on July 16th at 7pm for Light Up the Cathedral and begin your Pride week in worship and love. \nTen years ago\, the newly arrived Dean Penny Bridges had a vision for the Cathedral community that was a unique approach for outreach to the LGBTQ community during Pride week in San Diego. The Pride Parade ends directly across the street from our church\, and the two-day festival takes place only two blocks away. Dean Penny believed lighting the Cathedral edifice in rainbow colors would make a statement to the thousands of people who pass by our location during the week. \nNo RSVP necessary.  Please arrive early as this event reaches capacity.
URL:https://edsd.org/event/lightupthecathedral2025/
LOCATION:St. Paul’s Cathedral\, 2728 Sixth Ave\, San Diego\, CA\, 92103\, United States
CATEGORIES:Event,Outreach
ATTACH;FMTTYPE=image/jpeg:https://edsd.org/wp-content/uploads/2025/06/53866332498_b810036406_c.jpg
GEO:32.7338658;-117.1598777
X-APPLE-STRUCTURED-LOCATION;VALUE=URI;X-ADDRESS=St. Paul’s Cathedral 2728 Sixth Ave San Diego CA 92103 United States;X-APPLE-RADIUS=500;X-TITLE=2728 Sixth Ave:geo:-117.1598777,32.7338658
END:VEVENT
BEGIN:VEVENT
DTSTART;TZID=America/Los_Angeles:20250719T080000
DTEND;TZID=America/Los_Angeles:20250719T120000
DTSTAMP:20260423T231013
CREATED:20250701T201409Z
LAST-MODIFIED:20250716T182957Z
UID:10010964-1752912000-1752926400@edsd.org
SUMMARY:SD Pride Parade
DESCRIPTION:Join St. Paul’s Episcopal Cathedral and Episcopalians from across the Diocese of San Diego in the San Diego Pride Parade on Saturday\, July 19\, 2025! This annual event is a vibrant\, joyful witness to God’s inclusive love for all people\, especially our LGBTQIA+ siblings. \nWe’ll gather at St. Paul’s Cathedral (2728 Sixth Ave) at 8:00 a.m. to walk together to the parade staging area in Hillcrest. Once there\, we’ll celebrate Holy Eucharist in the heart of the city—surrounded by thousands preparing to march. It’s a moving and powerful moment of public worship and joyful community. \nFollowing the service\, we’ll join the parade along the 1.5-mile route\, walking\, singing\, and celebrating the diversity and love that defines both our faith and this event. \nFor those with mobility concerns\, St. Paul’s provides a trolley each year to ensure everyone can participate fully. Space is limited\, so if you’d like to reserve a seat on the trolley\, please contact Susan Jester at jesters@stpaulcathedral.org as soon as possible. \nAll are welcome—clergy\, laypeople\, friends\, families\, and allies. Wear your brightest colors\, bring water and sunscreen\, and come ready to share the Good News: The Episcopal Church welcomes you—no exceptions. \nThis is more than a parade. It’s an act of faith\, a celebration of love\, and a chance to stand together in courageous solidarity. We hope you’ll join us. \nLet’s walk in Pride—together. \n** Please Note: Our starting location can be found at PINK #40. Please be aware of street closures and increased traffic in the area. Click HERE for 2025 Staging Map for this year’s Pride Parade
URL:https://edsd.org/event/sd-pride-parade2025/
LOCATION:St. Paul’s Cathedral\, 2728 Sixth Ave\, San Diego\, CA\, 92103\, United States
CATEGORIES:Event,Outreach
ATTACH;FMTTYPE=image/jpeg:https://edsd.org/wp-content/uploads/2025/07/53872668704_f9285e1344_k.jpg
GEO:32.7338658;-117.1598777
X-APPLE-STRUCTURED-LOCATION;VALUE=URI;X-ADDRESS=St. Paul’s Cathedral 2728 Sixth Ave San Diego CA 92103 United States;X-APPLE-RADIUS=500;X-TITLE=2728 Sixth Ave:geo:-117.1598777,32.7338658
END:VEVENT
END:VCALENDAR